BEGIN:VCALENDAR
PRODID:-//nuDatenautomaten//framework iCal4j //DE
VERSION:2.0
CALSCALE:GREGORIAN
BEGIN:VTIMEZONE
TZID:Europe/Berlin
LAST-MODIFIED:20260306T231828Z
TZURL:https://www.tzurl.org/zoneinfo/Europe/Berlin
X-LIC-LOCATION:Europe/Berlin
X-PROLEPTIC-TZNAME:LMT
BEGIN:STANDARD
TZNAME:CET
TZOFFSETFROM:+005328
TZOFFSETTO:+0100
DTSTART:18930401T000000
END:STANDARD
BEGIN:DAYLIGHT
TZNAME:CEST
TZOFFSETFROM:+0100
TZOFFSETTO:+0200
DTSTART:19160430T230000
RDATE:19400401T020000
RDATE:19430329T020000
RDATE:19460414T020000
RDATE:19470406T030000
RDATE:19480418T020000
RDATE:19490410T020000
RDATE:19800406T020000
END:DAYLIGHT
BEGIN:STANDARD
TZNAME:CET
TZOFFSETFROM:+0200
TZOFFSETTO:+0100
DTSTART:19161001T010000
RDATE:19421102T030000
RDATE:19431004T030000
RDATE:19441002T030000
RDATE:19451118T030000
RDATE:19461007T030000
END:STANDARD
BEGIN:DAYLIGHT
TZNAME:CEST
TZOFFSETFROM:+0100
TZOFFSETTO:+0200
DTSTART:19170416T020000
RRULE:FREQ=YEARLY;UNTIL=19180415T010000Z;BYMONTH=4;BYDAY=3MO
END:DAYLIGHT
BEGIN:STANDARD
TZNAME:CET
TZOFFSETFROM:+0200
TZOFFSETTO:+0100
DTSTART:19170917T030000
RRULE:FREQ=YEARLY;UNTIL=19180916T010000Z;BYMONTH=9;BYDAY=3MO
END:STANDARD
BEGIN:DAYLIGHT
TZNAME:CEST
TZOFFSETFROM:+0100
TZOFFSETTO:+0200
DTSTART:19440403T020000
RRULE:FREQ=YEARLY;UNTIL=19450402T010000Z;BYMONTH=4;BYDAY=1MO
END:DAYLIGHT
BEGIN:DAYLIGHT
TZNAME:CEMT
TZOFFSETFROM:+0200
TZOFFSETTO:+0300
DTSTART:19450524T020000
RDATE:19470511T030000
END:DAYLIGHT
BEGIN:DAYLIGHT
TZNAME:CEST
TZOFFSETFROM:+0300
TZOFFSETTO:+0200
DTSTART:19450924T030000
RDATE:19470629T030000
END:DAYLIGHT
BEGIN:STANDARD
TZNAME:CET
TZOFFSETFROM:+0100
TZOFFSETTO:+0100
DTSTART:19460101T000000
RDATE:19800101T000000
END:STANDARD
BEGIN:STANDARD
TZNAME:CET
TZOFFSETFROM:+0200
TZOFFSETTO:+0100
DTSTART:19471005T030000
RRULE:FREQ=YEARLY;UNTIL=19491002T010000Z;BYMONTH=10;BYDAY=1SU
END:STANDARD
BEGIN:STANDARD
TZNAME:CET
TZOFFSETFROM:+0200
TZOFFSETTO:+0100
DTSTART:19800928T030000
RRULE:FREQ=YEARLY;UNTIL=19950924T010000Z;BYMONTH=9;BYDAY=-1SU
END:STANDARD
BEGIN:DAYLIGHT
TZNAME:CEST
TZOFFSETFROM:+0100
TZOFFSETTO:+0200
DTSTART:19810329T020000
RRULE:FREQ=YEARLY;BYMONTH=3;BYDAY=-1SU
END:DAYLIGHT
BEGIN:STANDARD
TZNAME:CET
TZOFFSETFROM:+0200
TZOFFSETTO:+0100
DTSTART:19961027T030000
RRULE:FREQ=YEARLY;BYMONTH=10;BYDAY=-1SU
END:STANDARD
END:VTIMEZONE
BEGIN:VEVENT
DTSTAMP:20260424T084018Z
DTSTART;TZID=Europe/Berlin:20260131T120000
DTEND;TZID=Europe/Berlin:20260131T150000
SUMMARY:Groupe ANJTT 1 La Chaux-de-Fonds II vs La Chaux-de-Fonds V (6)
UID:a4724ced-0161-48a9-96ae-14be717a68a1
STATUS:CONFIRMED
LAST-MODIFIED:20260212T104437Z
DESCRIPTION:ANJTT\nBegegnungs-Nr: 6\nHeim: La Chaux-de-Fonds II\nGast: La Chaux-de-Fonds V\n
LOCATION:
CATEGORIES:Saison Suisse Junior Challenge 2025/26
END:VEVENT
BEGIN:VEVENT
DTSTAMP:20260424T084018Z
DTSTART;TZID=Europe/Berlin:20260131T110000
DTEND;TZID=Europe/Berlin:20260131T140000
SUMMARY:Groupe ANJTT 1 La Chaux-de-Fonds II vs La Chaux-de-Fonds III (3)
UID:85706ebf-ca43-40ec-98ff-33fb2e6d3284
STATUS:CONFIRMED
LAST-MODIFIED:20260212T103124Z
DESCRIPTION:ANJTT\nBegegnungs-Nr: 3\nHeim: La Chaux-de-Fonds II\nGast: La Chaux-de-Fonds III\n
LOCATION:
CATEGORIES:Saison Suisse Junior Challenge 2025/26
END:VEVENT
BEGIN:VEVENT
DTSTAMP:20260424T084018Z
DTSTART;TZID=Europe/Berlin:20260207T140000
DTEND;TZID=Europe/Berlin:20260207T170000
SUMMARY:Groupe ANJTT 1 La Chaux-de-Fonds II vs La Chaux-de-Fonds (10)
UID:23e2b91f-6520-48a1-9f8d-6068e6edc6ba
STATUS:CONFIRMED
LAST-MODIFIED:20260314T093450Z
DESCRIPTION:ANJTT\nBegegnungs-Nr: 10\nHeim: La Chaux-de-Fonds II\nGast: La Chaux-de-Fonds\n
LOCATION:
CATEGORIES:Saison Suisse Junior Challenge 2025/26
END:VEVENT
BEGIN:VEVENT
DTSTAMP:20260424T084018Z
DTSTART;TZID=Europe/Berlin:20260207T100000
DTEND;TZID=Europe/Berlin:20260207T130000
SUMMARY:Groupe ANJTT 1 La Chaux-de-Fonds II vs La Chaux-de-Fonds IV (1)
UID:68888981-72c0-4e26-82d0-6516c9adf2b8
STATUS:CONFIRMED
LAST-MODIFIED:20260314T124121Z
DESCRIPTION:ANJTT\nBegegnungs-Nr: 1\nHeim: La Chaux-de-Fonds II\nGast: La Chaux-de-Fonds IV\n
LOCATION:
CATEGORIES:Saison Suisse Junior Challenge 2025/26
END:VEVENT
BEGIN:VEVENT
DTSTAMP:20260424T084018Z
DTSTART;TZID=Europe/Berlin:20260131T140000
DTEND;TZID=Europe/Berlin:20260131T170000
SUMMARY:Groupe ANJTT 1 La Chaux-de-Fonds vs La Chaux-de-Fonds II (10)
UID:0ea25e3d-4fa1-4a29-9742-e002c13d7ef7
STATUS:CONFIRMED
LAST-MODIFIED:20260212T104249Z
DESCRIPTION:ANJTT\nBegegnungs-Nr: 10\nHeim: La Chaux-de-Fonds\nGast: La Chaux-de-Fonds II\n
LOCATION:
CATEGORIES:Saison Suisse Junior Challenge 2025/26
END:VEVENT
BEGIN:VEVENT
DTSTAMP:20260424T084018Z
DTSTART;TZID=Europe/Berlin:20260131T100000
DTEND;TZID=Europe/Berlin:20260131T130000
SUMMARY:Groupe ANJTT 1 La Chaux-de-Fonds IV vs La Chaux-de-Fonds II (1)
UID:b7011798-0912-4574-9c3c-037d17365110
STATUS:CONFIRMED
LAST-MODIFIED:20260212T102721Z
DESCRIPTION:ANJTT\nBegegnungs-Nr: 1\nHeim: La Chaux-de-Fonds IV\nGast: La Chaux-de-Fonds II\n
LOCATION:
CATEGORIES:Saison Suisse Junior Challenge 2025/26
END:VEVENT
BEGIN:VEVENT
DTSTAMP:20260424T084018Z
DTSTART;TZID=Europe/Berlin:20260207T120000
DTEND;TZID=Europe/Berlin:20260207T150000
SUMMARY:Groupe ANJTT 1 La Chaux-de-Fonds V vs La Chaux-de-Fonds II (6)
UID:d98038b9-ae65-4019-871d-72f5a5a11daa
STATUS:CONFIRMED
LAST-MODIFIED:20260314T092809Z
DESCRIPTION:ANJTT\nBegegnungs-Nr: 6\nHeim: La Chaux-de-Fonds V\nGast: La Chaux-de-Fonds II\n
LOCATION:
CATEGORIES:Saison Suisse Junior Challenge 2025/26
END:VEVENT
BEGIN:VEVENT
DTSTAMP:20260424T084018Z
DTSTART;TZID=Europe/Berlin:20260207T110000
DTEND;TZID=Europe/Berlin:20260207T140000
SUMMARY:Groupe ANJTT 1 La Chaux-de-Fonds III vs La Chaux-de-Fonds II (3)
UID:0b5d1ddb-d2b1-4964-ac2f-454e56d66339
STATUS:CONFIRMED
LAST-MODIFIED:20260314T130528Z
DESCRIPTION:ANJTT\nBegegnungs-Nr: 3\nHeim: La Chaux-de-Fonds III\nGast: La Chaux-de-Fonds II\n
LOCATION:
CATEGORIES:Saison Suisse Junior Challenge 2025/26
END:VEVENT
END:VCALENDAR
