BEGIN:VCALENDAR
PRODID:-//nuDatenautomaten//framework iCal4j //DE
VERSION:2.0
CALSCALE:GREGORIAN
BEGIN:VTIMEZONE
TZID:Europe/Berlin
LAST-MODIFIED:20260306T231828Z
TZURL:https://www.tzurl.org/zoneinfo/Europe/Berlin
X-LIC-LOCATION:Europe/Berlin
X-PROLEPTIC-TZNAME:LMT
BEGIN:STANDARD
TZNAME:CET
TZOFFSETFROM:+005328
TZOFFSETTO:+0100
DTSTART:18930401T000000
END:STANDARD
BEGIN:DAYLIGHT
TZNAME:CEST
TZOFFSETFROM:+0100
TZOFFSETTO:+0200
DTSTART:19160430T230000
RDATE:19400401T020000
RDATE:19430329T020000
RDATE:19460414T020000
RDATE:19470406T030000
RDATE:19480418T020000
RDATE:19490410T020000
RDATE:19800406T020000
END:DAYLIGHT
BEGIN:STANDARD
TZNAME:CET
TZOFFSETFROM:+0200
TZOFFSETTO:+0100
DTSTART:19161001T010000
RDATE:19421102T030000
RDATE:19431004T030000
RDATE:19441002T030000
RDATE:19451118T030000
RDATE:19461007T030000
END:STANDARD
BEGIN:DAYLIGHT
TZNAME:CEST
TZOFFSETFROM:+0100
TZOFFSETTO:+0200
DTSTART:19170416T020000
RRULE:FREQ=YEARLY;UNTIL=19180415T010000Z;BYMONTH=4;BYDAY=3MO
END:DAYLIGHT
BEGIN:STANDARD
TZNAME:CET
TZOFFSETFROM:+0200
TZOFFSETTO:+0100
DTSTART:19170917T030000
RRULE:FREQ=YEARLY;UNTIL=19180916T010000Z;BYMONTH=9;BYDAY=3MO
END:STANDARD
BEGIN:DAYLIGHT
TZNAME:CEST
TZOFFSETFROM:+0100
TZOFFSETTO:+0200
DTSTART:19440403T020000
RRULE:FREQ=YEARLY;UNTIL=19450402T010000Z;BYMONTH=4;BYDAY=1MO
END:DAYLIGHT
BEGIN:DAYLIGHT
TZNAME:CEMT
TZOFFSETFROM:+0200
TZOFFSETTO:+0300
DTSTART:19450524T020000
RDATE:19470511T030000
END:DAYLIGHT
BEGIN:DAYLIGHT
TZNAME:CEST
TZOFFSETFROM:+0300
TZOFFSETTO:+0200
DTSTART:19450924T030000
RDATE:19470629T030000
END:DAYLIGHT
BEGIN:STANDARD
TZNAME:CET
TZOFFSETFROM:+0100
TZOFFSETTO:+0100
DTSTART:19460101T000000
RDATE:19800101T000000
END:STANDARD
BEGIN:STANDARD
TZNAME:CET
TZOFFSETFROM:+0200
TZOFFSETTO:+0100
DTSTART:19471005T030000
RRULE:FREQ=YEARLY;UNTIL=19491002T010000Z;BYMONTH=10;BYDAY=1SU
END:STANDARD
BEGIN:STANDARD
TZNAME:CET
TZOFFSETFROM:+0200
TZOFFSETTO:+0100
DTSTART:19800928T030000
RRULE:FREQ=YEARLY;UNTIL=19950924T010000Z;BYMONTH=9;BYDAY=-1SU
END:STANDARD
BEGIN:DAYLIGHT
TZNAME:CEST
TZOFFSETFROM:+0100
TZOFFSETTO:+0200
DTSTART:19810329T020000
RRULE:FREQ=YEARLY;BYMONTH=3;BYDAY=-1SU
END:DAYLIGHT
BEGIN:STANDARD
TZNAME:CET
TZOFFSETFROM:+0200
TZOFFSETTO:+0100
DTSTART:19961027T030000
RRULE:FREQ=YEARLY;BYMONTH=10;BYDAY=-1SU
END:STANDARD
END:VTIMEZONE
BEGIN:VEVENT
DTSTAMP:20260424T044415Z
DTSTART;TZID=Europe/Berlin:20260307T160000
DTEND;TZID=Europe/Berlin:20260307T190000
SUMMARY:SJC MTTV Gr. 1 Heimberg vs Steffisburg (9)
UID:85da29b2-3ed5-4fda-ada5-e9067301f09d
STATUS:CONFIRMED
LAST-MODIFIED:20260308T173102Z
DESCRIPTION:Suisse Junior Challenge MTTV Gruppe 1\nBegegnungs-Nr: 9\nHeim: Heimberg\nGast: Steffisburg\n
LOCATION:
CATEGORIES:Saison Suisse Junior Challenge 2025/26
END:VEVENT
BEGIN:VEVENT
DTSTAMP:20260424T044415Z
DTSTART;TZID=Europe/Berlin:20260307T150000
DTEND;TZID=Europe/Berlin:20260307T180000
SUMMARY:SJC MTTV Gr. 1 Heimberg vs Schwarzenburg (3)
UID:83ca5874-7d13-4f57-84c4-335773f5cb33
STATUS:CONFIRMED
LAST-MODIFIED:20260308T173045Z
DESCRIPTION:Suisse Junior Challenge MTTV Gruppe 1\nBegegnungs-Nr: 3\nHeim: Heimberg\nGast: Schwarzenburg\n
LOCATION:
CATEGORIES:Saison Suisse Junior Challenge 2025/26
END:VEVENT
BEGIN:VEVENT
DTSTAMP:20260424T044415Z
DTSTART;TZID=Europe/Berlin:20251204T184500
DTEND;TZID=Europe/Berlin:20251204T214500
SUMMARY:SJC MTTV Gr. 1 Heimberg vs Heimberg II (2)
UID:4509d726-c72d-46db-80b3-f4e832f81a56
STATUS:CONFIRMED
LAST-MODIFIED:20251211T104216Z
DESCRIPTION:Suisse Junior Challenge MTTV Gruppe 1\nBegegnungs-Nr: 2\nHeim: Heimberg\nGast: Heimberg II\n\nAdresse: Niesenstrasse 38\, 3627 Heimberg\n
LOCATION:Niesenstrasse 38\, 3627 Heimberg
CATEGORIES:Saison Suisse Junior Challenge 2025/26
END:VEVENT
BEGIN:VEVENT
DTSTAMP:20260424T044415Z
DTSTART;TZID=Europe/Berlin:20260117T140000
DTEND;TZID=Europe/Berlin:20260117T170000
SUMMARY:SJC MTTV Gr. 1 Heimberg vs Thun (5)
UID:761e7270-3975-4945-be46-28ffa78c9079
STATUS:CONFIRMED
LAST-MODIFIED:20260223T133526Z
DESCRIPTION:Suisse Junior Challenge MTTV Gruppe 1\nBegegnungs-Nr: 5\nHeim: Heimberg\nGast: Thun\n
LOCATION:
CATEGORIES:Saison Suisse Junior Challenge 2025/26
END:VEVENT
BEGIN:VEVENT
DTSTAMP:20260424T044415Z
DTSTART;TZID=Europe/Berlin:20260305T184500
DTEND;TZID=Europe/Berlin:20260305T214500
SUMMARY:SJC MTTV Gr. 1 Heimberg II vs Heimberg (1)
UID:6fb7da5e-5799-4ec7-b18c-b43f74d945f3
STATUS:CONFIRMED
LAST-MODIFIED:20260308T105816Z
DESCRIPTION:Suisse Junior Challenge MTTV Gruppe 1\nBegegnungs-Nr: 1\nHeim: Heimberg II\nGast: Heimberg\n\nAdresse: Niesenstrasse 38\, 3627 Heimberg\n
LOCATION:Niesenstrasse 38\, 3627 Heimberg
CATEGORIES:Saison Suisse Junior Challenge 2025/26
END:VEVENT
BEGIN:VEVENT
DTSTAMP:20260424T044415Z
DTSTART;TZID=Europe/Berlin:20260307T140000
DTEND;TZID=Europe/Berlin:20260307T170000
SUMMARY:SJC MTTV Gr. 1 Thun vs Heimberg (5)
UID:d82e217c-0091-4751-9128-e19ca886aa00
STATUS:CONFIRMED
LAST-MODIFIED:20260326T173030Z
DESCRIPTION:Suisse Junior Challenge MTTV Gruppe 1\nBegegnungs-Nr: 5\nHeim: Thun\nGast: Heimberg\n
LOCATION:
CATEGORIES:Saison Suisse Junior Challenge 2025/26
END:VEVENT
BEGIN:VEVENT
DTSTAMP:20260424T044415Z
DTSTART;TZID=Europe/Berlin:20260117T150000
DTEND;TZID=Europe/Berlin:20260117T180000
SUMMARY:SJC MTTV Gr. 1 Steffisburg vs Heimberg (7)
UID:bba6bdeb-be0e-4bc4-a0b5-52f7668e2a38
STATUS:CONFIRMED
LAST-MODIFIED:20260223T133542Z
DESCRIPTION:Suisse Junior Challenge MTTV Gruppe 1\nBegegnungs-Nr: 7\nHeim: Steffisburg\nGast: Heimberg\n
LOCATION:
CATEGORIES:Saison Suisse Junior Challenge 2025/26
END:VEVENT
BEGIN:VEVENT
DTSTAMP:20260424T044415Z
DTSTART;TZID=Europe/Berlin:20260117T130000
DTEND;TZID=Europe/Berlin:20260117T160000
SUMMARY:SJC MTTV Gr. 1 Schwarzenburg vs Heimberg (3)
UID:b1cbc784-28bc-4605-b93a-0f1b5411ee28
STATUS:CONFIRMED
LAST-MODIFIED:20260223T133507Z
DESCRIPTION:Suisse Junior Challenge MTTV Gruppe 1\nBegegnungs-Nr: 3\nHeim: Schwarzenburg\nGast: Heimberg\n
LOCATION:
CATEGORIES:Saison Suisse Junior Challenge 2025/26
END:VEVENT
END:VCALENDAR
