BEGIN:VCALENDAR
PRODID:-//nuDatenautomaten//framework iCal4j //DE
VERSION:2.0
CALSCALE:GREGORIAN
BEGIN:VTIMEZONE
TZID:Europe/Berlin
LAST-MODIFIED:20260306T231828Z
TZURL:https://www.tzurl.org/zoneinfo/Europe/Berlin
X-LIC-LOCATION:Europe/Berlin
X-PROLEPTIC-TZNAME:LMT
BEGIN:STANDARD
TZNAME:CET
TZOFFSETFROM:+005328
TZOFFSETTO:+0100
DTSTART:18930401T000000
END:STANDARD
BEGIN:DAYLIGHT
TZNAME:CEST
TZOFFSETFROM:+0100
TZOFFSETTO:+0200
DTSTART:19160430T230000
RDATE:19400401T020000
RDATE:19430329T020000
RDATE:19460414T020000
RDATE:19470406T030000
RDATE:19480418T020000
RDATE:19490410T020000
RDATE:19800406T020000
END:DAYLIGHT
BEGIN:STANDARD
TZNAME:CET
TZOFFSETFROM:+0200
TZOFFSETTO:+0100
DTSTART:19161001T010000
RDATE:19421102T030000
RDATE:19431004T030000
RDATE:19441002T030000
RDATE:19451118T030000
RDATE:19461007T030000
END:STANDARD
BEGIN:DAYLIGHT
TZNAME:CEST
TZOFFSETFROM:+0100
TZOFFSETTO:+0200
DTSTART:19170416T020000
RRULE:FREQ=YEARLY;UNTIL=19180415T010000Z;BYMONTH=4;BYDAY=3MO
END:DAYLIGHT
BEGIN:STANDARD
TZNAME:CET
TZOFFSETFROM:+0200
TZOFFSETTO:+0100
DTSTART:19170917T030000
RRULE:FREQ=YEARLY;UNTIL=19180916T010000Z;BYMONTH=9;BYDAY=3MO
END:STANDARD
BEGIN:DAYLIGHT
TZNAME:CEST
TZOFFSETFROM:+0100
TZOFFSETTO:+0200
DTSTART:19440403T020000
RRULE:FREQ=YEARLY;UNTIL=19450402T010000Z;BYMONTH=4;BYDAY=1MO
END:DAYLIGHT
BEGIN:DAYLIGHT
TZNAME:CEMT
TZOFFSETFROM:+0200
TZOFFSETTO:+0300
DTSTART:19450524T020000
RDATE:19470511T030000
END:DAYLIGHT
BEGIN:DAYLIGHT
TZNAME:CEST
TZOFFSETFROM:+0300
TZOFFSETTO:+0200
DTSTART:19450924T030000
RDATE:19470629T030000
END:DAYLIGHT
BEGIN:STANDARD
TZNAME:CET
TZOFFSETFROM:+0100
TZOFFSETTO:+0100
DTSTART:19460101T000000
RDATE:19800101T000000
END:STANDARD
BEGIN:STANDARD
TZNAME:CET
TZOFFSETFROM:+0200
TZOFFSETTO:+0100
DTSTART:19471005T030000
RRULE:FREQ=YEARLY;UNTIL=19491002T010000Z;BYMONTH=10;BYDAY=1SU
END:STANDARD
BEGIN:STANDARD
TZNAME:CET
TZOFFSETFROM:+0200
TZOFFSETTO:+0100
DTSTART:19800928T030000
RRULE:FREQ=YEARLY;UNTIL=19950924T010000Z;BYMONTH=9;BYDAY=-1SU
END:STANDARD
BEGIN:DAYLIGHT
TZNAME:CEST
TZOFFSETFROM:+0100
TZOFFSETTO:+0200
DTSTART:19810329T020000
RRULE:FREQ=YEARLY;BYMONTH=3;BYDAY=-1SU
END:DAYLIGHT
BEGIN:STANDARD
TZNAME:CET
TZOFFSETFROM:+0200
TZOFFSETTO:+0100
DTSTART:19961027T030000
RRULE:FREQ=YEARLY;BYMONTH=10;BYDAY=-1SU
END:STANDARD
END:VTIMEZONE
BEGIN:VEVENT
DTSTAMP:20260424T044427Z
DTSTART;TZID=Europe/Berlin:20260307T140000
DTEND;TZID=Europe/Berlin:20260307T170000
SUMMARY:SJC MTTV Gr. 1 Thun vs Heimberg (5)
UID:d82e217c-0091-4751-9128-e19ca886aa00
STATUS:CONFIRMED
LAST-MODIFIED:20260326T173030Z
DESCRIPTION:Suisse Junior Challenge MTTV Gruppe 1\nBegegnungs-Nr: 5\nHeim: Thun\nGast: Heimberg\n
LOCATION:
CATEGORIES:Saison Suisse Junior Challenge 2025/26
END:VEVENT
BEGIN:VEVENT
DTSTAMP:20260424T044427Z
DTSTART;TZID=Europe/Berlin:20260307T130000
DTEND;TZID=Europe/Berlin:20260307T160000
SUMMARY:SJC MTTV Gr. 1 Thun vs Schwarzenburg (8)
UID:54b1c5be-8d1f-4053-ac42-77e9fefacaab
STATUS:CONFIRMED
LAST-MODIFIED:20260326T173019Z
DESCRIPTION:Suisse Junior Challenge MTTV Gruppe 1\nBegegnungs-Nr: 8\nHeim: Thun\nGast: Schwarzenburg\n
LOCATION:
CATEGORIES:Saison Suisse Junior Challenge 2025/26
END:VEVENT
BEGIN:VEVENT
DTSTAMP:20260424T044427Z
DTSTART;TZID=Europe/Berlin:20260325T180000
DTEND;TZID=Europe/Berlin:20260325T210000
SUMMARY:SJC MTTV Gr. 1 Thun vs Steffisburg (2)
UID:7843c68c-beac-43dd-8110-dfd26d444e8d
STATUS:CONFIRMED
LAST-MODIFIED:20260409T114827Z
DESCRIPTION:Suisse Junior Challenge MTTV Gruppe 1\nBegegnungs-Nr: 2\nHeim: Thun\nGast: Steffisburg\n\nAdresse: Hallerstrasse 28\, 3604 Thun\n
LOCATION:Hallerstrasse 28\, 3604 Thun
CATEGORIES:Saison Suisse Junior Challenge 2025/26
END:VEVENT
BEGIN:VEVENT
DTSTAMP:20260424T044427Z
DTSTART;TZID=Europe/Berlin:20260117T130000
DTEND;TZID=Europe/Berlin:20260117T160000
SUMMARY:SJC MTTV Gr. 1 Thun vs Heimberg II (4)
UID:cf9c77d9-5386-426e-8b9b-de18342a95e5
STATUS:CONFIRMED
LAST-MODIFIED:20260223T133519Z
DESCRIPTION:Suisse Junior Challenge MTTV Gruppe 1\nBegegnungs-Nr: 4\nHeim: Thun\nGast: Heimberg II\n
LOCATION:
CATEGORIES:Saison Suisse Junior Challenge 2025/26
END:VEVENT
BEGIN:VEVENT
DTSTAMP:20260424T044427Z
DTSTART;TZID=Europe/Berlin:20260307T150000
DTEND;TZID=Europe/Berlin:20260307T180000
SUMMARY:SJC MTTV Gr. 1 Heimberg II vs Thun (7)
UID:2d704549-59fa-418e-8312-18043467ba30
STATUS:CONFIRMED
LAST-MODIFIED:20260308T173054Z
DESCRIPTION:Suisse Junior Challenge MTTV Gruppe 1\nBegegnungs-Nr: 7\nHeim: Heimberg II\nGast: Thun\n
LOCATION:
CATEGORIES:Saison Suisse Junior Challenge 2025/26
END:VEVENT
BEGIN:VEVENT
DTSTAMP:20260424T044427Z
DTSTART;TZID=Europe/Berlin:20260117T140000
DTEND;TZID=Europe/Berlin:20260117T170000
SUMMARY:SJC MTTV Gr. 1 Heimberg vs Thun (5)
UID:761e7270-3975-4945-be46-28ffa78c9079
STATUS:CONFIRMED
LAST-MODIFIED:20260223T133526Z
DESCRIPTION:Suisse Junior Challenge MTTV Gruppe 1\nBegegnungs-Nr: 5\nHeim: Heimberg\nGast: Thun\n
LOCATION:
CATEGORIES:Saison Suisse Junior Challenge 2025/26
END:VEVENT
BEGIN:VEVENT
DTSTAMP:20260424T044427Z
DTSTART;TZID=Europe/Berlin:20260117T160000
DTEND;TZID=Europe/Berlin:20260117T190000
SUMMARY:SJC MTTV Gr. 1 Schwarzenburg vs Thun (10)
UID:24f331f0-2c12-497f-8fef-7b8ed76bb4d8
STATUS:CONFIRMED
LAST-MODIFIED:20260223T133606Z
DESCRIPTION:Suisse Junior Challenge MTTV Gruppe 1\nBegegnungs-Nr: 10\nHeim: Schwarzenburg\nGast: Thun\n
LOCATION:
CATEGORIES:Saison Suisse Junior Challenge 2025/26
END:VEVENT
BEGIN:VEVENT
DTSTAMP:20260424T044427Z
DTSTART;TZID=Europe/Berlin:20260211T180000
DTEND;TZID=Europe/Berlin:20260211T210000
SUMMARY:SJC MTTV Gr. 1 Steffisburg vs Thun (1)
UID:aaac8c10-f815-4b91-bc60-e42473f22b32
STATUS:CONFIRMED
LAST-MODIFIED:20260223T133614Z
DESCRIPTION:Suisse Junior Challenge MTTV Gruppe 1\nBegegnungs-Nr: 1\nHeim: Steffisburg\nGast: Thun\n
LOCATION:
CATEGORIES:Saison Suisse Junior Challenge 2025/26
END:VEVENT
END:VCALENDAR
