BEGIN:VCALENDAR
PRODID:-//nuDatenautomaten//framework iCal4j //DE
VERSION:2.0
CALSCALE:GREGORIAN
BEGIN:VTIMEZONE
TZID:Europe/Berlin
LAST-MODIFIED:20260306T231828Z
TZURL:https://www.tzurl.org/zoneinfo/Europe/Berlin
X-LIC-LOCATION:Europe/Berlin
X-PROLEPTIC-TZNAME:LMT
BEGIN:STANDARD
TZNAME:CET
TZOFFSETFROM:+005328
TZOFFSETTO:+0100
DTSTART:18930401T000000
END:STANDARD
BEGIN:DAYLIGHT
TZNAME:CEST
TZOFFSETFROM:+0100
TZOFFSETTO:+0200
DTSTART:19160430T230000
RDATE:19400401T020000
RDATE:19430329T020000
RDATE:19460414T020000
RDATE:19470406T030000
RDATE:19480418T020000
RDATE:19490410T020000
RDATE:19800406T020000
END:DAYLIGHT
BEGIN:STANDARD
TZNAME:CET
TZOFFSETFROM:+0200
TZOFFSETTO:+0100
DTSTART:19161001T010000
RDATE:19421102T030000
RDATE:19431004T030000
RDATE:19441002T030000
RDATE:19451118T030000
RDATE:19461007T030000
END:STANDARD
BEGIN:DAYLIGHT
TZNAME:CEST
TZOFFSETFROM:+0100
TZOFFSETTO:+0200
DTSTART:19170416T020000
RRULE:FREQ=YEARLY;UNTIL=19180415T010000Z;BYMONTH=4;BYDAY=3MO
END:DAYLIGHT
BEGIN:STANDARD
TZNAME:CET
TZOFFSETFROM:+0200
TZOFFSETTO:+0100
DTSTART:19170917T030000
RRULE:FREQ=YEARLY;UNTIL=19180916T010000Z;BYMONTH=9;BYDAY=3MO
END:STANDARD
BEGIN:DAYLIGHT
TZNAME:CEST
TZOFFSETFROM:+0100
TZOFFSETTO:+0200
DTSTART:19440403T020000
RRULE:FREQ=YEARLY;UNTIL=19450402T010000Z;BYMONTH=4;BYDAY=1MO
END:DAYLIGHT
BEGIN:DAYLIGHT
TZNAME:CEMT
TZOFFSETFROM:+0200
TZOFFSETTO:+0300
DTSTART:19450524T020000
RDATE:19470511T030000
END:DAYLIGHT
BEGIN:DAYLIGHT
TZNAME:CEST
TZOFFSETFROM:+0300
TZOFFSETTO:+0200
DTSTART:19450924T030000
RDATE:19470629T030000
END:DAYLIGHT
BEGIN:STANDARD
TZNAME:CET
TZOFFSETFROM:+0100
TZOFFSETTO:+0100
DTSTART:19460101T000000
RDATE:19800101T000000
END:STANDARD
BEGIN:STANDARD
TZNAME:CET
TZOFFSETFROM:+0200
TZOFFSETTO:+0100
DTSTART:19471005T030000
RRULE:FREQ=YEARLY;UNTIL=19491002T010000Z;BYMONTH=10;BYDAY=1SU
END:STANDARD
BEGIN:STANDARD
TZNAME:CET
TZOFFSETFROM:+0200
TZOFFSETTO:+0100
DTSTART:19800928T030000
RRULE:FREQ=YEARLY;UNTIL=19950924T010000Z;BYMONTH=9;BYDAY=-1SU
END:STANDARD
BEGIN:DAYLIGHT
TZNAME:CEST
TZOFFSETFROM:+0100
TZOFFSETTO:+0200
DTSTART:19810329T020000
RRULE:FREQ=YEARLY;BYMONTH=3;BYDAY=-1SU
END:DAYLIGHT
BEGIN:STANDARD
TZNAME:CET
TZOFFSETFROM:+0200
TZOFFSETTO:+0100
DTSTART:19961027T030000
RRULE:FREQ=YEARLY;BYMONTH=10;BYDAY=-1SU
END:STANDARD
END:VTIMEZONE
BEGIN:VEVENT
DTSTAMP:20260424T115056Z
DTSTART;TZID=Europe/Berlin:20251206T130000
DTEND;TZID=Europe/Berlin:20251206T160000
SUMMARY:SJC MTTV Gr. 2 Frick vs Herzogenbuchsee (3)
UID:cdeb664c-d952-405d-9dc5-db56863bd5f6
STATUS:CONFIRMED
LAST-MODIFIED:20251211T104250Z
DESCRIPTION:Suisse Junior Challenge MTTV Gruppe 2\nBegegnungs-Nr: 3\nHeim: Frick\nGast: Herzogenbuchsee\n
LOCATION:
CATEGORIES:Saison Suisse Junior Challenge 2025/26
END:VEVENT
BEGIN:VEVENT
DTSTAMP:20260424T115056Z
DTSTART;TZID=Europe/Berlin:20260307T140000
DTEND;TZID=Europe/Berlin:20260307T170000
SUMMARY:SJC MTTV Gr. 2 Frick vs Ostermundigen (6)
UID:2c0bd9a4-032c-4a9b-be95-19f768d41310
STATUS:CONFIRMED
LAST-MODIFIED:20260308T105918Z
DESCRIPTION:Suisse Junior Challenge MTTV Gruppe 2\nBegegnungs-Nr: 6\nHeim: Frick\nGast: Ostermundigen\n
LOCATION:
CATEGORIES:Saison Suisse Junior Challenge 2025/26
END:VEVENT
BEGIN:VEVENT
DTSTAMP:20260424T115056Z
DTSTART;TZID=Europe/Berlin:20260307T160000
DTEND;TZID=Europe/Berlin:20260307T190000
SUMMARY:SJC MTTV Gr. 2 Frick vs Langnau (9)
UID:9ba0dd33-ff75-407c-9d14-45a1231ee358
STATUS:CONFIRMED
LAST-MODIFIED:20260308T110018Z
DESCRIPTION:Suisse Junior Challenge MTTV Gruppe 2\nBegegnungs-Nr: 9\nHeim: Frick\nGast: Langnau\n
LOCATION:
CATEGORIES:Saison Suisse Junior Challenge 2025/26
END:VEVENT
BEGIN:VEVENT
DTSTAMP:20260424T115056Z
DTSTART;TZID=Europe/Berlin:20260223T183000
DTEND;TZID=Europe/Berlin:20260223T213000
SUMMARY:SJC MTTV Gr. 2 Frick vs Frick II (2)
UID:be4bee03-15d3-40af-8e5f-01918a0bb00f
STATUS:CONFIRMED
LAST-MODIFIED:20260308T105840Z
DESCRIPTION:Suisse Junior Challenge MTTV Gruppe 2\nBegegnungs-Nr: 2\nHeim: Frick\nGast: Frick II\n\nAdresse: Schulstrasse 51\, 5070 Frick\n
LOCATION:Schulstrasse 51\, 5070 Frick
CATEGORIES:Saison Suisse Junior Challenge 2025/26
END:VEVENT
BEGIN:VEVENT
DTSTAMP:20260424T115056Z
DTSTART;TZID=Europe/Berlin:20251128T183000
DTEND;TZID=Europe/Berlin:20251128T213000
SUMMARY:SJC MTTV Gr. 2 Frick II vs Frick (2)
UID:5f1f4ec3-3dad-4889-a4cb-177f220aa65c
STATUS:CONFIRMED
LAST-MODIFIED:20251211T104230Z
DESCRIPTION:Suisse Junior Challenge MTTV Gruppe 2\nBegegnungs-Nr: 2\nHeim: Frick II\nGast: Frick\n\nAdresse: Schulstrasse 51\, 5070 Frick\n
LOCATION:Schulstrasse 51\, 5070 Frick
CATEGORIES:Saison Suisse Junior Challenge 2025/26
END:VEVENT
BEGIN:VEVENT
DTSTAMP:20260424T115056Z
DTSTART;TZID=Europe/Berlin:20251206T150000
DTEND;TZID=Europe/Berlin:20251206T180000
SUMMARY:SJC MTTV Gr. 2 Langnau vs Frick (7)
UID:b4b542c4-3a6d-4a8c-be78-975da434054e
STATUS:CONFIRMED
LAST-MODIFIED:20251211T104343Z
DESCRIPTION:Suisse Junior Challenge MTTV Gruppe 2\nBegegnungs-Nr: 7\nHeim: Langnau\nGast: Frick\n
LOCATION:
CATEGORIES:Saison Suisse Junior Challenge 2025/26
END:VEVENT
BEGIN:VEVENT
DTSTAMP:20260424T115056Z
DTSTART;TZID=Europe/Berlin:20251206T160000
DTEND;TZID=Europe/Berlin:20251206T190000
SUMMARY:SJC MTTV Gr. 2 Ostermundigen vs Frick (9)
UID:949b21d8-f3f1-4f78-ac38-bff64d7df44e
STATUS:CONFIRMED
LAST-MODIFIED:20251211T104426Z
DESCRIPTION:Suisse Junior Challenge MTTV Gruppe 2\nBegegnungs-Nr: 9\nHeim: Ostermundigen\nGast: Frick\n
LOCATION:
CATEGORIES:Saison Suisse Junior Challenge 2025/26
END:VEVENT
BEGIN:VEVENT
DTSTAMP:20260424T115056Z
DTSTART;TZID=Europe/Berlin:20260307T130000
DTEND;TZID=Europe/Berlin:20260307T160000
SUMMARY:SJC MTTV Gr. 2 Herzogenbuchsee vs Frick (3)
UID:c8175285-147e-485d-806a-7788682bf32b
STATUS:CONFIRMED
LAST-MODIFIED:20260326T173101Z
DESCRIPTION:Suisse Junior Challenge MTTV Gruppe 2\nBegegnungs-Nr: 3\nHeim: Herzogenbuchsee\nGast: Frick\n
LOCATION:
CATEGORIES:Saison Suisse Junior Challenge 2025/26
END:VEVENT
END:VCALENDAR
