BEGIN:VCALENDAR
PRODID:-//nuDatenautomaten//framework iCal4j //DE
VERSION:2.0
CALSCALE:GREGORIAN
BEGIN:VTIMEZONE
TZID:Europe/Berlin
LAST-MODIFIED:20260306T231828Z
TZURL:https://www.tzurl.org/zoneinfo/Europe/Berlin
X-LIC-LOCATION:Europe/Berlin
X-PROLEPTIC-TZNAME:LMT
BEGIN:STANDARD
TZNAME:CET
TZOFFSETFROM:+005328
TZOFFSETTO:+0100
DTSTART:18930401T000000
END:STANDARD
BEGIN:DAYLIGHT
TZNAME:CEST
TZOFFSETFROM:+0100
TZOFFSETTO:+0200
DTSTART:19160430T230000
RDATE:19400401T020000
RDATE:19430329T020000
RDATE:19460414T020000
RDATE:19470406T030000
RDATE:19480418T020000
RDATE:19490410T020000
RDATE:19800406T020000
END:DAYLIGHT
BEGIN:STANDARD
TZNAME:CET
TZOFFSETFROM:+0200
TZOFFSETTO:+0100
DTSTART:19161001T010000
RDATE:19421102T030000
RDATE:19431004T030000
RDATE:19441002T030000
RDATE:19451118T030000
RDATE:19461007T030000
END:STANDARD
BEGIN:DAYLIGHT
TZNAME:CEST
TZOFFSETFROM:+0100
TZOFFSETTO:+0200
DTSTART:19170416T020000
RRULE:FREQ=YEARLY;UNTIL=19180415T010000Z;BYMONTH=4;BYDAY=3MO
END:DAYLIGHT
BEGIN:STANDARD
TZNAME:CET
TZOFFSETFROM:+0200
TZOFFSETTO:+0100
DTSTART:19170917T030000
RRULE:FREQ=YEARLY;UNTIL=19180916T010000Z;BYMONTH=9;BYDAY=3MO
END:STANDARD
BEGIN:DAYLIGHT
TZNAME:CEST
TZOFFSETFROM:+0100
TZOFFSETTO:+0200
DTSTART:19440403T020000
RRULE:FREQ=YEARLY;UNTIL=19450402T010000Z;BYMONTH=4;BYDAY=1MO
END:DAYLIGHT
BEGIN:DAYLIGHT
TZNAME:CEMT
TZOFFSETFROM:+0200
TZOFFSETTO:+0300
DTSTART:19450524T020000
RDATE:19470511T030000
END:DAYLIGHT
BEGIN:DAYLIGHT
TZNAME:CEST
TZOFFSETFROM:+0300
TZOFFSETTO:+0200
DTSTART:19450924T030000
RDATE:19470629T030000
END:DAYLIGHT
BEGIN:STANDARD
TZNAME:CET
TZOFFSETFROM:+0100
TZOFFSETTO:+0100
DTSTART:19460101T000000
RDATE:19800101T000000
END:STANDARD
BEGIN:STANDARD
TZNAME:CET
TZOFFSETFROM:+0200
TZOFFSETTO:+0100
DTSTART:19471005T030000
RRULE:FREQ=YEARLY;UNTIL=19491002T010000Z;BYMONTH=10;BYDAY=1SU
END:STANDARD
BEGIN:STANDARD
TZNAME:CET
TZOFFSETFROM:+0200
TZOFFSETTO:+0100
DTSTART:19800928T030000
RRULE:FREQ=YEARLY;UNTIL=19950924T010000Z;BYMONTH=9;BYDAY=-1SU
END:STANDARD
BEGIN:DAYLIGHT
TZNAME:CEST
TZOFFSETFROM:+0100
TZOFFSETTO:+0200
DTSTART:19810329T020000
RRULE:FREQ=YEARLY;BYMONTH=3;BYDAY=-1SU
END:DAYLIGHT
BEGIN:STANDARD
TZNAME:CET
TZOFFSETFROM:+0200
TZOFFSETTO:+0100
DTSTART:19961027T030000
RRULE:FREQ=YEARLY;BYMONTH=10;BYDAY=-1SU
END:STANDARD
END:VTIMEZONE
BEGIN:VEVENT
DTSTAMP:20260424T084031Z
DTSTART;TZID=Europe/Berlin:20260125T130000
DTEND;TZID=Europe/Berlin:20260125T160000
SUMMARY:OTTV - Gr. 1 Wetzikon II vs Zürich-Affoltern II (3)
UID:9f5463f3-8a52-4c53-a5f8-0b7035c34ea4
STATUS:CONFIRMED
LAST-MODIFIED:20260121T103942Z
DESCRIPTION:OTTV - Gruppe 1\nBegegnungs-Nr: 3\nHeim: Wetzikon II\nGast: Zürich-Affoltern II\n
LOCATION:
CATEGORIES:Saison Suisse Junior Challenge 2025/26
END:VEVENT
BEGIN:VEVENT
DTSTAMP:20260424T084031Z
DTSTART;TZID=Europe/Berlin:20260125T170000
DTEND;TZID=Europe/Berlin:20260125T200000
SUMMARY:OTTV - Gr. 1 Wetzikon II vs Affoltern A/A (14)
UID:4a7da8f5-8e29-4360-8902-423a3edd72a6
STATUS:CONFIRMED
LAST-MODIFIED:20260126T085700Z
DESCRIPTION:OTTV - Gruppe 1\nBegegnungs-Nr: 14\nHeim: Wetzikon II\nGast: Affoltern A/A\n
LOCATION:
CATEGORIES:Saison Suisse Junior Challenge 2025/26
END:VEVENT
BEGIN:VEVENT
DTSTAMP:20260424T084031Z
DTSTART;TZID=Europe/Berlin:20260125T160000
DTEND;TZID=Europe/Berlin:20260125T190000
SUMMARY:OTTV - Gr. 1 Wetzikon II vs Steckborn-Homburg II (11)
UID:a073d4b9-02dc-44f1-8acc-1631cb23082f
STATUS:CONFIRMED
LAST-MODIFIED:20260126T085628Z
DESCRIPTION:OTTV - Gruppe 1\nBegegnungs-Nr: 11\nHeim: Wetzikon II\nGast: Steckborn-Homburg II\n
LOCATION:
CATEGORIES:Saison Suisse Junior Challenge 2025/26
END:VEVENT
BEGIN:VEVENT
DTSTAMP:20260424T084031Z
DTSTART;TZID=Europe/Berlin:20251108T130000
DTEND;TZID=Europe/Berlin:20251108T160000
SUMMARY:OTTV - Gr. 1 Wetzikon II vs Zürich-Affoltern II (3)
UID:cee7140c-903f-486a-8940-44fc74ed98f9
STATUS:CONFIRMED
LAST-MODIFIED:20251117T112134Z
DESCRIPTION:OTTV - Gruppe 1\nBegegnungs-Nr: 3\nHeim: Wetzikon II\nGast: Zürich-Affoltern II\n
LOCATION:
CATEGORIES:Saison Suisse Junior Challenge 2025/26
END:VEVENT
BEGIN:VEVENT
DTSTAMP:20260424T084031Z
DTSTART;TZID=Europe/Berlin:20251108T160000
DTEND;TZID=Europe/Berlin:20251108T190000
SUMMARY:OTTV - Gr. 1 Wetzikon II vs Steckborn-Homburg II (11)
UID:d3ca9bf1-a51c-4feb-b4e2-0aeedf2b5c30
STATUS:CONFIRMED
LAST-MODIFIED:20251117T124240Z
DESCRIPTION:OTTV - Gruppe 1\nBegegnungs-Nr: 11\nHeim: Wetzikon II\nGast: Steckborn-Homburg II\n
LOCATION:
CATEGORIES:Saison Suisse Junior Challenge 2025/26
END:VEVENT
BEGIN:VEVENT
DTSTAMP:20260424T084031Z
DTSTART;TZID=Europe/Berlin:20251108T170000
DTEND;TZID=Europe/Berlin:20251108T200000
SUMMARY:OTTV - Gr. 1 Wetzikon II vs Affoltern A/A (14)
UID:ba37ab44-7603-4a4c-84c3-5d7a58eb5958
STATUS:CONFIRMED
LAST-MODIFIED:20251117T124636Z
DESCRIPTION:OTTV - Gruppe 1\nBegegnungs-Nr: 14\nHeim: Wetzikon II\nGast: Affoltern A/A\n
LOCATION:
CATEGORIES:Saison Suisse Junior Challenge 2025/26
END:VEVENT
BEGIN:VEVENT
DTSTAMP:20260424T084031Z
DTSTART;TZID=Europe/Berlin:20260125T140000
DTEND;TZID=Europe/Berlin:20260125T170000
SUMMARY:OTTV - Gr. 1 Chur III vs Wetzikon II (6)
UID:09c91c42-fc0b-4234-8487-32845d944085
STATUS:CONFIRMED
LAST-MODIFIED:20260126T085325Z
DESCRIPTION:OTTV - Gruppe 1\nBegegnungs-Nr: 6\nHeim: Chur III\nGast: Wetzikon II\n
LOCATION:
CATEGORIES:Saison Suisse Junior Challenge 2025/26
END:VEVENT
BEGIN:VEVENT
DTSTAMP:20260424T084031Z
DTSTART;TZID=Europe/Berlin:20260125T150000
DTEND;TZID=Europe/Berlin:20260125T180000
SUMMARY:OTTV - Gr. 1 Chur vs Wetzikon II (7)
UID:85c41298-b642-4354-b4f0-8d7ddf4cb23e
STATUS:CONFIRMED
LAST-MODIFIED:20260126T085334Z
DESCRIPTION:OTTV - Gruppe 1\nBegegnungs-Nr: 7\nHeim: Chur\nGast: Wetzikon II\n
LOCATION:
CATEGORIES:Saison Suisse Junior Challenge 2025/26
END:VEVENT
BEGIN:VEVENT
DTSTAMP:20260424T084031Z
DTSTART;TZID=Europe/Berlin:20251108T140000
DTEND;TZID=Europe/Berlin:20251108T170000
SUMMARY:OTTV - Gr. 1 Chur III vs Wetzikon II (6)
UID:cada980e-5d3b-4011-9799-addb5f00a988
STATUS:CONFIRMED
LAST-MODIFIED:20251117T113750Z
DESCRIPTION:OTTV - Gruppe 1\nBegegnungs-Nr: 6\nHeim: Chur III\nGast: Wetzikon II\n
LOCATION:
CATEGORIES:Saison Suisse Junior Challenge 2025/26
END:VEVENT
BEGIN:VEVENT
DTSTAMP:20260424T084031Z
DTSTART;TZID=Europe/Berlin:20251108T150000
DTEND;TZID=Europe/Berlin:20251108T180000
SUMMARY:OTTV - Gr. 1 Chur vs Wetzikon II (7)
UID:bf8031ea-65a2-43f1-bca9-8b3a50c15ef0
STATUS:CONFIRMED
LAST-MODIFIED:20251117T114007Z
DESCRIPTION:OTTV - Gruppe 1\nBegegnungs-Nr: 7\nHeim: Chur\nGast: Wetzikon II\n
LOCATION:
CATEGORIES:Saison Suisse Junior Challenge 2025/26
END:VEVENT
END:VCALENDAR
