BEGIN:VCALENDAR
PRODID:-//nuDatenautomaten//framework iCal4j //DE
VERSION:2.0
CALSCALE:GREGORIAN
BEGIN:VTIMEZONE
TZID:Europe/Berlin
LAST-MODIFIED:20260306T231828Z
TZURL:https://www.tzurl.org/zoneinfo/Europe/Berlin
X-LIC-LOCATION:Europe/Berlin
X-PROLEPTIC-TZNAME:LMT
BEGIN:STANDARD
TZNAME:CET
TZOFFSETFROM:+005328
TZOFFSETTO:+0100
DTSTART:18930401T000000
END:STANDARD
BEGIN:DAYLIGHT
TZNAME:CEST
TZOFFSETFROM:+0100
TZOFFSETTO:+0200
DTSTART:19160430T230000
RDATE:19400401T020000
RDATE:19430329T020000
RDATE:19460414T020000
RDATE:19470406T030000
RDATE:19480418T020000
RDATE:19490410T020000
RDATE:19800406T020000
END:DAYLIGHT
BEGIN:STANDARD
TZNAME:CET
TZOFFSETFROM:+0200
TZOFFSETTO:+0100
DTSTART:19161001T010000
RDATE:19421102T030000
RDATE:19431004T030000
RDATE:19441002T030000
RDATE:19451118T030000
RDATE:19461007T030000
END:STANDARD
BEGIN:DAYLIGHT
TZNAME:CEST
TZOFFSETFROM:+0100
TZOFFSETTO:+0200
DTSTART:19170416T020000
RRULE:FREQ=YEARLY;UNTIL=19180415T010000Z;BYMONTH=4;BYDAY=3MO
END:DAYLIGHT
BEGIN:STANDARD
TZNAME:CET
TZOFFSETFROM:+0200
TZOFFSETTO:+0100
DTSTART:19170917T030000
RRULE:FREQ=YEARLY;UNTIL=19180916T010000Z;BYMONTH=9;BYDAY=3MO
END:STANDARD
BEGIN:DAYLIGHT
TZNAME:CEST
TZOFFSETFROM:+0100
TZOFFSETTO:+0200
DTSTART:19440403T020000
RRULE:FREQ=YEARLY;UNTIL=19450402T010000Z;BYMONTH=4;BYDAY=1MO
END:DAYLIGHT
BEGIN:DAYLIGHT
TZNAME:CEMT
TZOFFSETFROM:+0200
TZOFFSETTO:+0300
DTSTART:19450524T020000
RDATE:19470511T030000
END:DAYLIGHT
BEGIN:DAYLIGHT
TZNAME:CEST
TZOFFSETFROM:+0300
TZOFFSETTO:+0200
DTSTART:19450924T030000
RDATE:19470629T030000
END:DAYLIGHT
BEGIN:STANDARD
TZNAME:CET
TZOFFSETFROM:+0100
TZOFFSETTO:+0100
DTSTART:19460101T000000
RDATE:19800101T000000
END:STANDARD
BEGIN:STANDARD
TZNAME:CET
TZOFFSETFROM:+0200
TZOFFSETTO:+0100
DTSTART:19471005T030000
RRULE:FREQ=YEARLY;UNTIL=19491002T010000Z;BYMONTH=10;BYDAY=1SU
END:STANDARD
BEGIN:STANDARD
TZNAME:CET
TZOFFSETFROM:+0200
TZOFFSETTO:+0100
DTSTART:19800928T030000
RRULE:FREQ=YEARLY;UNTIL=19950924T010000Z;BYMONTH=9;BYDAY=-1SU
END:STANDARD
BEGIN:DAYLIGHT
TZNAME:CEST
TZOFFSETFROM:+0100
TZOFFSETTO:+0200
DTSTART:19810329T020000
RRULE:FREQ=YEARLY;BYMONTH=3;BYDAY=-1SU
END:DAYLIGHT
BEGIN:STANDARD
TZNAME:CET
TZOFFSETFROM:+0200
TZOFFSETTO:+0100
DTSTART:19961027T030000
RRULE:FREQ=YEARLY;BYMONTH=10;BYDAY=-1SU
END:STANDARD
END:VTIMEZONE
BEGIN:VEVENT
DTSTAMP:20260424T063716Z
DTSTART;TZID=Europe/Berlin:20260125T140000
DTEND;TZID=Europe/Berlin:20260125T170000
SUMMARY:OTTV - Gr. 2 Wetzikon vs Zürich-Affoltern (4)
UID:d13b89a1-687b-4e1f-9731-d9728e3bbf96
STATUS:CONFIRMED
LAST-MODIFIED:20260126T085759Z
DESCRIPTION:OTTV - Gruppe 2\nBegegnungs-Nr: 4\nHeim: Wetzikon\nGast: Zürich-Affoltern\n
LOCATION:
CATEGORIES:Saison Suisse Junior Challenge 2025/26
END:VEVENT
BEGIN:VEVENT
DTSTAMP:20260424T063716Z
DTSTART;TZID=Europe/Berlin:20260125T150000
DTEND;TZID=Europe/Berlin:20260125T180000
SUMMARY:OTTV - Gr. 2 Wetzikon vs Chur II (9)
UID:ead70e2d-b903-4e2a-ac77-9d5749ccf8e3
STATUS:CONFIRMED
LAST-MODIFIED:20260126T085818Z
DESCRIPTION:OTTV - Gruppe 2\nBegegnungs-Nr: 9\nHeim: Wetzikon\nGast: Chur II\n
LOCATION:
CATEGORIES:Saison Suisse Junior Challenge 2025/26
END:VEVENT
BEGIN:VEVENT
DTSTAMP:20260424T063716Z
DTSTART;TZID=Europe/Berlin:20251108T140000
DTEND;TZID=Europe/Berlin:20251108T170000
SUMMARY:OTTV - Gr. 2 Wetzikon vs Zürich-Affoltern (4)
UID:ecc7a3bd-7b83-4999-8da1-9681fe5523aa
STATUS:CONFIRMED
LAST-MODIFIED:20251117T132002Z
DESCRIPTION:OTTV - Gruppe 2\nBegegnungs-Nr: 4\nHeim: Wetzikon\nGast: Zürich-Affoltern\n
LOCATION:
CATEGORIES:Saison Suisse Junior Challenge 2025/26
END:VEVENT
BEGIN:VEVENT
DTSTAMP:20260424T063716Z
DTSTART;TZID=Europe/Berlin:20251108T150000
DTEND;TZID=Europe/Berlin:20251108T180000
SUMMARY:OTTV - Gr. 2 Wetzikon vs Chur II (9)
UID:364a58aa-b2f1-47cc-90fd-8184c1f1246a
STATUS:CONFIRMED
LAST-MODIFIED:20251117T135628Z
DESCRIPTION:OTTV - Gruppe 2\nBegegnungs-Nr: 9\nHeim: Wetzikon\nGast: Chur II\n
LOCATION:
CATEGORIES:Saison Suisse Junior Challenge 2025/26
END:VEVENT
BEGIN:VEVENT
DTSTAMP:20260424T063716Z
DTSTART;TZID=Europe/Berlin:20260125T160000
DTEND;TZID=Europe/Berlin:20260125T190000
SUMMARY:OTTV - Gr. 2 Zürich-Affoltern III vs Wetzikon (12)
UID:ef874521-653c-49e4-bd2c-c720dd992b63
STATUS:CONFIRMED
LAST-MODIFIED:20260121T104805Z
DESCRIPTION:OTTV - Gruppe 2\nBegegnungs-Nr: 12\nHeim: Zürich-Affoltern III\nGast: Wetzikon\n
LOCATION:
CATEGORIES:Saison Suisse Junior Challenge 2025/26
END:VEVENT
BEGIN:VEVENT
DTSTAMP:20260424T063716Z
DTSTART;TZID=Europe/Berlin:20260125T130000
DTEND;TZID=Europe/Berlin:20260125T160000
SUMMARY:OTTV - Gr. 2 Wetzikon III vs Wetzikon (2)
UID:6cd21e18-5a47-4bf0-8c99-7396e323c315
STATUS:CONFIRMED
LAST-MODIFIED:20260126T085714Z
DESCRIPTION:OTTV - Gruppe 2\nBegegnungs-Nr: 2\nHeim: Wetzikon III\nGast: Wetzikon\n
LOCATION:
CATEGORIES:Saison Suisse Junior Challenge 2025/26
END:VEVENT
BEGIN:VEVENT
DTSTAMP:20260424T063716Z
DTSTART;TZID=Europe/Berlin:20260125T170000
DTEND;TZID=Europe/Berlin:20260125T200000
SUMMARY:OTTV - Gr. 2 Steckborn-Homburg vs Wetzikon (14)
UID:45e67445-215b-40ce-9d02-7a5b5ce31d83
STATUS:CONFIRMED
LAST-MODIFIED:20260126T085833Z
DESCRIPTION:OTTV - Gruppe 2\nBegegnungs-Nr: 14\nHeim: Steckborn-Homburg\nGast: Wetzikon\n
LOCATION:
CATEGORIES:Saison Suisse Junior Challenge 2025/26
END:VEVENT
BEGIN:VEVENT
DTSTAMP:20260424T063716Z
DTSTART;TZID=Europe/Berlin:20251108T130000
DTEND;TZID=Europe/Berlin:20251108T160000
SUMMARY:OTTV - Gr. 2 Wetzikon III vs Wetzikon (2)
UID:683e5f07-7a53-42c9-a0f2-206db273b35b
STATUS:CONFIRMED
LAST-MODIFIED:20251117T130635Z
DESCRIPTION:OTTV - Gruppe 2\nBegegnungs-Nr: 2\nHeim: Wetzikon III\nGast: Wetzikon\n
LOCATION:
CATEGORIES:Saison Suisse Junior Challenge 2025/26
END:VEVENT
BEGIN:VEVENT
DTSTAMP:20260424T063716Z
DTSTART;TZID=Europe/Berlin:20251108T160000
DTEND;TZID=Europe/Berlin:20251108T190000
SUMMARY:OTTV - Gr. 2 Zürich-Affoltern III vs Wetzikon (12)
UID:fb63c04b-facc-4f5e-9c4a-19948ba1301d
STATUS:CONFIRMED
LAST-MODIFIED:20251117T140007Z
DESCRIPTION:OTTV - Gruppe 2\nBegegnungs-Nr: 12\nHeim: Zürich-Affoltern III\nGast: Wetzikon\n
LOCATION:
CATEGORIES:Saison Suisse Junior Challenge 2025/26
END:VEVENT
BEGIN:VEVENT
DTSTAMP:20260424T063716Z
DTSTART;TZID=Europe/Berlin:20251108T170000
DTEND;TZID=Europe/Berlin:20251108T200000
SUMMARY:OTTV - Gr. 2 Steckborn-Homburg vs Wetzikon (14)
UID:5849a7a0-cfd3-4295-a585-395c0d506f6f
STATUS:CONFIRMED
LAST-MODIFIED:20251117T140346Z
DESCRIPTION:OTTV - Gruppe 2\nBegegnungs-Nr: 14\nHeim: Steckborn-Homburg\nGast: Wetzikon\n
LOCATION:
CATEGORIES:Saison Suisse Junior Challenge 2025/26
END:VEVENT
END:VCALENDAR
