BEGIN:VCALENDAR
PRODID:-//nuDatenautomaten//framework iCal4j //DE
VERSION:2.0
CALSCALE:GREGORIAN
BEGIN:VTIMEZONE
TZID:Europe/Berlin
LAST-MODIFIED:20260306T231828Z
TZURL:https://www.tzurl.org/zoneinfo/Europe/Berlin
X-LIC-LOCATION:Europe/Berlin
X-PROLEPTIC-TZNAME:LMT
BEGIN:STANDARD
TZNAME:CET
TZOFFSETFROM:+005328
TZOFFSETTO:+0100
DTSTART:18930401T000000
END:STANDARD
BEGIN:DAYLIGHT
TZNAME:CEST
TZOFFSETFROM:+0100
TZOFFSETTO:+0200
DTSTART:19160430T230000
RDATE:19400401T020000
RDATE:19430329T020000
RDATE:19460414T020000
RDATE:19470406T030000
RDATE:19480418T020000
RDATE:19490410T020000
RDATE:19800406T020000
END:DAYLIGHT
BEGIN:STANDARD
TZNAME:CET
TZOFFSETFROM:+0200
TZOFFSETTO:+0100
DTSTART:19161001T010000
RDATE:19421102T030000
RDATE:19431004T030000
RDATE:19441002T030000
RDATE:19451118T030000
RDATE:19461007T030000
END:STANDARD
BEGIN:DAYLIGHT
TZNAME:CEST
TZOFFSETFROM:+0100
TZOFFSETTO:+0200
DTSTART:19170416T020000
RRULE:FREQ=YEARLY;UNTIL=19180415T010000Z;BYMONTH=4;BYDAY=3MO
END:DAYLIGHT
BEGIN:STANDARD
TZNAME:CET
TZOFFSETFROM:+0200
TZOFFSETTO:+0100
DTSTART:19170917T030000
RRULE:FREQ=YEARLY;UNTIL=19180916T010000Z;BYMONTH=9;BYDAY=3MO
END:STANDARD
BEGIN:DAYLIGHT
TZNAME:CEST
TZOFFSETFROM:+0100
TZOFFSETTO:+0200
DTSTART:19440403T020000
RRULE:FREQ=YEARLY;UNTIL=19450402T010000Z;BYMONTH=4;BYDAY=1MO
END:DAYLIGHT
BEGIN:DAYLIGHT
TZNAME:CEMT
TZOFFSETFROM:+0200
TZOFFSETTO:+0300
DTSTART:19450524T020000
RDATE:19470511T030000
END:DAYLIGHT
BEGIN:DAYLIGHT
TZNAME:CEST
TZOFFSETFROM:+0300
TZOFFSETTO:+0200
DTSTART:19450924T030000
RDATE:19470629T030000
END:DAYLIGHT
BEGIN:STANDARD
TZNAME:CET
TZOFFSETFROM:+0100
TZOFFSETTO:+0100
DTSTART:19460101T000000
RDATE:19800101T000000
END:STANDARD
BEGIN:STANDARD
TZNAME:CET
TZOFFSETFROM:+0200
TZOFFSETTO:+0100
DTSTART:19471005T030000
RRULE:FREQ=YEARLY;UNTIL=19491002T010000Z;BYMONTH=10;BYDAY=1SU
END:STANDARD
BEGIN:STANDARD
TZNAME:CET
TZOFFSETFROM:+0200
TZOFFSETTO:+0100
DTSTART:19800928T030000
RRULE:FREQ=YEARLY;UNTIL=19950924T010000Z;BYMONTH=9;BYDAY=-1SU
END:STANDARD
BEGIN:DAYLIGHT
TZNAME:CEST
TZOFFSETFROM:+0100
TZOFFSETTO:+0200
DTSTART:19810329T020000
RRULE:FREQ=YEARLY;BYMONTH=3;BYDAY=-1SU
END:DAYLIGHT
BEGIN:STANDARD
TZNAME:CET
TZOFFSETFROM:+0200
TZOFFSETTO:+0100
DTSTART:19961027T030000
RRULE:FREQ=YEARLY;BYMONTH=10;BYDAY=-1SU
END:STANDARD
END:VTIMEZONE
BEGIN:VEVENT
DTSTAMP:20260424T084013Z
DTSTART;TZID=Europe/Berlin:20260125T130000
DTEND;TZID=Europe/Berlin:20260125T160000
SUMMARY:OTTV - Gr. 2 Steckborn-Homburg vs Chur II (3)
UID:ea2abb6e-64ca-4c0c-a0ef-9f8c58b06b66
STATUS:CONFIRMED
LAST-MODIFIED:20260126T085751Z
DESCRIPTION:OTTV - Gruppe 2\nBegegnungs-Nr: 3\nHeim: Steckborn-Homburg\nGast: Chur II\n
LOCATION:
CATEGORIES:Saison Suisse Junior Challenge 2025/26
END:VEVENT
BEGIN:VEVENT
DTSTAMP:20260424T084013Z
DTSTART;TZID=Europe/Berlin:20260125T160000
DTEND;TZID=Europe/Berlin:20260125T190000
SUMMARY:OTTV - Gr. 2 Steckborn-Homburg vs Wetzikon III (11)
UID:7685ebe9-05d7-4be0-9d3b-b755549080c0
STATUS:CONFIRMED
LAST-MODIFIED:20260126T085735Z
DESCRIPTION:OTTV - Gruppe 2\nBegegnungs-Nr: 11\nHeim: Steckborn-Homburg\nGast: Wetzikon III\n
LOCATION:
CATEGORIES:Saison Suisse Junior Challenge 2025/26
END:VEVENT
BEGIN:VEVENT
DTSTAMP:20260424T084013Z
DTSTART;TZID=Europe/Berlin:20260125T170000
DTEND;TZID=Europe/Berlin:20260125T200000
SUMMARY:OTTV - Gr. 2 Steckborn-Homburg vs Wetzikon (14)
UID:45e67445-215b-40ce-9d02-7a5b5ce31d83
STATUS:CONFIRMED
LAST-MODIFIED:20260126T085833Z
DESCRIPTION:OTTV - Gruppe 2\nBegegnungs-Nr: 14\nHeim: Steckborn-Homburg\nGast: Wetzikon\n
LOCATION:
CATEGORIES:Saison Suisse Junior Challenge 2025/26
END:VEVENT
BEGIN:VEVENT
DTSTAMP:20260424T084013Z
DTSTART;TZID=Europe/Berlin:20251108T130000
DTEND;TZID=Europe/Berlin:20251108T160000
SUMMARY:OTTV - Gr. 2 Steckborn-Homburg vs Chur II (3)
UID:023be906-b92a-4552-9411-a409ecb72c4a
STATUS:CONFIRMED
LAST-MODIFIED:20251117T131837Z
DESCRIPTION:OTTV - Gruppe 2\nBegegnungs-Nr: 3\nHeim: Steckborn-Homburg\nGast: Chur II\n
LOCATION:
CATEGORIES:Saison Suisse Junior Challenge 2025/26
END:VEVENT
BEGIN:VEVENT
DTSTAMP:20260424T084013Z
DTSTART;TZID=Europe/Berlin:20251108T160000
DTEND;TZID=Europe/Berlin:20251108T190000
SUMMARY:OTTV - Gr. 2 Steckborn-Homburg vs Wetzikon III (11)
UID:4f00da5e-0c01-4b19-8a16-842d336b3f5c
STATUS:CONFIRMED
LAST-MODIFIED:20251117T135903Z
DESCRIPTION:OTTV - Gruppe 2\nBegegnungs-Nr: 11\nHeim: Steckborn-Homburg\nGast: Wetzikon III\n
LOCATION:
CATEGORIES:Saison Suisse Junior Challenge 2025/26
END:VEVENT
BEGIN:VEVENT
DTSTAMP:20260424T084013Z
DTSTART;TZID=Europe/Berlin:20251108T170000
DTEND;TZID=Europe/Berlin:20251108T200000
SUMMARY:OTTV - Gr. 2 Steckborn-Homburg vs Wetzikon (14)
UID:5849a7a0-cfd3-4295-a585-395c0d506f6f
STATUS:CONFIRMED
LAST-MODIFIED:20251117T140346Z
DESCRIPTION:OTTV - Gruppe 2\nBegegnungs-Nr: 14\nHeim: Steckborn-Homburg\nGast: Wetzikon\n
LOCATION:
CATEGORIES:Saison Suisse Junior Challenge 2025/26
END:VEVENT
BEGIN:VEVENT
DTSTAMP:20260424T084013Z
DTSTART;TZID=Europe/Berlin:20260125T183000
DTEND;TZID=Europe/Berlin:20260125T213000
SUMMARY:Spiel um Platz 3 Chur vs Steckborn-Homburg (1)
UID:500bdb75-1142-4ad4-8cf0-a5a88f01a7d6
STATUS:CONFIRMED
LAST-MODIFIED:20260126T085841Z
DESCRIPTION:Spiel um Platz 3\nBegegnungs-Nr: 1\nHeim: Chur\nGast: Steckborn-Homburg\n\nAdresse: Bodmerstrasse 10\, 7000 Chur\n
LOCATION:Bodmerstrasse 10\, 7000 Chur
CATEGORIES:Saison Suisse Junior Challenge 2025/26
END:VEVENT
BEGIN:VEVENT
DTSTAMP:20260424T084013Z
DTSTART;TZID=Europe/Berlin:20260125T140000
DTEND;TZID=Europe/Berlin:20260125T170000
SUMMARY:OTTV - Gr. 2 Zürich-Affoltern III vs Steckborn-Homburg (6)
UID:4fdc6f85-ace5-4349-81fb-119c4837d382
STATUS:CONFIRMED
LAST-MODIFIED:20260121T104324Z
DESCRIPTION:OTTV - Gruppe 2\nBegegnungs-Nr: 6\nHeim: Zürich-Affoltern III\nGast: Steckborn-Homburg\n
LOCATION:
CATEGORIES:Saison Suisse Junior Challenge 2025/26
END:VEVENT
BEGIN:VEVENT
DTSTAMP:20260424T084013Z
DTSTART;TZID=Europe/Berlin:20260125T150000
DTEND;TZID=Europe/Berlin:20260125T180000
SUMMARY:OTTV - Gr. 2 Zürich-Affoltern vs Steckborn-Homburg (7)
UID:d3114bc0-f515-4322-9927-b4e66ecfc82a
STATUS:CONFIRMED
LAST-MODIFIED:20260126T085807Z
DESCRIPTION:OTTV - Gruppe 2\nBegegnungs-Nr: 7\nHeim: Zürich-Affoltern\nGast: Steckborn-Homburg\n
LOCATION:
CATEGORIES:Saison Suisse Junior Challenge 2025/26
END:VEVENT
BEGIN:VEVENT
DTSTAMP:20260424T084013Z
DTSTART;TZID=Europe/Berlin:20251108T140000
DTEND;TZID=Europe/Berlin:20251108T170000
SUMMARY:OTTV - Gr. 2 Zürich-Affoltern III vs Steckborn-Homburg (6)
UID:38ace887-97f1-4487-b48f-1bb3dfc2141a
STATUS:CONFIRMED
LAST-MODIFIED:20251117T135250Z
DESCRIPTION:OTTV - Gruppe 2\nBegegnungs-Nr: 6\nHeim: Zürich-Affoltern III\nGast: Steckborn-Homburg\n
LOCATION:
CATEGORIES:Saison Suisse Junior Challenge 2025/26
END:VEVENT
BEGIN:VEVENT
DTSTAMP:20260424T084013Z
DTSTART;TZID=Europe/Berlin:20251108T150000
DTEND;TZID=Europe/Berlin:20251108T180000
SUMMARY:OTTV - Gr. 2 Zürich-Affoltern vs Steckborn-Homburg (7)
UID:a4ed5521-b14a-472b-b9a4-91421b097a85
STATUS:CONFIRMED
LAST-MODIFIED:20251117T135418Z
DESCRIPTION:OTTV - Gruppe 2\nBegegnungs-Nr: 7\nHeim: Zürich-Affoltern\nGast: Steckborn-Homburg\n
LOCATION:
CATEGORIES:Saison Suisse Junior Challenge 2025/26
END:VEVENT
END:VCALENDAR
