BEGIN:VCALENDAR
PRODID:-//nuDatenautomaten//framework iCal4j //DE
VERSION:2.0
CALSCALE:GREGORIAN
BEGIN:VTIMEZONE
TZID:Europe/Berlin
LAST-MODIFIED:20260306T231828Z
TZURL:https://www.tzurl.org/zoneinfo/Europe/Berlin
X-LIC-LOCATION:Europe/Berlin
X-PROLEPTIC-TZNAME:LMT
BEGIN:STANDARD
TZNAME:CET
TZOFFSETFROM:+005328
TZOFFSETTO:+0100
DTSTART:18930401T000000
END:STANDARD
BEGIN:DAYLIGHT
TZNAME:CEST
TZOFFSETFROM:+0100
TZOFFSETTO:+0200
DTSTART:19160430T230000
RDATE:19400401T020000
RDATE:19430329T020000
RDATE:19460414T020000
RDATE:19470406T030000
RDATE:19480418T020000
RDATE:19490410T020000
RDATE:19800406T020000
END:DAYLIGHT
BEGIN:STANDARD
TZNAME:CET
TZOFFSETFROM:+0200
TZOFFSETTO:+0100
DTSTART:19161001T010000
RDATE:19421102T030000
RDATE:19431004T030000
RDATE:19441002T030000
RDATE:19451118T030000
RDATE:19461007T030000
END:STANDARD
BEGIN:DAYLIGHT
TZNAME:CEST
TZOFFSETFROM:+0100
TZOFFSETTO:+0200
DTSTART:19170416T020000
RRULE:FREQ=YEARLY;UNTIL=19180415T010000Z;BYMONTH=4;BYDAY=3MO
END:DAYLIGHT
BEGIN:STANDARD
TZNAME:CET
TZOFFSETFROM:+0200
TZOFFSETTO:+0100
DTSTART:19170917T030000
RRULE:FREQ=YEARLY;UNTIL=19180916T010000Z;BYMONTH=9;BYDAY=3MO
END:STANDARD
BEGIN:DAYLIGHT
TZNAME:CEST
TZOFFSETFROM:+0100
TZOFFSETTO:+0200
DTSTART:19440403T020000
RRULE:FREQ=YEARLY;UNTIL=19450402T010000Z;BYMONTH=4;BYDAY=1MO
END:DAYLIGHT
BEGIN:DAYLIGHT
TZNAME:CEMT
TZOFFSETFROM:+0200
TZOFFSETTO:+0300
DTSTART:19450524T020000
RDATE:19470511T030000
END:DAYLIGHT
BEGIN:DAYLIGHT
TZNAME:CEST
TZOFFSETFROM:+0300
TZOFFSETTO:+0200
DTSTART:19450924T030000
RDATE:19470629T030000
END:DAYLIGHT
BEGIN:STANDARD
TZNAME:CET
TZOFFSETFROM:+0100
TZOFFSETTO:+0100
DTSTART:19460101T000000
RDATE:19800101T000000
END:STANDARD
BEGIN:STANDARD
TZNAME:CET
TZOFFSETFROM:+0200
TZOFFSETTO:+0100
DTSTART:19471005T030000
RRULE:FREQ=YEARLY;UNTIL=19491002T010000Z;BYMONTH=10;BYDAY=1SU
END:STANDARD
BEGIN:STANDARD
TZNAME:CET
TZOFFSETFROM:+0200
TZOFFSETTO:+0100
DTSTART:19800928T030000
RRULE:FREQ=YEARLY;UNTIL=19950924T010000Z;BYMONTH=9;BYDAY=-1SU
END:STANDARD
BEGIN:DAYLIGHT
TZNAME:CEST
TZOFFSETFROM:+0100
TZOFFSETTO:+0200
DTSTART:19810329T020000
RRULE:FREQ=YEARLY;BYMONTH=3;BYDAY=-1SU
END:DAYLIGHT
BEGIN:STANDARD
TZNAME:CET
TZOFFSETFROM:+0200
TZOFFSETTO:+0100
DTSTART:19961027T030000
RRULE:FREQ=YEARLY;BYMONTH=10;BYDAY=-1SU
END:STANDARD
END:VTIMEZONE
BEGIN:VEVENT
DTSTAMP:20260424T082626Z
DTSTART;TZID=Europe/Berlin:20260125T130000
DTEND;TZID=Europe/Berlin:20260125T160000
SUMMARY:OTTV - Gr. 1 Steckborn-Homburg II vs Affoltern A/A (2)
UID:7a565a60-065c-41b2-8561-55fbaa43edea
STATUS:CONFIRMED
LAST-MODIFIED:20260126T085308Z
DESCRIPTION:OTTV - Gruppe 1\nBegegnungs-Nr: 2\nHeim: Steckborn-Homburg II\nGast: Affoltern A/A\n
LOCATION:
CATEGORIES:Saison Suisse Junior Challenge 2025/26
END:VEVENT
BEGIN:VEVENT
DTSTAMP:20260424T082626Z
DTSTART;TZID=Europe/Berlin:20260125T150000
DTEND;TZID=Europe/Berlin:20260125T180000
SUMMARY:OTTV - Gr. 1 Steckborn-Homburg II vs Chur III (8)
UID:8f429d09-dc09-4421-89f0-745b7efad212
STATUS:CONFIRMED
LAST-MODIFIED:20260126T085619Z
DESCRIPTION:OTTV - Gruppe 1\nBegegnungs-Nr: 8\nHeim: Steckborn-Homburg II\nGast: Chur III\n
LOCATION:
CATEGORIES:Saison Suisse Junior Challenge 2025/26
END:VEVENT
BEGIN:VEVENT
DTSTAMP:20260424T082626Z
DTSTART;TZID=Europe/Berlin:20251108T130000
DTEND;TZID=Europe/Berlin:20251108T160000
SUMMARY:OTTV - Gr. 1 Steckborn-Homburg II vs Affoltern A/A (2)
UID:85279ef9-eaac-49b4-8c87-ef2307741d7d
STATUS:CONFIRMED
LAST-MODIFIED:20251117T110544Z
DESCRIPTION:OTTV - Gruppe 1\nBegegnungs-Nr: 2\nHeim: Steckborn-Homburg II\nGast: Affoltern A/A\n
LOCATION:
CATEGORIES:Saison Suisse Junior Challenge 2025/26
END:VEVENT
BEGIN:VEVENT
DTSTAMP:20260424T082626Z
DTSTART;TZID=Europe/Berlin:20251108T150000
DTEND;TZID=Europe/Berlin:20251108T180000
SUMMARY:OTTV - Gr. 1 Steckborn-Homburg II vs Chur III (8)
UID:1282f775-559e-4349-8363-246998b12211
STATUS:CONFIRMED
LAST-MODIFIED:20251117T120750Z
DESCRIPTION:OTTV - Gruppe 1\nBegegnungs-Nr: 8\nHeim: Steckborn-Homburg II\nGast: Chur III\n
LOCATION:
CATEGORIES:Saison Suisse Junior Challenge 2025/26
END:VEVENT
BEGIN:VEVENT
DTSTAMP:20260424T082626Z
DTSTART;TZID=Europe/Berlin:20260125T140000
DTEND;TZID=Europe/Berlin:20260125T170000
SUMMARY:OTTV - Gr. 1 Zürich-Affoltern II vs Steckborn-Homburg II (5)
UID:7a6bd94a-abad-4695-8145-14a1fa120e0b
STATUS:CONFIRMED
LAST-MODIFIED:20260121T103959Z
DESCRIPTION:OTTV - Gruppe 1\nBegegnungs-Nr: 5\nHeim: Zürich-Affoltern II\nGast: Steckborn-Homburg II\n
LOCATION:
CATEGORIES:Saison Suisse Junior Challenge 2025/26
END:VEVENT
BEGIN:VEVENT
DTSTAMP:20260424T082626Z
DTSTART;TZID=Europe/Berlin:20260125T160000
DTEND;TZID=Europe/Berlin:20260125T190000
SUMMARY:OTTV - Gr. 1 Wetzikon II vs Steckborn-Homburg II (11)
UID:a073d4b9-02dc-44f1-8acc-1631cb23082f
STATUS:CONFIRMED
LAST-MODIFIED:20260126T085628Z
DESCRIPTION:OTTV - Gruppe 1\nBegegnungs-Nr: 11\nHeim: Wetzikon II\nGast: Steckborn-Homburg II\n
LOCATION:
CATEGORIES:Saison Suisse Junior Challenge 2025/26
END:VEVENT
BEGIN:VEVENT
DTSTAMP:20260424T082626Z
DTSTART;TZID=Europe/Berlin:20260125T170000
DTEND;TZID=Europe/Berlin:20260125T200000
SUMMARY:OTTV - Gr. 1 Chur vs Steckborn-Homburg II (13)
UID:d52dfd1f-b523-41d8-971c-39665e1e8de9
STATUS:CONFIRMED
LAST-MODIFIED:20260126T085652Z
DESCRIPTION:OTTV - Gruppe 1\nBegegnungs-Nr: 13\nHeim: Chur\nGast: Steckborn-Homburg II\n
LOCATION:
CATEGORIES:Saison Suisse Junior Challenge 2025/26
END:VEVENT
BEGIN:VEVENT
DTSTAMP:20260424T082626Z
DTSTART;TZID=Europe/Berlin:20251108T140000
DTEND;TZID=Europe/Berlin:20251108T170000
SUMMARY:OTTV - Gr. 1 Zürich-Affoltern II vs Steckborn-Homburg II (5)
UID:0b0580c0-ed72-45ac-b5f0-67b0c05311c0
STATUS:CONFIRMED
LAST-MODIFIED:20251117T112636Z
DESCRIPTION:OTTV - Gruppe 1\nBegegnungs-Nr: 5\nHeim: Zürich-Affoltern II\nGast: Steckborn-Homburg II\n
LOCATION:
CATEGORIES:Saison Suisse Junior Challenge 2025/26
END:VEVENT
BEGIN:VEVENT
DTSTAMP:20260424T082626Z
DTSTART;TZID=Europe/Berlin:20251108T160000
DTEND;TZID=Europe/Berlin:20251108T190000
SUMMARY:OTTV - Gr. 1 Wetzikon II vs Steckborn-Homburg II (11)
UID:d3ca9bf1-a51c-4feb-b4e2-0aeedf2b5c30
STATUS:CONFIRMED
LAST-MODIFIED:20251117T124240Z
DESCRIPTION:OTTV - Gruppe 1\nBegegnungs-Nr: 11\nHeim: Wetzikon II\nGast: Steckborn-Homburg II\n
LOCATION:
CATEGORIES:Saison Suisse Junior Challenge 2025/26
END:VEVENT
BEGIN:VEVENT
DTSTAMP:20260424T082626Z
DTSTART;TZID=Europe/Berlin:20251108T170000
DTEND;TZID=Europe/Berlin:20251108T200000
SUMMARY:OTTV - Gr. 1 Chur vs Steckborn-Homburg II (13)
UID:fac72636-5bce-47c4-bc91-828bbf148aac
STATUS:CONFIRMED
LAST-MODIFIED:20251117T124453Z
DESCRIPTION:OTTV - Gruppe 1\nBegegnungs-Nr: 13\nHeim: Chur\nGast: Steckborn-Homburg II\n
LOCATION:
CATEGORIES:Saison Suisse Junior Challenge 2025/26
END:VEVENT
END:VCALENDAR
