BEGIN:VCALENDAR
PRODID:-//nuDatenautomaten//framework iCal4j //DE
VERSION:2.0
CALSCALE:GREGORIAN
BEGIN:VTIMEZONE
TZID:Europe/Berlin
LAST-MODIFIED:20260306T231828Z
TZURL:https://www.tzurl.org/zoneinfo/Europe/Berlin
X-LIC-LOCATION:Europe/Berlin
X-PROLEPTIC-TZNAME:LMT
BEGIN:STANDARD
TZNAME:CET
TZOFFSETFROM:+005328
TZOFFSETTO:+0100
DTSTART:18930401T000000
END:STANDARD
BEGIN:DAYLIGHT
TZNAME:CEST
TZOFFSETFROM:+0100
TZOFFSETTO:+0200
DTSTART:19160430T230000
RDATE:19400401T020000
RDATE:19430329T020000
RDATE:19460414T020000
RDATE:19470406T030000
RDATE:19480418T020000
RDATE:19490410T020000
RDATE:19800406T020000
END:DAYLIGHT
BEGIN:STANDARD
TZNAME:CET
TZOFFSETFROM:+0200
TZOFFSETTO:+0100
DTSTART:19161001T010000
RDATE:19421102T030000
RDATE:19431004T030000
RDATE:19441002T030000
RDATE:19451118T030000
RDATE:19461007T030000
END:STANDARD
BEGIN:DAYLIGHT
TZNAME:CEST
TZOFFSETFROM:+0100
TZOFFSETTO:+0200
DTSTART:19170416T020000
RRULE:FREQ=YEARLY;UNTIL=19180415T010000Z;BYMONTH=4;BYDAY=3MO
END:DAYLIGHT
BEGIN:STANDARD
TZNAME:CET
TZOFFSETFROM:+0200
TZOFFSETTO:+0100
DTSTART:19170917T030000
RRULE:FREQ=YEARLY;UNTIL=19180916T010000Z;BYMONTH=9;BYDAY=3MO
END:STANDARD
BEGIN:DAYLIGHT
TZNAME:CEST
TZOFFSETFROM:+0100
TZOFFSETTO:+0200
DTSTART:19440403T020000
RRULE:FREQ=YEARLY;UNTIL=19450402T010000Z;BYMONTH=4;BYDAY=1MO
END:DAYLIGHT
BEGIN:DAYLIGHT
TZNAME:CEMT
TZOFFSETFROM:+0200
TZOFFSETTO:+0300
DTSTART:19450524T020000
RDATE:19470511T030000
END:DAYLIGHT
BEGIN:DAYLIGHT
TZNAME:CEST
TZOFFSETFROM:+0300
TZOFFSETTO:+0200
DTSTART:19450924T030000
RDATE:19470629T030000
END:DAYLIGHT
BEGIN:STANDARD
TZNAME:CET
TZOFFSETFROM:+0100
TZOFFSETTO:+0100
DTSTART:19460101T000000
RDATE:19800101T000000
END:STANDARD
BEGIN:STANDARD
TZNAME:CET
TZOFFSETFROM:+0200
TZOFFSETTO:+0100
DTSTART:19471005T030000
RRULE:FREQ=YEARLY;UNTIL=19491002T010000Z;BYMONTH=10;BYDAY=1SU
END:STANDARD
BEGIN:STANDARD
TZNAME:CET
TZOFFSETFROM:+0200
TZOFFSETTO:+0100
DTSTART:19800928T030000
RRULE:FREQ=YEARLY;UNTIL=19950924T010000Z;BYMONTH=9;BYDAY=-1SU
END:STANDARD
BEGIN:DAYLIGHT
TZNAME:CEST
TZOFFSETFROM:+0100
TZOFFSETTO:+0200
DTSTART:19810329T020000
RRULE:FREQ=YEARLY;BYMONTH=3;BYDAY=-1SU
END:DAYLIGHT
BEGIN:STANDARD
TZNAME:CET
TZOFFSETFROM:+0200
TZOFFSETTO:+0100
DTSTART:19961027T030000
RRULE:FREQ=YEARLY;BYMONTH=10;BYDAY=-1SU
END:STANDARD
END:VTIMEZONE
BEGIN:VEVENT
DTSTAMP:20260424T063718Z
DTSTART;TZID=Europe/Berlin:20260125T160000
DTEND;TZID=Europe/Berlin:20260125T190000
SUMMARY:OTTV - Gr. 2 Zürich-Affoltern III vs Wetzikon (12)
UID:ef874521-653c-49e4-bd2c-c720dd992b63
STATUS:CONFIRMED
LAST-MODIFIED:20260121T104805Z
DESCRIPTION:OTTV - Gruppe 2\nBegegnungs-Nr: 12\nHeim: Zürich-Affoltern III\nGast: Wetzikon\n
LOCATION:
CATEGORIES:Saison Suisse Junior Challenge 2025/26
END:VEVENT
BEGIN:VEVENT
DTSTAMP:20260424T063718Z
DTSTART;TZID=Europe/Berlin:20260125T140000
DTEND;TZID=Europe/Berlin:20260125T170000
SUMMARY:OTTV - Gr. 2 Zürich-Affoltern III vs Steckborn-Homburg (6)
UID:4fdc6f85-ace5-4349-81fb-119c4837d382
STATUS:CONFIRMED
LAST-MODIFIED:20260121T104324Z
DESCRIPTION:OTTV - Gruppe 2\nBegegnungs-Nr: 6\nHeim: Zürich-Affoltern III\nGast: Steckborn-Homburg\n
LOCATION:
CATEGORIES:Saison Suisse Junior Challenge 2025/26
END:VEVENT
BEGIN:VEVENT
DTSTAMP:20260424T063718Z
DTSTART;TZID=Europe/Berlin:20260125T170000
DTEND;TZID=Europe/Berlin:20260125T200000
SUMMARY:OTTV - Gr. 2 Zürich-Affoltern III vs Chur II (15)
UID:af0f0914-3389-40b3-a38a-3a74ceb2fa99
STATUS:CONFIRMED
LAST-MODIFIED:20260121T104413Z
DESCRIPTION:OTTV - Gruppe 2\nBegegnungs-Nr: 15\nHeim: Zürich-Affoltern III\nGast: Chur II\n
LOCATION:
CATEGORIES:Saison Suisse Junior Challenge 2025/26
END:VEVENT
BEGIN:VEVENT
DTSTAMP:20260424T063718Z
DTSTART;TZID=Europe/Berlin:20251108T140000
DTEND;TZID=Europe/Berlin:20251108T170000
SUMMARY:OTTV - Gr. 2 Zürich-Affoltern III vs Steckborn-Homburg (6)
UID:38ace887-97f1-4487-b48f-1bb3dfc2141a
STATUS:CONFIRMED
LAST-MODIFIED:20251117T135250Z
DESCRIPTION:OTTV - Gruppe 2\nBegegnungs-Nr: 6\nHeim: Zürich-Affoltern III\nGast: Steckborn-Homburg\n
LOCATION:
CATEGORIES:Saison Suisse Junior Challenge 2025/26
END:VEVENT
BEGIN:VEVENT
DTSTAMP:20260424T063718Z
DTSTART;TZID=Europe/Berlin:20251108T170000
DTEND;TZID=Europe/Berlin:20251108T200000
SUMMARY:OTTV - Gr. 2 Zürich-Affoltern III vs Chur II (15)
UID:f3b060fb-57d7-40d9-8b66-b4d49a3e6768
STATUS:CONFIRMED
LAST-MODIFIED:20251117T140444Z
DESCRIPTION:OTTV - Gruppe 2\nBegegnungs-Nr: 15\nHeim: Zürich-Affoltern III\nGast: Chur II\n
LOCATION:
CATEGORIES:Saison Suisse Junior Challenge 2025/26
END:VEVENT
BEGIN:VEVENT
DTSTAMP:20260424T063718Z
DTSTART;TZID=Europe/Berlin:20251108T160000
DTEND;TZID=Europe/Berlin:20251108T190000
SUMMARY:OTTV - Gr. 2 Zürich-Affoltern III vs Wetzikon (12)
UID:fb63c04b-facc-4f5e-9c4a-19948ba1301d
STATUS:CONFIRMED
LAST-MODIFIED:20251117T140007Z
DESCRIPTION:OTTV - Gruppe 2\nBegegnungs-Nr: 12\nHeim: Zürich-Affoltern III\nGast: Wetzikon\n
LOCATION:
CATEGORIES:Saison Suisse Junior Challenge 2025/26
END:VEVENT
BEGIN:VEVENT
DTSTAMP:20260424T063718Z
DTSTART;TZID=Europe/Berlin:20260125T130000
DTEND;TZID=Europe/Berlin:20260125T160000
SUMMARY:OTTV - Gr. 2 Zürich-Affoltern vs Zürich-Affoltern III (1)
UID:32003be2-5835-4d4d-993a-41e19a73cd04
STATUS:CONFIRMED
LAST-MODIFIED:20260121T104306Z
DESCRIPTION:OTTV - Gruppe 2\nBegegnungs-Nr: 1\nHeim: Zürich-Affoltern\nGast: Zürich-Affoltern III\n
LOCATION:
CATEGORIES:Saison Suisse Junior Challenge 2025/26
END:VEVENT
BEGIN:VEVENT
DTSTAMP:20260424T063718Z
DTSTART;TZID=Europe/Berlin:20260125T150000
DTEND;TZID=Europe/Berlin:20260125T180000
SUMMARY:OTTV - Gr. 2 Wetzikon III vs Zürich-Affoltern III (8)
UID:41979984-faf1-4e37-bbf5-43922e70be54
STATUS:CONFIRMED
LAST-MODIFIED:20260121T104337Z
DESCRIPTION:OTTV - Gruppe 2\nBegegnungs-Nr: 8\nHeim: Wetzikon III\nGast: Zürich-Affoltern III\n
LOCATION:
CATEGORIES:Saison Suisse Junior Challenge 2025/26
END:VEVENT
BEGIN:VEVENT
DTSTAMP:20260424T063718Z
DTSTART;TZID=Europe/Berlin:20251108T150000
DTEND;TZID=Europe/Berlin:20251108T180000
SUMMARY:OTTV - Gr. 2 Wetzikon III vs Zürich-Affoltern III (8)
UID:3fae5f6e-2a0b-4cbf-aba3-4c246ca818ff
STATUS:CONFIRMED
LAST-MODIFIED:20251117T135519Z
DESCRIPTION:OTTV - Gruppe 2\nBegegnungs-Nr: 8\nHeim: Wetzikon III\nGast: Zürich-Affoltern III\n
LOCATION:
CATEGORIES:Saison Suisse Junior Challenge 2025/26
END:VEVENT
BEGIN:VEVENT
DTSTAMP:20260424T063718Z
DTSTART;TZID=Europe/Berlin:20251108T130000
DTEND;TZID=Europe/Berlin:20251108T160000
SUMMARY:OTTV - Gr. 2 Zürich-Affoltern vs Zürich-Affoltern III (1)
UID:076903cb-a8cf-4332-8e13-005f3bba4c26
STATUS:CONFIRMED
LAST-MODIFIED:20251117T130041Z
DESCRIPTION:OTTV - Gruppe 2\nBegegnungs-Nr: 1\nHeim: Zürich-Affoltern\nGast: Zürich-Affoltern III\n
LOCATION:
CATEGORIES:Saison Suisse Junior Challenge 2025/26
END:VEVENT
END:VCALENDAR
