BEGIN:VCALENDAR
PRODID:-//nuDatenautomaten//framework iCal4j //DE
VERSION:2.0
CALSCALE:GREGORIAN
BEGIN:VTIMEZONE
TZID:Europe/Berlin
LAST-MODIFIED:20260306T231828Z
TZURL:https://www.tzurl.org/zoneinfo/Europe/Berlin
X-LIC-LOCATION:Europe/Berlin
X-PROLEPTIC-TZNAME:LMT
BEGIN:STANDARD
TZNAME:CET
TZOFFSETFROM:+005328
TZOFFSETTO:+0100
DTSTART:18930401T000000
END:STANDARD
BEGIN:DAYLIGHT
TZNAME:CEST
TZOFFSETFROM:+0100
TZOFFSETTO:+0200
DTSTART:19160430T230000
RDATE:19400401T020000
RDATE:19430329T020000
RDATE:19460414T020000
RDATE:19470406T030000
RDATE:19480418T020000
RDATE:19490410T020000
RDATE:19800406T020000
END:DAYLIGHT
BEGIN:STANDARD
TZNAME:CET
TZOFFSETFROM:+0200
TZOFFSETTO:+0100
DTSTART:19161001T010000
RDATE:19421102T030000
RDATE:19431004T030000
RDATE:19441002T030000
RDATE:19451118T030000
RDATE:19461007T030000
END:STANDARD
BEGIN:DAYLIGHT
TZNAME:CEST
TZOFFSETFROM:+0100
TZOFFSETTO:+0200
DTSTART:19170416T020000
RRULE:FREQ=YEARLY;UNTIL=19180415T010000Z;BYMONTH=4;BYDAY=3MO
END:DAYLIGHT
BEGIN:STANDARD
TZNAME:CET
TZOFFSETFROM:+0200
TZOFFSETTO:+0100
DTSTART:19170917T030000
RRULE:FREQ=YEARLY;UNTIL=19180916T010000Z;BYMONTH=9;BYDAY=3MO
END:STANDARD
BEGIN:DAYLIGHT
TZNAME:CEST
TZOFFSETFROM:+0100
TZOFFSETTO:+0200
DTSTART:19440403T020000
RRULE:FREQ=YEARLY;UNTIL=19450402T010000Z;BYMONTH=4;BYDAY=1MO
END:DAYLIGHT
BEGIN:DAYLIGHT
TZNAME:CEMT
TZOFFSETFROM:+0200
TZOFFSETTO:+0300
DTSTART:19450524T020000
RDATE:19470511T030000
END:DAYLIGHT
BEGIN:DAYLIGHT
TZNAME:CEST
TZOFFSETFROM:+0300
TZOFFSETTO:+0200
DTSTART:19450924T030000
RDATE:19470629T030000
END:DAYLIGHT
BEGIN:STANDARD
TZNAME:CET
TZOFFSETFROM:+0100
TZOFFSETTO:+0100
DTSTART:19460101T000000
RDATE:19800101T000000
END:STANDARD
BEGIN:STANDARD
TZNAME:CET
TZOFFSETFROM:+0200
TZOFFSETTO:+0100
DTSTART:19471005T030000
RRULE:FREQ=YEARLY;UNTIL=19491002T010000Z;BYMONTH=10;BYDAY=1SU
END:STANDARD
BEGIN:STANDARD
TZNAME:CET
TZOFFSETFROM:+0200
TZOFFSETTO:+0100
DTSTART:19800928T030000
RRULE:FREQ=YEARLY;UNTIL=19950924T010000Z;BYMONTH=9;BYDAY=-1SU
END:STANDARD
BEGIN:DAYLIGHT
TZNAME:CEST
TZOFFSETFROM:+0100
TZOFFSETTO:+0200
DTSTART:19810329T020000
RRULE:FREQ=YEARLY;BYMONTH=3;BYDAY=-1SU
END:DAYLIGHT
BEGIN:STANDARD
TZNAME:CET
TZOFFSETFROM:+0200
TZOFFSETTO:+0100
DTSTART:19961027T030000
RRULE:FREQ=YEARLY;BYMONTH=10;BYDAY=-1SU
END:STANDARD
END:VTIMEZONE
BEGIN:VEVENT
DTSTAMP:20260424T063714Z
DTSTART;TZID=Europe/Berlin:20260125T183000
DTEND;TZID=Europe/Berlin:20260125T213000
SUMMARY:Spiel um Platz 3 Chur vs Steckborn-Homburg (1)
UID:500bdb75-1142-4ad4-8cf0-a5a88f01a7d6
STATUS:CONFIRMED
LAST-MODIFIED:20260126T085841Z
DESCRIPTION:Spiel um Platz 3\nBegegnungs-Nr: 1\nHeim: Chur\nGast: Steckborn-Homburg\n\nAdresse: Bodmerstrasse 10\, 7000 Chur\n
LOCATION:Bodmerstrasse 10\, 7000 Chur
CATEGORIES:Saison Suisse Junior Challenge 2025/26
END:VEVENT
BEGIN:VEVENT
DTSTAMP:20260424T063714Z
DTSTART;TZID=Europe/Berlin:20260125T130000
DTEND;TZID=Europe/Berlin:20260125T160000
SUMMARY:OTTV - Gr. 1 Chur vs Chur III (1)
UID:553cd6a9-796e-4be6-a8d1-5fb4c2b38165
STATUS:CONFIRMED
LAST-MODIFIED:20260126T085259Z
DESCRIPTION:OTTV - Gruppe 1\nBegegnungs-Nr: 1\nHeim: Chur\nGast: Chur III\n
LOCATION:
CATEGORIES:Saison Suisse Junior Challenge 2025/26
END:VEVENT
BEGIN:VEVENT
DTSTAMP:20260424T063714Z
DTSTART;TZID=Europe/Berlin:20260125T150000
DTEND;TZID=Europe/Berlin:20260125T180000
SUMMARY:OTTV - Gr. 1 Chur vs Wetzikon II (7)
UID:85c41298-b642-4354-b4f0-8d7ddf4cb23e
STATUS:CONFIRMED
LAST-MODIFIED:20260126T085334Z
DESCRIPTION:OTTV - Gruppe 1\nBegegnungs-Nr: 7\nHeim: Chur\nGast: Wetzikon II\n
LOCATION:
CATEGORIES:Saison Suisse Junior Challenge 2025/26
END:VEVENT
BEGIN:VEVENT
DTSTAMP:20260424T063714Z
DTSTART;TZID=Europe/Berlin:20260125T170000
DTEND;TZID=Europe/Berlin:20260125T200000
SUMMARY:OTTV - Gr. 1 Chur vs Steckborn-Homburg II (13)
UID:d52dfd1f-b523-41d8-971c-39665e1e8de9
STATUS:CONFIRMED
LAST-MODIFIED:20260126T085652Z
DESCRIPTION:OTTV - Gruppe 1\nBegegnungs-Nr: 13\nHeim: Chur\nGast: Steckborn-Homburg II\n
LOCATION:
CATEGORIES:Saison Suisse Junior Challenge 2025/26
END:VEVENT
BEGIN:VEVENT
DTSTAMP:20260424T063714Z
DTSTART;TZID=Europe/Berlin:20251108T150000
DTEND;TZID=Europe/Berlin:20251108T180000
SUMMARY:OTTV - Gr. 1 Chur vs Wetzikon II (7)
UID:bf8031ea-65a2-43f1-bca9-8b3a50c15ef0
STATUS:CONFIRMED
LAST-MODIFIED:20251117T114007Z
DESCRIPTION:OTTV - Gruppe 1\nBegegnungs-Nr: 7\nHeim: Chur\nGast: Wetzikon II\n
LOCATION:
CATEGORIES:Saison Suisse Junior Challenge 2025/26
END:VEVENT
BEGIN:VEVENT
DTSTAMP:20260424T063714Z
DTSTART;TZID=Europe/Berlin:20251108T130000
DTEND;TZID=Europe/Berlin:20251108T160000
SUMMARY:OTTV - Gr. 1 Chur vs Chur III (1)
UID:04f3ecc6-e426-4de7-9c17-35574c9105a6
STATUS:CONFIRMED
LAST-MODIFIED:20251117T110007Z
DESCRIPTION:OTTV - Gruppe 1\nBegegnungs-Nr: 1\nHeim: Chur\nGast: Chur III\n
LOCATION:
CATEGORIES:Saison Suisse Junior Challenge 2025/26
END:VEVENT
BEGIN:VEVENT
DTSTAMP:20260424T063714Z
DTSTART;TZID=Europe/Berlin:20251108T170000
DTEND;TZID=Europe/Berlin:20251108T200000
SUMMARY:OTTV - Gr. 1 Chur vs Steckborn-Homburg II (13)
UID:fac72636-5bce-47c4-bc91-828bbf148aac
STATUS:CONFIRMED
LAST-MODIFIED:20251117T124453Z
DESCRIPTION:OTTV - Gruppe 1\nBegegnungs-Nr: 13\nHeim: Chur\nGast: Steckborn-Homburg II\n
LOCATION:
CATEGORIES:Saison Suisse Junior Challenge 2025/26
END:VEVENT
BEGIN:VEVENT
DTSTAMP:20260424T063714Z
DTSTART;TZID=Europe/Berlin:20260125T140000
DTEND;TZID=Europe/Berlin:20260125T170000
SUMMARY:OTTV - Gr. 1 Affoltern A/A vs Chur (4)
UID:d0947e67-a3f3-411b-a974-f877e9bc8a5c
STATUS:CONFIRMED
LAST-MODIFIED:20260126T085316Z
DESCRIPTION:OTTV - Gruppe 1\nBegegnungs-Nr: 4\nHeim: Affoltern A/A\nGast: Chur\n
LOCATION:
CATEGORIES:Saison Suisse Junior Challenge 2025/26
END:VEVENT
BEGIN:VEVENT
DTSTAMP:20260424T063714Z
DTSTART;TZID=Europe/Berlin:20260125T160000
DTEND;TZID=Europe/Berlin:20260125T190000
SUMMARY:OTTV - Gr. 1 Zürich-Affoltern II vs Chur (10)
UID:4a2b049c-579a-497f-8f20-96d85f16aeaa
STATUS:CONFIRMED
LAST-MODIFIED:20260121T104220Z
DESCRIPTION:OTTV - Gruppe 1\nBegegnungs-Nr: 10\nHeim: Zürich-Affoltern II\nGast: Chur\n
LOCATION:
CATEGORIES:Saison Suisse Junior Challenge 2025/26
END:VEVENT
BEGIN:VEVENT
DTSTAMP:20260424T063714Z
DTSTART;TZID=Europe/Berlin:20251108T140000
DTEND;TZID=Europe/Berlin:20251108T170000
SUMMARY:OTTV - Gr. 1 Affoltern A/A vs Chur (4)
UID:7354855d-304c-4677-ad91-983ff3852873
STATUS:CONFIRMED
LAST-MODIFIED:20251117T112438Z
DESCRIPTION:OTTV - Gruppe 1\nBegegnungs-Nr: 4\nHeim: Affoltern A/A\nGast: Chur\n
LOCATION:
CATEGORIES:Saison Suisse Junior Challenge 2025/26
END:VEVENT
BEGIN:VEVENT
DTSTAMP:20260424T063714Z
DTSTART;TZID=Europe/Berlin:20251108T160000
DTEND;TZID=Europe/Berlin:20251108T190000
SUMMARY:OTTV - Gr. 1 Zürich-Affoltern II vs Chur (10)
UID:833a0db3-fc62-4929-bb71-04b5143f1e91
STATUS:CONFIRMED
LAST-MODIFIED:20251117T124005Z
DESCRIPTION:OTTV - Gruppe 1\nBegegnungs-Nr: 10\nHeim: Zürich-Affoltern II\nGast: Chur\n
LOCATION:
CATEGORIES:Saison Suisse Junior Challenge 2025/26
END:VEVENT
END:VCALENDAR
