BEGIN:VCALENDAR
PRODID:-//nuDatenautomaten//framework iCal4j //DE
VERSION:2.0
CALSCALE:GREGORIAN
BEGIN:VTIMEZONE
TZID:Europe/Berlin
LAST-MODIFIED:20260306T231828Z
TZURL:https://www.tzurl.org/zoneinfo/Europe/Berlin
X-LIC-LOCATION:Europe/Berlin
X-PROLEPTIC-TZNAME:LMT
BEGIN:STANDARD
TZNAME:CET
TZOFFSETFROM:+005328
TZOFFSETTO:+0100
DTSTART:18930401T000000
END:STANDARD
BEGIN:DAYLIGHT
TZNAME:CEST
TZOFFSETFROM:+0100
TZOFFSETTO:+0200
DTSTART:19160430T230000
RDATE:19400401T020000
RDATE:19430329T020000
RDATE:19460414T020000
RDATE:19470406T030000
RDATE:19480418T020000
RDATE:19490410T020000
RDATE:19800406T020000
END:DAYLIGHT
BEGIN:STANDARD
TZNAME:CET
TZOFFSETFROM:+0200
TZOFFSETTO:+0100
DTSTART:19161001T010000
RDATE:19421102T030000
RDATE:19431004T030000
RDATE:19441002T030000
RDATE:19451118T030000
RDATE:19461007T030000
END:STANDARD
BEGIN:DAYLIGHT
TZNAME:CEST
TZOFFSETFROM:+0100
TZOFFSETTO:+0200
DTSTART:19170416T020000
RRULE:FREQ=YEARLY;UNTIL=19180415T010000Z;BYMONTH=4;BYDAY=3MO
END:DAYLIGHT
BEGIN:STANDARD
TZNAME:CET
TZOFFSETFROM:+0200
TZOFFSETTO:+0100
DTSTART:19170917T030000
RRULE:FREQ=YEARLY;UNTIL=19180916T010000Z;BYMONTH=9;BYDAY=3MO
END:STANDARD
BEGIN:DAYLIGHT
TZNAME:CEST
TZOFFSETFROM:+0100
TZOFFSETTO:+0200
DTSTART:19440403T020000
RRULE:FREQ=YEARLY;UNTIL=19450402T010000Z;BYMONTH=4;BYDAY=1MO
END:DAYLIGHT
BEGIN:DAYLIGHT
TZNAME:CEMT
TZOFFSETFROM:+0200
TZOFFSETTO:+0300
DTSTART:19450524T020000
RDATE:19470511T030000
END:DAYLIGHT
BEGIN:DAYLIGHT
TZNAME:CEST
TZOFFSETFROM:+0300
TZOFFSETTO:+0200
DTSTART:19450924T030000
RDATE:19470629T030000
END:DAYLIGHT
BEGIN:STANDARD
TZNAME:CET
TZOFFSETFROM:+0100
TZOFFSETTO:+0100
DTSTART:19460101T000000
RDATE:19800101T000000
END:STANDARD
BEGIN:STANDARD
TZNAME:CET
TZOFFSETFROM:+0200
TZOFFSETTO:+0100
DTSTART:19471005T030000
RRULE:FREQ=YEARLY;UNTIL=19491002T010000Z;BYMONTH=10;BYDAY=1SU
END:STANDARD
BEGIN:STANDARD
TZNAME:CET
TZOFFSETFROM:+0200
TZOFFSETTO:+0100
DTSTART:19800928T030000
RRULE:FREQ=YEARLY;UNTIL=19950924T010000Z;BYMONTH=9;BYDAY=-1SU
END:STANDARD
BEGIN:DAYLIGHT
TZNAME:CEST
TZOFFSETFROM:+0100
TZOFFSETTO:+0200
DTSTART:19810329T020000
RRULE:FREQ=YEARLY;BYMONTH=3;BYDAY=-1SU
END:DAYLIGHT
BEGIN:STANDARD
TZNAME:CET
TZOFFSETFROM:+0200
TZOFFSETTO:+0100
DTSTART:19961027T030000
RRULE:FREQ=YEARLY;BYMONTH=10;BYDAY=-1SU
END:STANDARD
END:VTIMEZONE
BEGIN:VEVENT
DTSTAMP:20260424T120259Z
DTSTART;TZID=Europe/Berlin:20251213T150000
DTEND;TZID=Europe/Berlin:20251213T180000
SUMMARY:JUG 2. SK Solothurn vs Münsingen (10)
UID:676d9f00-89cd-489e-bf19-3f0d03b6edef
STATUS:CONFIRMED
LAST-MODIFIED:20251216T121132Z
DESCRIPTION:Jugend 2. Stärkeklasse\nBegegnungs-Nr: 10\nHeim: Solothurn\nGast: Münsingen\n
LOCATION:
CATEGORIES:Saison 2025/26
END:VEVENT
BEGIN:VEVENT
DTSTAMP:20260424T120259Z
DTSTART;TZID=Europe/Berlin:20251108T090000
DTEND;TZID=Europe/Berlin:20251108T120000
SUMMARY:JUG 2. SK Solothurn vs Ostermundigen II (2)
UID:b82e6897-0d79-45ab-ad27-754c1b71e3c0
STATUS:CONFIRMED
LAST-MODIFIED:20251115T172458Z
DESCRIPTION:Jugend 2. Stärkeklasse\nBegegnungs-Nr: 2\nHeim: Solothurn\nGast: Ostermundigen II\n
LOCATION:
CATEGORIES:Saison 2025/26
END:VEVENT
BEGIN:VEVENT
DTSTAMP:20260424T120259Z
DTSTART;TZID=Europe/Berlin:20251213T133000
DTEND;TZID=Europe/Berlin:20251213T163000
SUMMARY:JUG 2. SK Solothurn vs Köniz (8)
UID:3d2dae7c-8b92-40b0-9c8b-5cf2aabc96fc
STATUS:CONFIRMED
LAST-MODIFIED:20251216T121114Z
DESCRIPTION:Jugend 2. Stärkeklasse\nBegegnungs-Nr: 8\nHeim: Solothurn\nGast: Köniz\n
LOCATION:
CATEGORIES:Saison 2025/26
END:VEVENT
BEGIN:VEVENT
DTSTAMP:20260424T120259Z
DTSTART;TZID=Europe/Berlin:20260314T143000
DTEND;TZID=Europe/Berlin:20260314T173000
SUMMARY:JUG 2. SK Solothurn vs Bern II (5)
UID:5eb64dc2-7da8-4942-b38d-f3615e2c2afa
STATUS:CONFIRMED
LAST-MODIFIED:20260315T230746Z
DESCRIPTION:Jugend 2. Stärkeklasse\nBegegnungs-Nr: 5\nHeim: Solothurn\nGast: Bern II\n
LOCATION:
CATEGORIES:Saison 2025/26
END:VEVENT
BEGIN:VEVENT
DTSTAMP:20260424T120259Z
DTSTART;TZID=Europe/Berlin:20251108T120000
DTEND;TZID=Europe/Berlin:20251108T150000
SUMMARY:JUG 2. SK Bern II vs Solothurn (5)
UID:4847c534-c48f-4132-a9ba-26c66d6ec9bf
STATUS:CONFIRMED
LAST-MODIFIED:20251115T172550Z
DESCRIPTION:Jugend 2. Stärkeklasse\nBegegnungs-Nr: 5\nHeim: Bern II\nGast: Solothurn\n
LOCATION:
CATEGORIES:Saison 2025/26
END:VEVENT
BEGIN:VEVENT
DTSTAMP:20260424T120259Z
DTSTART;TZID=Europe/Berlin:20260314T160000
DTEND;TZID=Europe/Berlin:20260314T190000
SUMMARY:JUG 2. SK Köniz vs Solothurn (8)
UID:18ad03e3-5ee1-46d0-a43f-d2f54944eeae
STATUS:CONFIRMED
LAST-MODIFIED:20260315T230928Z
DESCRIPTION:Jugend 2. Stärkeklasse\nBegegnungs-Nr: 8\nHeim: Köniz\nGast: Solothurn\n
LOCATION:
CATEGORIES:Saison 2025/26
END:VEVENT
BEGIN:VEVENT
DTSTAMP:20260424T120259Z
DTSTART;TZID=Europe/Berlin:20260327T200000
DTEND;TZID=Europe/Berlin:20260327T230000
SUMMARY:JUG 2. SK Münsingen vs Solothurn (10)
UID:559e12e0-7ec6-42f4-b65c-b5e51877a916
STATUS:CONFIRMED
LAST-MODIFIED:20260324T094239Z
DESCRIPTION:Jugend 2. Stärkeklasse\nBegegnungs-Nr: 10\nHeim: Münsingen\nGast: Solothurn\n\nAdresse: Turnhallenweg 8\, 3110 Münsingen\n
LOCATION:Turnhallenweg 8\, 3110 Münsingen
CATEGORIES:Saison 2025/26
END:VEVENT
BEGIN:VEVENT
DTSTAMP:20260424T120259Z
DTSTART;TZID=Europe/Berlin:20251213T163000
DTEND;TZID=Europe/Berlin:20251213T193000
SUMMARY:JUG 2. SK Ostermundigen II vs Solothurn (2)
UID:a1d05179-29fa-44b2-b2d9-b4bc8934132a
STATUS:CONFIRMED
LAST-MODIFIED:20251216T121149Z
DESCRIPTION:Jugend 2. Stärkeklasse\nBegegnungs-Nr: 2\nHeim: Ostermundigen II\nGast: Solothurn\n
LOCATION:
CATEGORIES:Saison 2025/26
END:VEVENT
END:VCALENDAR
