BEGIN:VCALENDAR
PRODID:-//nuDatenautomaten//framework iCal4j //DE
VERSION:2.0
CALSCALE:GREGORIAN
BEGIN:VTIMEZONE
TZID:Europe/Berlin
LAST-MODIFIED:20260306T231828Z
TZURL:https://www.tzurl.org/zoneinfo/Europe/Berlin
X-LIC-LOCATION:Europe/Berlin
X-PROLEPTIC-TZNAME:LMT
BEGIN:STANDARD
TZNAME:CET
TZOFFSETFROM:+005328
TZOFFSETTO:+0100
DTSTART:18930401T000000
END:STANDARD
BEGIN:DAYLIGHT
TZNAME:CEST
TZOFFSETFROM:+0100
TZOFFSETTO:+0200
DTSTART:19160430T230000
RDATE:19400401T020000
RDATE:19430329T020000
RDATE:19460414T020000
RDATE:19470406T030000
RDATE:19480418T020000
RDATE:19490410T020000
RDATE:19800406T020000
END:DAYLIGHT
BEGIN:STANDARD
TZNAME:CET
TZOFFSETFROM:+0200
TZOFFSETTO:+0100
DTSTART:19161001T010000
RDATE:19421102T030000
RDATE:19431004T030000
RDATE:19441002T030000
RDATE:19451118T030000
RDATE:19461007T030000
END:STANDARD
BEGIN:DAYLIGHT
TZNAME:CEST
TZOFFSETFROM:+0100
TZOFFSETTO:+0200
DTSTART:19170416T020000
RRULE:FREQ=YEARLY;UNTIL=19180415T010000Z;BYMONTH=4;BYDAY=3MO
END:DAYLIGHT
BEGIN:STANDARD
TZNAME:CET
TZOFFSETFROM:+0200
TZOFFSETTO:+0100
DTSTART:19170917T030000
RRULE:FREQ=YEARLY;UNTIL=19180916T010000Z;BYMONTH=9;BYDAY=3MO
END:STANDARD
BEGIN:DAYLIGHT
TZNAME:CEST
TZOFFSETFROM:+0100
TZOFFSETTO:+0200
DTSTART:19440403T020000
RRULE:FREQ=YEARLY;UNTIL=19450402T010000Z;BYMONTH=4;BYDAY=1MO
END:DAYLIGHT
BEGIN:DAYLIGHT
TZNAME:CEMT
TZOFFSETFROM:+0200
TZOFFSETTO:+0300
DTSTART:19450524T020000
RDATE:19470511T030000
END:DAYLIGHT
BEGIN:DAYLIGHT
TZNAME:CEST
TZOFFSETFROM:+0300
TZOFFSETTO:+0200
DTSTART:19450924T030000
RDATE:19470629T030000
END:DAYLIGHT
BEGIN:STANDARD
TZNAME:CET
TZOFFSETFROM:+0100
TZOFFSETTO:+0100
DTSTART:19460101T000000
RDATE:19800101T000000
END:STANDARD
BEGIN:STANDARD
TZNAME:CET
TZOFFSETFROM:+0200
TZOFFSETTO:+0100
DTSTART:19471005T030000
RRULE:FREQ=YEARLY;UNTIL=19491002T010000Z;BYMONTH=10;BYDAY=1SU
END:STANDARD
BEGIN:STANDARD
TZNAME:CET
TZOFFSETFROM:+0200
TZOFFSETTO:+0100
DTSTART:19800928T030000
RRULE:FREQ=YEARLY;UNTIL=19950924T010000Z;BYMONTH=9;BYDAY=-1SU
END:STANDARD
BEGIN:DAYLIGHT
TZNAME:CEST
TZOFFSETFROM:+0100
TZOFFSETTO:+0200
DTSTART:19810329T020000
RRULE:FREQ=YEARLY;BYMONTH=3;BYDAY=-1SU
END:DAYLIGHT
BEGIN:STANDARD
TZNAME:CET
TZOFFSETFROM:+0200
TZOFFSETTO:+0100
DTSTART:19961027T030000
RRULE:FREQ=YEARLY;BYMONTH=10;BYDAY=-1SU
END:STANDARD
END:VTIMEZONE
BEGIN:VEVENT
DTSTAMP:20260424T122854Z
DTSTART;TZID=Europe/Berlin:20251101T134500
DTEND;TZID=Europe/Berlin:20251101T164500
SUMMARY:JUG 3. SK Gr. 3 Burgdorf II vs Kirchberg (3)
UID:72998eea-8ac4-48ca-a1c0-34c2fb8a55f0
STATUS:CONFIRMED
LAST-MODIFIED:20251111T072420Z
DESCRIPTION:Jugend 3. Stärkeklasse Gruppe 3\nBegegnungs-Nr: 3\nHeim: Burgdorf II\nGast: Kirchberg\n
LOCATION:
CATEGORIES:Saison 2025/26
END:VEVENT
BEGIN:VEVENT
DTSTAMP:20260424T122854Z
DTSTART;TZID=Europe/Berlin:20260404T000000
DTEND;TZID=Europe/Berlin:20260404T030000
SUMMARY:JUG 3. SK Gr. 3 Burgdorf II vs Lyss II (14)
UID:3cf68c41-1b40-464c-a19c-de1bfcecb672
STATUS:CONFIRMED
LAST-MODIFIED:20250928T215029Z
DESCRIPTION:Jugend 3. Stärkeklasse Gruppe 3\nBegegnungs-Nr: 14\nHeim: Burgdorf II\nGast: Lyss II\n
LOCATION:
CATEGORIES:Saison 2025/26
END:VEVENT
BEGIN:VEVENT
DTSTAMP:20260424T122854Z
DTSTART;TZID=Europe/Berlin:20260124T160000
DTEND;TZID=Europe/Berlin:20260124T190000
SUMMARY:JUG 3. SK Gr. 3 Burgdorf II vs Herzogenbuchsee (11)
UID:1fbccc41-0fd7-47bb-bc29-18f926dcdb89
STATUS:CONFIRMED
LAST-MODIFIED:20260125T000725Z
DESCRIPTION:Jugend 3. Stärkeklasse Gruppe 3\nBegegnungs-Nr: 11\nHeim: Burgdorf II\nGast: Herzogenbuchsee\n
LOCATION:
CATEGORIES:Saison 2025/26
END:VEVENT
BEGIN:VEVENT
DTSTAMP:20260424T122854Z
DTSTART;TZID=Europe/Berlin:20251101T151500
DTEND;TZID=Europe/Berlin:20251101T181500
SUMMARY:JUG 3. SK Gr. 3 Bern V vs Burgdorf II (6)
UID:fea2ea0c-89cf-4f40-bea9-0cb98b441796
STATUS:CONFIRMED
LAST-MODIFIED:20251111T072550Z
DESCRIPTION:Jugend 3. Stärkeklasse Gruppe 3\nBegegnungs-Nr: 6\nHeim: Bern V\nGast: Burgdorf II\n
LOCATION:
CATEGORIES:Saison 2025/26
END:VEVENT
BEGIN:VEVENT
DTSTAMP:20260424T122854Z
DTSTART;TZID=Europe/Berlin:20260124T143000
DTEND;TZID=Europe/Berlin:20260124T173000
SUMMARY:JUG 3. SK Gr. 3 Köniz III vs Burgdorf II (7)
UID:7e99579c-bfeb-45d4-a676-31de048a8564
STATUS:CONFIRMED
LAST-MODIFIED:20260217T214712Z
DESCRIPTION:Jugend 3. Stärkeklasse Gruppe 3\nBegegnungs-Nr: 7\nHeim: Köniz III\nGast: Burgdorf II\n
LOCATION:
CATEGORIES:Saison 2025/26
END:VEVENT
END:VCALENDAR
