BEGIN:VCALENDAR
PRODID:-//nuDatenautomaten//framework iCal4j //DE
VERSION:2.0
CALSCALE:GREGORIAN
BEGIN:VTIMEZONE
TZID:Europe/Berlin
LAST-MODIFIED:20260306T231828Z
TZURL:https://www.tzurl.org/zoneinfo/Europe/Berlin
X-LIC-LOCATION:Europe/Berlin
X-PROLEPTIC-TZNAME:LMT
BEGIN:STANDARD
TZNAME:CET
TZOFFSETFROM:+005328
TZOFFSETTO:+0100
DTSTART:18930401T000000
END:STANDARD
BEGIN:DAYLIGHT
TZNAME:CEST
TZOFFSETFROM:+0100
TZOFFSETTO:+0200
DTSTART:19160430T230000
RDATE:19400401T020000
RDATE:19430329T020000
RDATE:19460414T020000
RDATE:19470406T030000
RDATE:19480418T020000
RDATE:19490410T020000
RDATE:19800406T020000
END:DAYLIGHT
BEGIN:STANDARD
TZNAME:CET
TZOFFSETFROM:+0200
TZOFFSETTO:+0100
DTSTART:19161001T010000
RDATE:19421102T030000
RDATE:19431004T030000
RDATE:19441002T030000
RDATE:19451118T030000
RDATE:19461007T030000
END:STANDARD
BEGIN:DAYLIGHT
TZNAME:CEST
TZOFFSETFROM:+0100
TZOFFSETTO:+0200
DTSTART:19170416T020000
RRULE:FREQ=YEARLY;UNTIL=19180415T010000Z;BYMONTH=4;BYDAY=3MO
END:DAYLIGHT
BEGIN:STANDARD
TZNAME:CET
TZOFFSETFROM:+0200
TZOFFSETTO:+0100
DTSTART:19170917T030000
RRULE:FREQ=YEARLY;UNTIL=19180916T010000Z;BYMONTH=9;BYDAY=3MO
END:STANDARD
BEGIN:DAYLIGHT
TZNAME:CEST
TZOFFSETFROM:+0100
TZOFFSETTO:+0200
DTSTART:19440403T020000
RRULE:FREQ=YEARLY;UNTIL=19450402T010000Z;BYMONTH=4;BYDAY=1MO
END:DAYLIGHT
BEGIN:DAYLIGHT
TZNAME:CEMT
TZOFFSETFROM:+0200
TZOFFSETTO:+0300
DTSTART:19450524T020000
RDATE:19470511T030000
END:DAYLIGHT
BEGIN:DAYLIGHT
TZNAME:CEST
TZOFFSETFROM:+0300
TZOFFSETTO:+0200
DTSTART:19450924T030000
RDATE:19470629T030000
END:DAYLIGHT
BEGIN:STANDARD
TZNAME:CET
TZOFFSETFROM:+0100
TZOFFSETTO:+0100
DTSTART:19460101T000000
RDATE:19800101T000000
END:STANDARD
BEGIN:STANDARD
TZNAME:CET
TZOFFSETFROM:+0200
TZOFFSETTO:+0100
DTSTART:19471005T030000
RRULE:FREQ=YEARLY;UNTIL=19491002T010000Z;BYMONTH=10;BYDAY=1SU
END:STANDARD
BEGIN:STANDARD
TZNAME:CET
TZOFFSETFROM:+0200
TZOFFSETTO:+0100
DTSTART:19800928T030000
RRULE:FREQ=YEARLY;UNTIL=19950924T010000Z;BYMONTH=9;BYDAY=-1SU
END:STANDARD
BEGIN:DAYLIGHT
TZNAME:CEST
TZOFFSETFROM:+0100
TZOFFSETTO:+0200
DTSTART:19810329T020000
RRULE:FREQ=YEARLY;BYMONTH=3;BYDAY=-1SU
END:DAYLIGHT
BEGIN:STANDARD
TZNAME:CET
TZOFFSETFROM:+0200
TZOFFSETTO:+0100
DTSTART:19961027T030000
RRULE:FREQ=YEARLY;BYMONTH=10;BYDAY=-1SU
END:STANDARD
END:VTIMEZONE
BEGIN:VEVENT
DTSTAMP:20260424T025641Z
DTSTART;TZID=Europe/Berlin:20260110T140000
DTEND;TZID=Europe/Berlin:20260110T170000
SUMMARY:JUG 1. SK Burgdorf vs Belp (10)
UID:a94d8c82-1318-44e4-a05a-744708012bc2
STATUS:CONFIRMED
LAST-MODIFIED:20260125T000858Z
DESCRIPTION:Jugend 1. Stärkeklasse\nBegegnungs-Nr: 10\nHeim: Burgdorf\nGast: Belp\n
LOCATION:
CATEGORIES:Saison 2025/26
END:VEVENT
BEGIN:VEVENT
DTSTAMP:20260424T025641Z
DTSTART;TZID=Europe/Berlin:20260110T120000
DTEND;TZID=Europe/Berlin:20260110T150000
SUMMARY:JUG 1. SK Burgdorf vs Worb (8)
UID:6eeded46-51ef-4539-8381-037c7cd8ef38
STATUS:CONFIRMED
LAST-MODIFIED:20260125T000919Z
DESCRIPTION:Jugend 1. Stärkeklasse\nBegegnungs-Nr: 8\nHeim: Burgdorf\nGast: Worb\n
LOCATION:
CATEGORIES:Saison 2025/26
END:VEVENT
BEGIN:VEVENT
DTSTAMP:20260424T025641Z
DTSTART;TZID=Europe/Berlin:20251108T130000
DTEND;TZID=Europe/Berlin:20251108T160000
SUMMARY:JUG 1. SK Burgdorf vs Bern (2)
UID:341c36cd-5563-4b50-9936-343b95cab337
STATUS:CONFIRMED
LAST-MODIFIED:20251115T172002Z
DESCRIPTION:Jugend 1. Stärkeklasse\nBegegnungs-Nr: 2\nHeim: Burgdorf\nGast: Bern\n
LOCATION:
CATEGORIES:Saison 2025/26
END:VEVENT
BEGIN:VEVENT
DTSTAMP:20260424T025641Z
DTSTART;TZID=Europe/Berlin:20260307T143000
DTEND;TZID=Europe/Berlin:20260307T173000
SUMMARY:JUG 1. SK Burgdorf vs Ostermundigen (5)
UID:83716376-6c75-4885-8023-8c2f0a09451b
STATUS:CONFIRMED
LAST-MODIFIED:20260308T174523Z
DESCRIPTION:Jugend 1. Stärkeklasse\nBegegnungs-Nr: 5\nHeim: Burgdorf\nGast: Ostermundigen\n
LOCATION:
CATEGORIES:Saison 2025/26
END:VEVENT
BEGIN:VEVENT
DTSTAMP:20260424T025641Z
DTSTART;TZID=Europe/Berlin:20251108T160000
DTEND;TZID=Europe/Berlin:20251108T190000
SUMMARY:JUG 1. SK Ostermundigen vs Burgdorf (5)
UID:ad9b6d20-4b33-4f9c-ba70-084ba26f2e33
STATUS:CONFIRMED
LAST-MODIFIED:20251115T172336Z
DESCRIPTION:Jugend 1. Stärkeklasse\nBegegnungs-Nr: 5\nHeim: Ostermundigen\nGast: Burgdorf\n
LOCATION:
CATEGORIES:Saison 2025/26
END:VEVENT
BEGIN:VEVENT
DTSTAMP:20260424T025641Z
DTSTART;TZID=Europe/Berlin:20260307T160000
DTEND;TZID=Europe/Berlin:20260307T190000
SUMMARY:JUG 1. SK Worb vs Burgdorf (8)
UID:ce71efd7-1f4c-4ba7-9728-77839cdf9e0f
STATUS:CONFIRMED
LAST-MODIFIED:20260308T174609Z
DESCRIPTION:Jugend 1. Stärkeklasse\nBegegnungs-Nr: 8\nHeim: Worb\nGast: Burgdorf\n
LOCATION:
CATEGORIES:Saison 2025/26
END:VEVENT
BEGIN:VEVENT
DTSTAMP:20260424T025641Z
DTSTART;TZID=Europe/Berlin:20260320T193000
DTEND;TZID=Europe/Berlin:20260320T223000
SUMMARY:JUG 1. SK Belp vs Burgdorf (10)
UID:b1d6299d-a2e3-4bdb-b3b1-fa16e5a29d2c
STATUS:CONFIRMED
LAST-MODIFIED:20260327T144333Z
DESCRIPTION:Jugend 1. Stärkeklasse\nBegegnungs-Nr: 10\nHeim: Belp\nGast: Burgdorf\n\nAdresse: Neumattstrasse 39\, 3123 Belp\n
LOCATION:Neumattstrasse 39\, 3123 Belp
CATEGORIES:Saison 2025/26
END:VEVENT
BEGIN:VEVENT
DTSTAMP:20260424T025641Z
DTSTART;TZID=Europe/Berlin:20260110T160000
DTEND;TZID=Europe/Berlin:20260110T190000
SUMMARY:JUG 1. SK Bern vs Burgdorf (2)
UID:f17498ae-ee3c-4ea4-b1dd-65ec3a888abe
STATUS:CONFIRMED
LAST-MODIFIED:20260125T000837Z
DESCRIPTION:Jugend 1. Stärkeklasse\nBegegnungs-Nr: 2\nHeim: Bern\nGast: Burgdorf\n
LOCATION:
CATEGORIES:Saison 2025/26
END:VEVENT
END:VCALENDAR
