BEGIN:VCALENDAR
PRODID:-//nuDatenautomaten//framework iCal4j //DE
VERSION:2.0
CALSCALE:GREGORIAN
BEGIN:VTIMEZONE
TZID:Europe/Berlin
LAST-MODIFIED:20260306T231828Z
TZURL:https://www.tzurl.org/zoneinfo/Europe/Berlin
X-LIC-LOCATION:Europe/Berlin
X-PROLEPTIC-TZNAME:LMT
BEGIN:STANDARD
TZNAME:CET
TZOFFSETFROM:+005328
TZOFFSETTO:+0100
DTSTART:18930401T000000
END:STANDARD
BEGIN:DAYLIGHT
TZNAME:CEST
TZOFFSETFROM:+0100
TZOFFSETTO:+0200
DTSTART:19160430T230000
RDATE:19400401T020000
RDATE:19430329T020000
RDATE:19460414T020000
RDATE:19470406T030000
RDATE:19480418T020000
RDATE:19490410T020000
RDATE:19800406T020000
END:DAYLIGHT
BEGIN:STANDARD
TZNAME:CET
TZOFFSETFROM:+0200
TZOFFSETTO:+0100
DTSTART:19161001T010000
RDATE:19421102T030000
RDATE:19431004T030000
RDATE:19441002T030000
RDATE:19451118T030000
RDATE:19461007T030000
END:STANDARD
BEGIN:DAYLIGHT
TZNAME:CEST
TZOFFSETFROM:+0100
TZOFFSETTO:+0200
DTSTART:19170416T020000
RRULE:FREQ=YEARLY;UNTIL=19180415T010000Z;BYMONTH=4;BYDAY=3MO
END:DAYLIGHT
BEGIN:STANDARD
TZNAME:CET
TZOFFSETFROM:+0200
TZOFFSETTO:+0100
DTSTART:19170917T030000
RRULE:FREQ=YEARLY;UNTIL=19180916T010000Z;BYMONTH=9;BYDAY=3MO
END:STANDARD
BEGIN:DAYLIGHT
TZNAME:CEST
TZOFFSETFROM:+0100
TZOFFSETTO:+0200
DTSTART:19440403T020000
RRULE:FREQ=YEARLY;UNTIL=19450402T010000Z;BYMONTH=4;BYDAY=1MO
END:DAYLIGHT
BEGIN:DAYLIGHT
TZNAME:CEMT
TZOFFSETFROM:+0200
TZOFFSETTO:+0300
DTSTART:19450524T020000
RDATE:19470511T030000
END:DAYLIGHT
BEGIN:DAYLIGHT
TZNAME:CEST
TZOFFSETFROM:+0300
TZOFFSETTO:+0200
DTSTART:19450924T030000
RDATE:19470629T030000
END:DAYLIGHT
BEGIN:STANDARD
TZNAME:CET
TZOFFSETFROM:+0100
TZOFFSETTO:+0100
DTSTART:19460101T000000
RDATE:19800101T000000
END:STANDARD
BEGIN:STANDARD
TZNAME:CET
TZOFFSETFROM:+0200
TZOFFSETTO:+0100
DTSTART:19471005T030000
RRULE:FREQ=YEARLY;UNTIL=19491002T010000Z;BYMONTH=10;BYDAY=1SU
END:STANDARD
BEGIN:STANDARD
TZNAME:CET
TZOFFSETFROM:+0200
TZOFFSETTO:+0100
DTSTART:19800928T030000
RRULE:FREQ=YEARLY;UNTIL=19950924T010000Z;BYMONTH=9;BYDAY=-1SU
END:STANDARD
BEGIN:DAYLIGHT
TZNAME:CEST
TZOFFSETFROM:+0100
TZOFFSETTO:+0200
DTSTART:19810329T020000
RRULE:FREQ=YEARLY;BYMONTH=3;BYDAY=-1SU
END:DAYLIGHT
BEGIN:STANDARD
TZNAME:CET
TZOFFSETFROM:+0200
TZOFFSETTO:+0100
DTSTART:19961027T030000
RRULE:FREQ=YEARLY;BYMONTH=10;BYDAY=-1SU
END:STANDARD
END:VTIMEZONE
BEGIN:VEVENT
DTSTAMP:20260424T084013Z
DTSTART;TZID=Europe/Berlin:20251025T143000
DTEND;TZID=Europe/Berlin:20251025T173000
SUMMARY:JUG 3. SK Gr. 1 Worb II vs Langnau (3)
UID:86b3c7af-d752-43b5-935d-ce9023c4a736
STATUS:CONFIRMED
LAST-MODIFIED:20251029T221358Z
DESCRIPTION:Jugend 3. Stärkeklasse Gruppe 1\nBegegnungs-Nr: 3\nHeim: Worb II\nGast: Langnau\n
LOCATION:
CATEGORIES:Saison 2025/26
END:VEVENT
BEGIN:VEVENT
DTSTAMP:20260424T084013Z
DTSTART;TZID=Europe/Berlin:20251025T160000
DTEND;TZID=Europe/Berlin:20251025T190000
SUMMARY:JUG 3. SK Gr. 1 Worb II vs Thun (6)
UID:37f6174a-a728-4be5-ba78-5fe60e3bcacf
STATUS:CONFIRMED
LAST-MODIFIED:20251029T221443Z
DESCRIPTION:Jugend 3. Stärkeklasse Gruppe 1\nBegegnungs-Nr: 6\nHeim: Worb II\nGast: Thun\n
LOCATION:
CATEGORIES:Saison 2025/26
END:VEVENT
BEGIN:VEVENT
DTSTAMP:20260424T084013Z
DTSTART;TZID=Europe/Berlin:20260314T120000
DTEND;TZID=Europe/Berlin:20260314T150000
SUMMARY:JUG 3. SK Gr. 1 Worb II vs Bern III (10)
UID:8bb016d7-c6e6-41e1-a8cd-37fc1cb861b0
STATUS:CONFIRMED
LAST-MODIFIED:20260409T115046Z
DESCRIPTION:Jugend 3. Stärkeklasse Gruppe 1\nBegegnungs-Nr: 10\nHeim: Worb II\nGast: Bern III\n
LOCATION:
CATEGORIES:Saison 2025/26
END:VEVENT
BEGIN:VEVENT
DTSTAMP:20260424T084013Z
DTSTART;TZID=Europe/Berlin:20260110T163000
DTEND;TZID=Europe/Berlin:20260110T193000
SUMMARY:JUG 3. SK Gr. 1 Worb II vs Münsingen II (1)
UID:0d67b855-cc4e-4f0a-abaf-441cf8a742ac
STATUS:CONFIRMED
LAST-MODIFIED:20260125T000736Z
DESCRIPTION:Jugend 3. Stärkeklasse Gruppe 1\nBegegnungs-Nr: 1\nHeim: Worb II\nGast: Münsingen II\n
LOCATION:
CATEGORIES:Saison 2025/26
END:VEVENT
BEGIN:VEVENT
DTSTAMP:20260424T084013Z
DTSTART;TZID=Europe/Berlin:20260110T133000
DTEND;TZID=Europe/Berlin:20260110T163000
SUMMARY:JUG 3. SK Gr. 1 Langnau vs Worb II (3)
UID:ac4e6c6b-1ed3-423f-8843-c6488aecc338
STATUS:CONFIRMED
LAST-MODIFIED:20260125T000824Z
DESCRIPTION:Jugend 3. Stärkeklasse Gruppe 1\nBegegnungs-Nr: 3\nHeim: Langnau\nGast: Worb II\n
LOCATION:
CATEGORIES:Saison 2025/26
END:VEVENT
BEGIN:VEVENT
DTSTAMP:20260424T084013Z
DTSTART;TZID=Europe/Berlin:20260110T150000
DTEND;TZID=Europe/Berlin:20260110T180000
SUMMARY:JUG 3. SK Gr. 1 Bern III vs Worb II (10)
UID:6b362991-965b-426d-bf37-6ae7393e36ae
STATUS:CONFIRMED
LAST-MODIFIED:20260125T000749Z
DESCRIPTION:Jugend 3. Stärkeklasse Gruppe 1\nBegegnungs-Nr: 10\nHeim: Bern III\nGast: Worb II\n
LOCATION:
CATEGORIES:Saison 2025/26
END:VEVENT
BEGIN:VEVENT
DTSTAMP:20260424T084013Z
DTSTART;TZID=Europe/Berlin:20251025T130000
DTEND;TZID=Europe/Berlin:20251025T160000
SUMMARY:JUG 3. SK Gr. 1 Münsingen II vs Worb II (1)
UID:ad3eb1df-f867-42e0-be08-8b1c90ba3e21
STATUS:CONFIRMED
LAST-MODIFIED:20251029T221338Z
DESCRIPTION:Jugend 3. Stärkeklasse Gruppe 1\nBegegnungs-Nr: 1\nHeim: Münsingen II\nGast: Worb II\n
LOCATION:
CATEGORIES:Saison 2025/26
END:VEVENT
BEGIN:VEVENT
DTSTAMP:20260424T084013Z
DTSTART;TZID=Europe/Berlin:20260314T140000
DTEND;TZID=Europe/Berlin:20260314T170000
SUMMARY:JUG 3. SK Gr. 1 Thun vs Worb II (6)
UID:7bdae300-d0db-4e4e-b389-c6e36ec85917
STATUS:CONFIRMED
LAST-MODIFIED:20260315T230854Z
DESCRIPTION:Jugend 3. Stärkeklasse Gruppe 1\nBegegnungs-Nr: 6\nHeim: Thun\nGast: Worb II\n
LOCATION:
CATEGORIES:Saison 2025/26
END:VEVENT
END:VCALENDAR
