BEGIN:VCALENDAR
PRODID:-//nuDatenautomaten//framework iCal4j //DE
VERSION:2.0
CALSCALE:GREGORIAN
BEGIN:VTIMEZONE
TZID:Europe/Berlin
LAST-MODIFIED:20260306T231828Z
TZURL:https://www.tzurl.org/zoneinfo/Europe/Berlin
X-LIC-LOCATION:Europe/Berlin
X-PROLEPTIC-TZNAME:LMT
BEGIN:STANDARD
TZNAME:CET
TZOFFSETFROM:+005328
TZOFFSETTO:+0100
DTSTART:18930401T000000
END:STANDARD
BEGIN:DAYLIGHT
TZNAME:CEST
TZOFFSETFROM:+0100
TZOFFSETTO:+0200
DTSTART:19160430T230000
RDATE:19400401T020000
RDATE:19430329T020000
RDATE:19460414T020000
RDATE:19470406T030000
RDATE:19480418T020000
RDATE:19490410T020000
RDATE:19800406T020000
END:DAYLIGHT
BEGIN:STANDARD
TZNAME:CET
TZOFFSETFROM:+0200
TZOFFSETTO:+0100
DTSTART:19161001T010000
RDATE:19421102T030000
RDATE:19431004T030000
RDATE:19441002T030000
RDATE:19451118T030000
RDATE:19461007T030000
END:STANDARD
BEGIN:DAYLIGHT
TZNAME:CEST
TZOFFSETFROM:+0100
TZOFFSETTO:+0200
DTSTART:19170416T020000
RRULE:FREQ=YEARLY;UNTIL=19180415T010000Z;BYMONTH=4;BYDAY=3MO
END:DAYLIGHT
BEGIN:STANDARD
TZNAME:CET
TZOFFSETFROM:+0200
TZOFFSETTO:+0100
DTSTART:19170917T030000
RRULE:FREQ=YEARLY;UNTIL=19180916T010000Z;BYMONTH=9;BYDAY=3MO
END:STANDARD
BEGIN:DAYLIGHT
TZNAME:CEST
TZOFFSETFROM:+0100
TZOFFSETTO:+0200
DTSTART:19440403T020000
RRULE:FREQ=YEARLY;UNTIL=19450402T010000Z;BYMONTH=4;BYDAY=1MO
END:DAYLIGHT
BEGIN:DAYLIGHT
TZNAME:CEMT
TZOFFSETFROM:+0200
TZOFFSETTO:+0300
DTSTART:19450524T020000
RDATE:19470511T030000
END:DAYLIGHT
BEGIN:DAYLIGHT
TZNAME:CEST
TZOFFSETFROM:+0300
TZOFFSETTO:+0200
DTSTART:19450924T030000
RDATE:19470629T030000
END:DAYLIGHT
BEGIN:STANDARD
TZNAME:CET
TZOFFSETFROM:+0100
TZOFFSETTO:+0100
DTSTART:19460101T000000
RDATE:19800101T000000
END:STANDARD
BEGIN:STANDARD
TZNAME:CET
TZOFFSETFROM:+0200
TZOFFSETTO:+0100
DTSTART:19471005T030000
RRULE:FREQ=YEARLY;UNTIL=19491002T010000Z;BYMONTH=10;BYDAY=1SU
END:STANDARD
BEGIN:STANDARD
TZNAME:CET
TZOFFSETFROM:+0200
TZOFFSETTO:+0100
DTSTART:19800928T030000
RRULE:FREQ=YEARLY;UNTIL=19950924T010000Z;BYMONTH=9;BYDAY=-1SU
END:STANDARD
BEGIN:DAYLIGHT
TZNAME:CEST
TZOFFSETFROM:+0100
TZOFFSETTO:+0200
DTSTART:19810329T020000
RRULE:FREQ=YEARLY;BYMONTH=3;BYDAY=-1SU
END:DAYLIGHT
BEGIN:STANDARD
TZNAME:CET
TZOFFSETFROM:+0200
TZOFFSETTO:+0100
DTSTART:19961027T030000
RRULE:FREQ=YEARLY;BYMONTH=10;BYDAY=-1SU
END:STANDARD
END:VTIMEZONE
BEGIN:VEVENT
DTSTAMP:20260424T063610Z
DTSTART;TZID=Europe/Berlin:20260110T140000
DTEND;TZID=Europe/Berlin:20260110T170000
SUMMARY:JUG 1. SK Ostermundigen vs Worb (9)
UID:4b6f051a-9f76-42ba-9b2a-b850e69b47ca
STATUS:CONFIRMED
LAST-MODIFIED:20260125T000909Z
DESCRIPTION:Jugend 1. Stärkeklasse\nBegegnungs-Nr: 9\nHeim: Ostermundigen\nGast: Worb\n
LOCATION:
CATEGORIES:Saison 2025/26
END:VEVENT
BEGIN:VEVENT
DTSTAMP:20260424T063610Z
DTSTART;TZID=Europe/Berlin:20251108T160000
DTEND;TZID=Europe/Berlin:20251108T190000
SUMMARY:JUG 1. SK Ostermundigen vs Burgdorf (5)
UID:ad9b6d20-4b33-4f9c-ba70-084ba26f2e33
STATUS:CONFIRMED
LAST-MODIFIED:20251115T172336Z
DESCRIPTION:Jugend 1. Stärkeklasse\nBegegnungs-Nr: 5\nHeim: Ostermundigen\nGast: Burgdorf\n
LOCATION:
CATEGORIES:Saison 2025/26
END:VEVENT
BEGIN:VEVENT
DTSTAMP:20260424T063610Z
DTSTART;TZID=Europe/Berlin:20260307T160000
DTEND;TZID=Europe/Berlin:20260307T190000
SUMMARY:JUG 1. SK Ostermundigen vs Bern (7)
UID:bff850ba-0f08-42c9-8d7d-3f0297b2a7a4
STATUS:CONFIRMED
LAST-MODIFIED:20260308T174549Z
DESCRIPTION:Jugend 1. Stärkeklasse\nBegegnungs-Nr: 7\nHeim: Ostermundigen\nGast: Bern\n
LOCATION:
CATEGORIES:Saison 2025/26
END:VEVENT
BEGIN:VEVENT
DTSTAMP:20260424T063610Z
DTSTART;TZID=Europe/Berlin:20260307T130000
DTEND;TZID=Europe/Berlin:20260307T160000
SUMMARY:JUG 1. SK Ostermundigen vs Belp (3)
UID:22c7dd1b-a740-4343-91dc-7131590a0b4e
STATUS:CONFIRMED
LAST-MODIFIED:20260308T174502Z
DESCRIPTION:Jugend 1. Stärkeklasse\nBegegnungs-Nr: 3\nHeim: Ostermundigen\nGast: Belp\n
LOCATION:
CATEGORIES:Saison 2025/26
END:VEVENT
BEGIN:VEVENT
DTSTAMP:20260424T063610Z
DTSTART;TZID=Europe/Berlin:20251108T143000
DTEND;TZID=Europe/Berlin:20251108T173000
SUMMARY:JUG 1. SK Belp vs Ostermundigen (3)
UID:55875b4b-74ee-45e7-a8e9-78a33a693068
STATUS:CONFIRMED
LAST-MODIFIED:20251115T172310Z
DESCRIPTION:Jugend 1. Stärkeklasse\nBegegnungs-Nr: 3\nHeim: Belp\nGast: Ostermundigen\n
LOCATION:
CATEGORIES:Saison 2025/26
END:VEVENT
BEGIN:VEVENT
DTSTAMP:20260424T063610Z
DTSTART;TZID=Europe/Berlin:20260318T190000
DTEND;TZID=Europe/Berlin:20260318T220000
SUMMARY:JUG 1. SK Worb vs Ostermundigen (9)
UID:1af4032a-9c48-4b7a-aa26-236127c118b6
STATUS:CONFIRMED
LAST-MODIFIED:20260327T144321Z
DESCRIPTION:Jugend 1. Stärkeklasse\nBegegnungs-Nr: 9\nHeim: Worb\nGast: Ostermundigen\n\nAdresse: Rosenweg 9\, 3075 Rüfenacht BE\n
LOCATION:Rosenweg 9\, 3075 Rüfenacht BE
CATEGORIES:Saison 2025/26
END:VEVENT
BEGIN:VEVENT
DTSTAMP:20260424T063610Z
DTSTART;TZID=Europe/Berlin:20260110T120000
DTEND;TZID=Europe/Berlin:20260110T150000
SUMMARY:JUG 1. SK Bern vs Ostermundigen (7)
UID:4003f2ea-af48-4c15-97ec-16f0b0dfc922
STATUS:CONFIRMED
LAST-MODIFIED:20260125T000929Z
DESCRIPTION:Jugend 1. Stärkeklasse\nBegegnungs-Nr: 7\nHeim: Bern\nGast: Ostermundigen\n
LOCATION:
CATEGORIES:Saison 2025/26
END:VEVENT
BEGIN:VEVENT
DTSTAMP:20260424T063610Z
DTSTART;TZID=Europe/Berlin:20260307T143000
DTEND;TZID=Europe/Berlin:20260307T173000
SUMMARY:JUG 1. SK Burgdorf vs Ostermundigen (5)
UID:83716376-6c75-4885-8023-8c2f0a09451b
STATUS:CONFIRMED
LAST-MODIFIED:20260308T174523Z
DESCRIPTION:Jugend 1. Stärkeklasse\nBegegnungs-Nr: 5\nHeim: Burgdorf\nGast: Ostermundigen\n
LOCATION:
CATEGORIES:Saison 2025/26
END:VEVENT
END:VCALENDAR
