BEGIN:VCALENDAR
PRODID:-//nuDatenautomaten//framework iCal4j //DE
VERSION:2.0
CALSCALE:GREGORIAN
BEGIN:VTIMEZONE
TZID:Europe/Berlin
LAST-MODIFIED:20260306T231828Z
TZURL:https://www.tzurl.org/zoneinfo/Europe/Berlin
X-LIC-LOCATION:Europe/Berlin
X-PROLEPTIC-TZNAME:LMT
BEGIN:STANDARD
TZNAME:CET
TZOFFSETFROM:+005328
TZOFFSETTO:+0100
DTSTART:18930401T000000
END:STANDARD
BEGIN:DAYLIGHT
TZNAME:CEST
TZOFFSETFROM:+0100
TZOFFSETTO:+0200
DTSTART:19160430T230000
RDATE:19400401T020000
RDATE:19430329T020000
RDATE:19460414T020000
RDATE:19470406T030000
RDATE:19480418T020000
RDATE:19490410T020000
RDATE:19800406T020000
END:DAYLIGHT
BEGIN:STANDARD
TZNAME:CET
TZOFFSETFROM:+0200
TZOFFSETTO:+0100
DTSTART:19161001T010000
RDATE:19421102T030000
RDATE:19431004T030000
RDATE:19441002T030000
RDATE:19451118T030000
RDATE:19461007T030000
END:STANDARD
BEGIN:DAYLIGHT
TZNAME:CEST
TZOFFSETFROM:+0100
TZOFFSETTO:+0200
DTSTART:19170416T020000
RRULE:FREQ=YEARLY;UNTIL=19180415T010000Z;BYMONTH=4;BYDAY=3MO
END:DAYLIGHT
BEGIN:STANDARD
TZNAME:CET
TZOFFSETFROM:+0200
TZOFFSETTO:+0100
DTSTART:19170917T030000
RRULE:FREQ=YEARLY;UNTIL=19180916T010000Z;BYMONTH=9;BYDAY=3MO
END:STANDARD
BEGIN:DAYLIGHT
TZNAME:CEST
TZOFFSETFROM:+0100
TZOFFSETTO:+0200
DTSTART:19440403T020000
RRULE:FREQ=YEARLY;UNTIL=19450402T010000Z;BYMONTH=4;BYDAY=1MO
END:DAYLIGHT
BEGIN:DAYLIGHT
TZNAME:CEMT
TZOFFSETFROM:+0200
TZOFFSETTO:+0300
DTSTART:19450524T020000
RDATE:19470511T030000
END:DAYLIGHT
BEGIN:DAYLIGHT
TZNAME:CEST
TZOFFSETFROM:+0300
TZOFFSETTO:+0200
DTSTART:19450924T030000
RDATE:19470629T030000
END:DAYLIGHT
BEGIN:STANDARD
TZNAME:CET
TZOFFSETFROM:+0100
TZOFFSETTO:+0100
DTSTART:19460101T000000
RDATE:19800101T000000
END:STANDARD
BEGIN:STANDARD
TZNAME:CET
TZOFFSETFROM:+0200
TZOFFSETTO:+0100
DTSTART:19471005T030000
RRULE:FREQ=YEARLY;UNTIL=19491002T010000Z;BYMONTH=10;BYDAY=1SU
END:STANDARD
BEGIN:STANDARD
TZNAME:CET
TZOFFSETFROM:+0200
TZOFFSETTO:+0100
DTSTART:19800928T030000
RRULE:FREQ=YEARLY;UNTIL=19950924T010000Z;BYMONTH=9;BYDAY=-1SU
END:STANDARD
BEGIN:DAYLIGHT
TZNAME:CEST
TZOFFSETFROM:+0100
TZOFFSETTO:+0200
DTSTART:19810329T020000
RRULE:FREQ=YEARLY;BYMONTH=3;BYDAY=-1SU
END:DAYLIGHT
BEGIN:STANDARD
TZNAME:CET
TZOFFSETFROM:+0200
TZOFFSETTO:+0100
DTSTART:19961027T030000
RRULE:FREQ=YEARLY;BYMONTH=10;BYDAY=-1SU
END:STANDARD
END:VTIMEZONE
BEGIN:VEVENT
DTSTAMP:20260424T120258Z
DTSTART;TZID=Europe/Berlin:20251108T103000
DTEND;TZID=Europe/Berlin:20251108T133000
SUMMARY:JUG 2. SK Ostermundigen II vs Köniz (4)
UID:0bf35421-1d1f-4de5-a07a-7b338528e62a
STATUS:CONFIRMED
LAST-MODIFIED:20251115T172538Z
DESCRIPTION:Jugend 2. Stärkeklasse\nBegegnungs-Nr: 4\nHeim: Ostermundigen II\nGast: Köniz\n
LOCATION:
CATEGORIES:Saison 2025/26
END:VEVENT
BEGIN:VEVENT
DTSTAMP:20260424T120258Z
DTSTART;TZID=Europe/Berlin:20251213T133000
DTEND;TZID=Europe/Berlin:20251213T163000
SUMMARY:JUG 2. SK Ostermundigen II vs Bern II (7)
UID:c86ec7be-c1b0-43ce-baf0-881cb90fe59f
STATUS:CONFIRMED
LAST-MODIFIED:20251216T121107Z
DESCRIPTION:Jugend 2. Stärkeklasse\nBegegnungs-Nr: 7\nHeim: Ostermundigen II\nGast: Bern II\n
LOCATION:
CATEGORIES:Saison 2025/26
END:VEVENT
BEGIN:VEVENT
DTSTAMP:20260424T120258Z
DTSTART;TZID=Europe/Berlin:20260314T143000
DTEND;TZID=Europe/Berlin:20260314T173000
SUMMARY:JUG 2. SK Ostermundigen II vs Münsingen (6)
UID:c8840110-c5cb-4630-8e7e-4be3d1d84083
STATUS:CONFIRMED
LAST-MODIFIED:20260315T230905Z
DESCRIPTION:Jugend 2. Stärkeklasse\nBegegnungs-Nr: 6\nHeim: Ostermundigen II\nGast: Münsingen\n
LOCATION:
CATEGORIES:Saison 2025/26
END:VEVENT
BEGIN:VEVENT
DTSTAMP:20260424T120258Z
DTSTART;TZID=Europe/Berlin:20251213T163000
DTEND;TZID=Europe/Berlin:20251213T193000
SUMMARY:JUG 2. SK Ostermundigen II vs Solothurn (2)
UID:a1d05179-29fa-44b2-b2d9-b4bc8934132a
STATUS:CONFIRMED
LAST-MODIFIED:20251216T121149Z
DESCRIPTION:Jugend 2. Stärkeklasse\nBegegnungs-Nr: 2\nHeim: Ostermundigen II\nGast: Solothurn\n
LOCATION:
CATEGORIES:Saison 2025/26
END:VEVENT
BEGIN:VEVENT
DTSTAMP:20260424T120258Z
DTSTART;TZID=Europe/Berlin:20251108T120000
DTEND;TZID=Europe/Berlin:20251108T150000
SUMMARY:JUG 2. SK Münsingen vs Ostermundigen II (6)
UID:63a3204f-034b-4548-883e-c38e54cd3b3d
STATUS:CONFIRMED
LAST-MODIFIED:20251115T172627Z
DESCRIPTION:Jugend 2. Stärkeklasse\nBegegnungs-Nr: 6\nHeim: Münsingen\nGast: Ostermundigen II\n
LOCATION:
CATEGORIES:Saison 2025/26
END:VEVENT
BEGIN:VEVENT
DTSTAMP:20260424T120258Z
DTSTART;TZID=Europe/Berlin:20251108T090000
DTEND;TZID=Europe/Berlin:20251108T120000
SUMMARY:JUG 2. SK Solothurn vs Ostermundigen II (2)
UID:b82e6897-0d79-45ab-ad27-754c1b71e3c0
STATUS:CONFIRMED
LAST-MODIFIED:20251115T172458Z
DESCRIPTION:Jugend 2. Stärkeklasse\nBegegnungs-Nr: 2\nHeim: Solothurn\nGast: Ostermundigen II\n
LOCATION:
CATEGORIES:Saison 2025/26
END:VEVENT
BEGIN:VEVENT
DTSTAMP:20260424T120258Z
DTSTART;TZID=Europe/Berlin:20260314T160000
DTEND;TZID=Europe/Berlin:20260314T190000
SUMMARY:JUG 2. SK Bern II vs Ostermundigen II (7)
UID:a97661d2-41eb-4213-84d4-1e52eccdfc92
STATUS:CONFIRMED
LAST-MODIFIED:20260315T230917Z
DESCRIPTION:Jugend 2. Stärkeklasse\nBegegnungs-Nr: 7\nHeim: Bern II\nGast: Ostermundigen II\n
LOCATION:
CATEGORIES:Saison 2025/26
END:VEVENT
BEGIN:VEVENT
DTSTAMP:20260424T120258Z
DTSTART;TZID=Europe/Berlin:20260314T130000
DTEND;TZID=Europe/Berlin:20260314T160000
SUMMARY:JUG 2. SK Köniz vs Ostermundigen II (4)
UID:175ac1dc-c9de-4408-ae9b-3c9cc0f3ff4c
STATUS:CONFIRMED
LAST-MODIFIED:20260315T230758Z
DESCRIPTION:Jugend 2. Stärkeklasse\nBegegnungs-Nr: 4\nHeim: Köniz\nGast: Ostermundigen II\n
LOCATION:
CATEGORIES:Saison 2025/26
END:VEVENT
END:VCALENDAR
