BEGIN:VCALENDAR
PRODID:-//nuDatenautomaten//framework iCal4j //DE
VERSION:2.0
CALSCALE:GREGORIAN
BEGIN:VTIMEZONE
TZID:Europe/Berlin
LAST-MODIFIED:20260306T231828Z
TZURL:https://www.tzurl.org/zoneinfo/Europe/Berlin
X-LIC-LOCATION:Europe/Berlin
X-PROLEPTIC-TZNAME:LMT
BEGIN:STANDARD
TZNAME:CET
TZOFFSETFROM:+005328
TZOFFSETTO:+0100
DTSTART:18930401T000000
END:STANDARD
BEGIN:DAYLIGHT
TZNAME:CEST
TZOFFSETFROM:+0100
TZOFFSETTO:+0200
DTSTART:19160430T230000
RDATE:19400401T020000
RDATE:19430329T020000
RDATE:19460414T020000
RDATE:19470406T030000
RDATE:19480418T020000
RDATE:19490410T020000
RDATE:19800406T020000
END:DAYLIGHT
BEGIN:STANDARD
TZNAME:CET
TZOFFSETFROM:+0200
TZOFFSETTO:+0100
DTSTART:19161001T010000
RDATE:19421102T030000
RDATE:19431004T030000
RDATE:19441002T030000
RDATE:19451118T030000
RDATE:19461007T030000
END:STANDARD
BEGIN:DAYLIGHT
TZNAME:CEST
TZOFFSETFROM:+0100
TZOFFSETTO:+0200
DTSTART:19170416T020000
RRULE:FREQ=YEARLY;UNTIL=19180415T010000Z;BYMONTH=4;BYDAY=3MO
END:DAYLIGHT
BEGIN:STANDARD
TZNAME:CET
TZOFFSETFROM:+0200
TZOFFSETTO:+0100
DTSTART:19170917T030000
RRULE:FREQ=YEARLY;UNTIL=19180916T010000Z;BYMONTH=9;BYDAY=3MO
END:STANDARD
BEGIN:DAYLIGHT
TZNAME:CEST
TZOFFSETFROM:+0100
TZOFFSETTO:+0200
DTSTART:19440403T020000
RRULE:FREQ=YEARLY;UNTIL=19450402T010000Z;BYMONTH=4;BYDAY=1MO
END:DAYLIGHT
BEGIN:DAYLIGHT
TZNAME:CEMT
TZOFFSETFROM:+0200
TZOFFSETTO:+0300
DTSTART:19450524T020000
RDATE:19470511T030000
END:DAYLIGHT
BEGIN:DAYLIGHT
TZNAME:CEST
TZOFFSETFROM:+0300
TZOFFSETTO:+0200
DTSTART:19450924T030000
RDATE:19470629T030000
END:DAYLIGHT
BEGIN:STANDARD
TZNAME:CET
TZOFFSETFROM:+0100
TZOFFSETTO:+0100
DTSTART:19460101T000000
RDATE:19800101T000000
END:STANDARD
BEGIN:STANDARD
TZNAME:CET
TZOFFSETFROM:+0200
TZOFFSETTO:+0100
DTSTART:19471005T030000
RRULE:FREQ=YEARLY;UNTIL=19491002T010000Z;BYMONTH=10;BYDAY=1SU
END:STANDARD
BEGIN:STANDARD
TZNAME:CET
TZOFFSETFROM:+0200
TZOFFSETTO:+0100
DTSTART:19800928T030000
RRULE:FREQ=YEARLY;UNTIL=19950924T010000Z;BYMONTH=9;BYDAY=-1SU
END:STANDARD
BEGIN:DAYLIGHT
TZNAME:CEST
TZOFFSETFROM:+0100
TZOFFSETTO:+0200
DTSTART:19810329T020000
RRULE:FREQ=YEARLY;BYMONTH=3;BYDAY=-1SU
END:DAYLIGHT
BEGIN:STANDARD
TZNAME:CET
TZOFFSETFROM:+0200
TZOFFSETTO:+0100
DTSTART:19961027T030000
RRULE:FREQ=YEARLY;BYMONTH=10;BYDAY=-1SU
END:STANDARD
END:VTIMEZONE
BEGIN:VEVENT
DTSTAMP:20260424T083902Z
DTSTART;TZID=Europe/Berlin:20260311T183000
DTEND;TZID=Europe/Berlin:20260311T213000
SUMMARY:JUG 3. SK Gr. 2 Ostermundigen III vs Köniz II (13)
UID:5a99d348-a8ee-4b3a-8757-18fc9a1d14a5
STATUS:CONFIRMED
LAST-MODIFIED:20260327T145016Z
DESCRIPTION:Jugend 3. Stärkeklasse Gruppe 2\nBegegnungs-Nr: 13\nHeim: Ostermundigen III\nGast: Köniz II\n\nAdresse: Dennigkofenweg 169\, 3072 Ostermundigen\n
LOCATION:Dennigkofenweg 169\, 3072 Ostermundigen
CATEGORIES:Saison 2025/26
END:VEVENT
BEGIN:VEVENT
DTSTAMP:20260424T083902Z
DTSTART;TZID=Europe/Berlin:20260307T133000
DTEND;TZID=Europe/Berlin:20260307T163000
SUMMARY:JUG 3. SK Gr. 2 Ostermundigen III vs Lyss (7)
UID:a587bcf5-abe8-454a-9dde-a902c05ecd23
STATUS:CONFIRMED
LAST-MODIFIED:20260308T174625Z
DESCRIPTION:Jugend 3. Stärkeklasse Gruppe 2\nBegegnungs-Nr: 7\nHeim: Ostermundigen III\nGast: Lyss\n
LOCATION:
CATEGORIES:Saison 2025/26
END:VEVENT
BEGIN:VEVENT
DTSTAMP:20260424T083902Z
DTSTART;TZID=Europe/Berlin:20251018T130000
DTEND;TZID=Europe/Berlin:20251018T160000
SUMMARY:JUG 3. SK Gr. 2 Ostermundigen III vs Bern VI (1)
UID:5b2660fe-754e-4bed-9f26-56f63ae8fac2
STATUS:CONFIRMED
LAST-MODIFIED:20251020T114440Z
DESCRIPTION:Jugend 3. Stärkeklasse Gruppe 2\nBegegnungs-Nr: 1\nHeim: Ostermundigen III\nGast: Bern VI\n
LOCATION:
CATEGORIES:Saison 2025/26
END:VEVENT
BEGIN:VEVENT
DTSTAMP:20260424T083902Z
DTSTART;TZID=Europe/Berlin:20260307T150000
DTEND;TZID=Europe/Berlin:20260307T180000
SUMMARY:JUG 3. SK Gr. 2 Bern IV vs Ostermundigen III (10)
UID:97dccddd-3f7c-43ef-91fa-6b7c664211f5
STATUS:CONFIRMED
LAST-MODIFIED:20260308T174702Z
DESCRIPTION:Jugend 3. Stärkeklasse Gruppe 2\nBegegnungs-Nr: 10\nHeim: Bern IV\nGast: Ostermundigen III\n
LOCATION:
CATEGORIES:Saison 2025/26
END:VEVENT
BEGIN:VEVENT
DTSTAMP:20260424T083902Z
DTSTART;TZID=Europe/Berlin:20251018T143000
DTEND;TZID=Europe/Berlin:20251018T173000
SUMMARY:JUG 3. SK Gr. 2 Stettlen vs Ostermundigen III (4)
UID:fab7b9b5-3b35-4bff-b344-c76bccdefdf6
STATUS:CONFIRMED
LAST-MODIFIED:20251020T114512Z
DESCRIPTION:Jugend 3. Stärkeklasse Gruppe 2\nBegegnungs-Nr: 4\nHeim: Stettlen\nGast: Ostermundigen III\n
LOCATION:
CATEGORIES:Saison 2025/26
END:VEVENT
END:VCALENDAR
