BEGIN:VCALENDAR
PRODID:-//nuDatenautomaten//framework iCal4j //DE
VERSION:2.0
CALSCALE:GREGORIAN
BEGIN:VTIMEZONE
TZID:Europe/Berlin
LAST-MODIFIED:20260306T231828Z
TZURL:https://www.tzurl.org/zoneinfo/Europe/Berlin
X-LIC-LOCATION:Europe/Berlin
X-PROLEPTIC-TZNAME:LMT
BEGIN:STANDARD
TZNAME:CET
TZOFFSETFROM:+005328
TZOFFSETTO:+0100
DTSTART:18930401T000000
END:STANDARD
BEGIN:DAYLIGHT
TZNAME:CEST
TZOFFSETFROM:+0100
TZOFFSETTO:+0200
DTSTART:19160430T230000
RDATE:19400401T020000
RDATE:19430329T020000
RDATE:19460414T020000
RDATE:19470406T030000
RDATE:19480418T020000
RDATE:19490410T020000
RDATE:19800406T020000
END:DAYLIGHT
BEGIN:STANDARD
TZNAME:CET
TZOFFSETFROM:+0200
TZOFFSETTO:+0100
DTSTART:19161001T010000
RDATE:19421102T030000
RDATE:19431004T030000
RDATE:19441002T030000
RDATE:19451118T030000
RDATE:19461007T030000
END:STANDARD
BEGIN:DAYLIGHT
TZNAME:CEST
TZOFFSETFROM:+0100
TZOFFSETTO:+0200
DTSTART:19170416T020000
RRULE:FREQ=YEARLY;UNTIL=19180415T010000Z;BYMONTH=4;BYDAY=3MO
END:DAYLIGHT
BEGIN:STANDARD
TZNAME:CET
TZOFFSETFROM:+0200
TZOFFSETTO:+0100
DTSTART:19170917T030000
RRULE:FREQ=YEARLY;UNTIL=19180916T010000Z;BYMONTH=9;BYDAY=3MO
END:STANDARD
BEGIN:DAYLIGHT
TZNAME:CEST
TZOFFSETFROM:+0100
TZOFFSETTO:+0200
DTSTART:19440403T020000
RRULE:FREQ=YEARLY;UNTIL=19450402T010000Z;BYMONTH=4;BYDAY=1MO
END:DAYLIGHT
BEGIN:DAYLIGHT
TZNAME:CEMT
TZOFFSETFROM:+0200
TZOFFSETTO:+0300
DTSTART:19450524T020000
RDATE:19470511T030000
END:DAYLIGHT
BEGIN:DAYLIGHT
TZNAME:CEST
TZOFFSETFROM:+0300
TZOFFSETTO:+0200
DTSTART:19450924T030000
RDATE:19470629T030000
END:DAYLIGHT
BEGIN:STANDARD
TZNAME:CET
TZOFFSETFROM:+0100
TZOFFSETTO:+0100
DTSTART:19460101T000000
RDATE:19800101T000000
END:STANDARD
BEGIN:STANDARD
TZNAME:CET
TZOFFSETFROM:+0200
TZOFFSETTO:+0100
DTSTART:19471005T030000
RRULE:FREQ=YEARLY;UNTIL=19491002T010000Z;BYMONTH=10;BYDAY=1SU
END:STANDARD
BEGIN:STANDARD
TZNAME:CET
TZOFFSETFROM:+0200
TZOFFSETTO:+0100
DTSTART:19800928T030000
RRULE:FREQ=YEARLY;UNTIL=19950924T010000Z;BYMONTH=9;BYDAY=-1SU
END:STANDARD
BEGIN:DAYLIGHT
TZNAME:CEST
TZOFFSETFROM:+0100
TZOFFSETTO:+0200
DTSTART:19810329T020000
RRULE:FREQ=YEARLY;BYMONTH=3;BYDAY=-1SU
END:DAYLIGHT
BEGIN:STANDARD
TZNAME:CET
TZOFFSETFROM:+0200
TZOFFSETTO:+0100
DTSTART:19961027T030000
RRULE:FREQ=YEARLY;BYMONTH=10;BYDAY=-1SU
END:STANDARD
END:VTIMEZONE
BEGIN:VEVENT
DTSTAMP:20260424T140352Z
DTSTART;TZID=Europe/Berlin:20251101T151500
DTEND;TZID=Europe/Berlin:20251101T181500
SUMMARY:JUG 3. SK Gr. 3 Kirchberg vs Herzogenbuchsee (5)
UID:70d5403d-5af1-44ba-99eb-9603beb66fc3
STATUS:CONFIRMED
LAST-MODIFIED:20251111T072448Z
DESCRIPTION:Jugend 3. Stärkeklasse Gruppe 3\nBegegnungs-Nr: 5\nHeim: Kirchberg\nGast: Herzogenbuchsee\n
LOCATION:
CATEGORIES:Saison 2025/26
END:VEVENT
BEGIN:VEVENT
DTSTAMP:20260424T140352Z
DTSTART;TZID=Europe/Berlin:20260124T160000
DTEND;TZID=Europe/Berlin:20260124T190000
SUMMARY:JUG 3. SK Gr. 3 Kirchberg vs Köniz III (10)
UID:553603ac-e380-4c5b-a2bf-5ae19b150179
STATUS:CONFIRMED
LAST-MODIFIED:20260125T000712Z
DESCRIPTION:Jugend 3. Stärkeklasse Gruppe 3\nBegegnungs-Nr: 10\nHeim: Kirchberg\nGast: Köniz III\n
LOCATION:
CATEGORIES:Saison 2025/26
END:VEVENT
BEGIN:VEVENT
DTSTAMP:20260424T140352Z
DTSTART;TZID=Europe/Berlin:20251101T134500
DTEND;TZID=Europe/Berlin:20251101T164500
SUMMARY:JUG 3. SK Gr. 3 Burgdorf II vs Kirchberg (3)
UID:72998eea-8ac4-48ca-a1c0-34c2fb8a55f0
STATUS:CONFIRMED
LAST-MODIFIED:20251111T072420Z
DESCRIPTION:Jugend 3. Stärkeklasse Gruppe 3\nBegegnungs-Nr: 3\nHeim: Burgdorf II\nGast: Kirchberg\n
LOCATION:
CATEGORIES:Saison 2025/26
END:VEVENT
BEGIN:VEVENT
DTSTAMP:20260424T140352Z
DTSTART;TZID=Europe/Berlin:20260124T130000
DTEND;TZID=Europe/Berlin:20260124T160000
SUMMARY:JUG 3. SK Gr. 3 Lyss II vs Kirchberg (9)
UID:1ceb0b64-25a3-418b-bec1-34887006b237
STATUS:CONFIRMED
LAST-MODIFIED:20260217T214701Z
DESCRIPTION:Jugend 3. Stärkeklasse Gruppe 3\nBegegnungs-Nr: 9\nHeim: Lyss II\nGast: Kirchberg\n
LOCATION:
CATEGORIES:Saison 2025/26
END:VEVENT
BEGIN:VEVENT
DTSTAMP:20260424T140352Z
DTSTART;TZID=Europe/Berlin:20260320T193000
DTEND;TZID=Europe/Berlin:20260320T223000
SUMMARY:JUG 3. SK Gr. 3 Bern V vs Kirchberg (15)
UID:eedddcc2-4e11-457e-a116-eb8a7751ddcb
STATUS:CONFIRMED
LAST-MODIFIED:20260327T144402Z
DESCRIPTION:Jugend 3. Stärkeklasse Gruppe 3\nBegegnungs-Nr: 15\nHeim: Bern V\nGast: Kirchberg\n\nAdresse: Papiermühlestrasse 81\, 3014 Bern\n
LOCATION:Papiermühlestrasse 81\, 3014 Bern
CATEGORIES:Saison 2025/26
END:VEVENT
END:VCALENDAR
