BEGIN:VCALENDAR
PRODID:-//nuDatenautomaten//framework iCal4j //DE
VERSION:2.0
CALSCALE:GREGORIAN
BEGIN:VTIMEZONE
TZID:Europe/Berlin
LAST-MODIFIED:20260306T231828Z
TZURL:https://www.tzurl.org/zoneinfo/Europe/Berlin
X-LIC-LOCATION:Europe/Berlin
X-PROLEPTIC-TZNAME:LMT
BEGIN:STANDARD
TZNAME:CET
TZOFFSETFROM:+005328
TZOFFSETTO:+0100
DTSTART:18930401T000000
END:STANDARD
BEGIN:DAYLIGHT
TZNAME:CEST
TZOFFSETFROM:+0100
TZOFFSETTO:+0200
DTSTART:19160430T230000
RDATE:19400401T020000
RDATE:19430329T020000
RDATE:19460414T020000
RDATE:19470406T030000
RDATE:19480418T020000
RDATE:19490410T020000
RDATE:19800406T020000
END:DAYLIGHT
BEGIN:STANDARD
TZNAME:CET
TZOFFSETFROM:+0200
TZOFFSETTO:+0100
DTSTART:19161001T010000
RDATE:19421102T030000
RDATE:19431004T030000
RDATE:19441002T030000
RDATE:19451118T030000
RDATE:19461007T030000
END:STANDARD
BEGIN:DAYLIGHT
TZNAME:CEST
TZOFFSETFROM:+0100
TZOFFSETTO:+0200
DTSTART:19170416T020000
RRULE:FREQ=YEARLY;UNTIL=19180415T010000Z;BYMONTH=4;BYDAY=3MO
END:DAYLIGHT
BEGIN:STANDARD
TZNAME:CET
TZOFFSETFROM:+0200
TZOFFSETTO:+0100
DTSTART:19170917T030000
RRULE:FREQ=YEARLY;UNTIL=19180916T010000Z;BYMONTH=9;BYDAY=3MO
END:STANDARD
BEGIN:DAYLIGHT
TZNAME:CEST
TZOFFSETFROM:+0100
TZOFFSETTO:+0200
DTSTART:19440403T020000
RRULE:FREQ=YEARLY;UNTIL=19450402T010000Z;BYMONTH=4;BYDAY=1MO
END:DAYLIGHT
BEGIN:DAYLIGHT
TZNAME:CEMT
TZOFFSETFROM:+0200
TZOFFSETTO:+0300
DTSTART:19450524T020000
RDATE:19470511T030000
END:DAYLIGHT
BEGIN:DAYLIGHT
TZNAME:CEST
TZOFFSETFROM:+0300
TZOFFSETTO:+0200
DTSTART:19450924T030000
RDATE:19470629T030000
END:DAYLIGHT
BEGIN:STANDARD
TZNAME:CET
TZOFFSETFROM:+0100
TZOFFSETTO:+0100
DTSTART:19460101T000000
RDATE:19800101T000000
END:STANDARD
BEGIN:STANDARD
TZNAME:CET
TZOFFSETFROM:+0200
TZOFFSETTO:+0100
DTSTART:19471005T030000
RRULE:FREQ=YEARLY;UNTIL=19491002T010000Z;BYMONTH=10;BYDAY=1SU
END:STANDARD
BEGIN:STANDARD
TZNAME:CET
TZOFFSETFROM:+0200
TZOFFSETTO:+0100
DTSTART:19800928T030000
RRULE:FREQ=YEARLY;UNTIL=19950924T010000Z;BYMONTH=9;BYDAY=-1SU
END:STANDARD
BEGIN:DAYLIGHT
TZNAME:CEST
TZOFFSETFROM:+0100
TZOFFSETTO:+0200
DTSTART:19810329T020000
RRULE:FREQ=YEARLY;BYMONTH=3;BYDAY=-1SU
END:DAYLIGHT
BEGIN:STANDARD
TZNAME:CET
TZOFFSETFROM:+0200
TZOFFSETTO:+0100
DTSTART:19961027T030000
RRULE:FREQ=YEARLY;BYMONTH=10;BYDAY=-1SU
END:STANDARD
END:VTIMEZONE
BEGIN:VEVENT
DTSTAMP:20260424T103949Z
DTSTART;TZID=Europe/Berlin:20251203T200000
DTEND;TZID=Europe/Berlin:20251203T230000
SUMMARY:Ligue 5 Gr.4 Ph.A Carouge VII vs UGS-Chênois XI (20)
UID:4817b5ae-a4bf-4e62-96cf-6ea0fd5af296
STATUS:CONFIRMED
LAST-MODIFIED:20251205T082740Z
DESCRIPTION:5ème ligue Hommes Gr.4 Phase A\nBegegnungs-Nr: 20\nHeim: Carouge VII\nGast: UGS-Chênois XI\n
LOCATION:
CATEGORIES:Saison 2025/26
END:VEVENT
BEGIN:VEVENT
DTSTAMP:20260424T103949Z
DTSTART;TZID=Europe/Berlin:20251119T200000
DTEND;TZID=Europe/Berlin:20251119T230000
SUMMARY:Ligue 5 Gr.4 Ph.A Carouge VII vs Onex IV (16)
UID:f039a949-a1ad-435c-acf6-aeeafcfab4f7
STATUS:CONFIRMED
LAST-MODIFIED:20251120T195445Z
DESCRIPTION:5ème ligue Hommes Gr.4 Phase A\nBegegnungs-Nr: 16\nHeim: Carouge VII\nGast: Onex IV\n\nAdresse: Route de Veyrier 44\, 1227 Carouge GE\n
LOCATION:Route de Veyrier 44\, 1227 Carouge GE
CATEGORIES:Saison 2025/26
END:VEVENT
BEGIN:VEVENT
DTSTAMP:20260424T103949Z
DTSTART;TZID=Europe/Berlin:20250917T200000
DTEND;TZID=Europe/Berlin:20250917T230000
SUMMARY:Ligue 5 Gr.4 Ph.A Carouge VII vs Onex V (4)
UID:d725572e-2283-4bc1-ae61-94657b5307c2
STATUS:CONFIRMED
LAST-MODIFIED:20250918T145521Z
DESCRIPTION:5ème ligue Hommes Gr.4 Phase A\nBegegnungs-Nr: 4\nHeim: Carouge VII\nGast: Onex V\n
LOCATION:
CATEGORIES:Saison 2025/26
END:VEVENT
BEGIN:VEVENT
DTSTAMP:20260424T103949Z
DTSTART;TZID=Europe/Berlin:20251029T200000
DTEND;TZID=Europe/Berlin:20251029T230000
SUMMARY:Ligue 5 Gr.4 Ph.A Carouge VII vs Puplinge III (12)
UID:ca8c6a62-3141-41fe-8346-7b1b931ddce7
STATUS:CONFIRMED
LAST-MODIFIED:20251031T074746Z
DESCRIPTION:5ème ligue Hommes Gr.4 Phase A\nBegegnungs-Nr: 12\nHeim: Carouge VII\nGast: Puplinge III\n
LOCATION:
CATEGORIES:Saison 2025/26
END:VEVENT
BEGIN:VEVENT
DTSTAMP:20260424T103949Z
DTSTART;TZID=Europe/Berlin:20260121T200000
DTEND;TZID=Europe/Berlin:20260121T230000
SUMMARY:Ligue 5 Gr.1 Ph.B Carouge VII vs Grand-Saconnex III (6)
UID:6abf60c8-a551-40b4-8d07-901aefb1744c
STATUS:CONFIRMED
LAST-MODIFIED:20260122T094842Z
DESCRIPTION:5ème ligue Hommes Gr.1 Phase B\nBegegnungs-Nr: 6\nHeim: Carouge VII\nGast: Grand-Saconnex III\n
LOCATION:
CATEGORIES:Saison 2025/26
END:VEVENT
BEGIN:VEVENT
DTSTAMP:20260424T103949Z
DTSTART;TZID=Europe/Berlin:20260128T200000
DTEND;TZID=Europe/Berlin:20260128T230000
SUMMARY:Ligue 5 Gr.1 Ph.B Carouge VII vs Châtelaine IX (9)
UID:5676ac46-735b-4a0b-9651-b5c482c95171
STATUS:CONFIRMED
LAST-MODIFIED:20260130T185042Z
DESCRIPTION:5ème ligue Hommes Gr.1 Phase B\nBegegnungs-Nr: 9\nHeim: Carouge VII\nGast: Châtelaine IX\n
LOCATION:
CATEGORIES:Saison 2025/26
END:VEVENT
BEGIN:VEVENT
DTSTAMP:20260424T103949Z
DTSTART;TZID=Europe/Berlin:20260429T200000
DTEND;TZID=Europe/Berlin:20260429T230000
SUMMARY:Ligue 5 Gr.1 Ph.B Carouge VII vs Veyrier IV (30)
UID:6762284e-4104-4484-ac83-2d63bb6d7b71
STATUS:CONFIRMED
DESCRIPTION:5ème ligue Hommes Gr.1 Phase B\nBegegnungs-Nr: 30\nHeim: Carouge VII\nGast: Veyrier IV\n
LOCATION:
CATEGORIES:Saison 2025/26
END:VEVENT
BEGIN:VEVENT
DTSTAMP:20260424T103949Z
DTSTART;TZID=Europe/Berlin:20260401T200000
DTEND;TZID=Europe/Berlin:20260401T230000
SUMMARY:Ligue 5 Gr.1 Ph.B Carouge VII vs Meyrin VII (27)
UID:03f7a66d-90e8-4f58-b513-c60526ccc45b
STATUS:CONFIRMED
LAST-MODIFIED:20260402T091420Z
DESCRIPTION:5ème ligue Hommes Gr.1 Phase B\nBegegnungs-Nr: 27\nHeim: Carouge VII\nGast: Meyrin VII\n
LOCATION:
CATEGORIES:Saison 2025/26
END:VEVENT
BEGIN:VEVENT
DTSTAMP:20260424T103949Z
DTSTART;TZID=Europe/Berlin:20251114T194500
DTEND;TZID=Europe/Berlin:20251114T224500
SUMMARY:Ligue 5 Gr.4 Ph.A Onex V vs Carouge VII (14)
UID:d3abe197-aa82-42ee-bde9-d2667d713d15
STATUS:CONFIRMED
LAST-MODIFIED:20251115T175426Z
DESCRIPTION:5ème ligue Hommes Gr.4 Phase A\nBegegnungs-Nr: 14\nHeim: Onex V\nGast: Carouge VII\n
LOCATION:
CATEGORIES:Saison 2025/26
END:VEVENT
BEGIN:VEVENT
DTSTAMP:20260424T103949Z
DTSTART;TZID=Europe/Berlin:20250902T194500
DTEND;TZID=Europe/Berlin:20250902T224500
SUMMARY:Ligue 5 Gr.4 Ph.A Puplinge III vs Carouge VII (2)
UID:6f049807-2ff5-4313-868f-ce54cabe3f04
STATUS:CONFIRMED
LAST-MODIFIED:20250903T154246Z
DESCRIPTION:5ème ligue Hommes Gr.4 Phase A\nBegegnungs-Nr: 2\nHeim: Puplinge III\nGast: Carouge VII\n\nAdresse: Chemin de la Brenaz\,  15\, 1241 Puplinge\n
LOCATION:Chemin de la Brenaz\,  15\, 1241 Puplinge
CATEGORIES:Saison 2025/26
END:VEVENT
BEGIN:VEVENT
DTSTAMP:20260424T103949Z
DTSTART;TZID=Europe/Berlin:20250925T194500
DTEND;TZID=Europe/Berlin:20250925T224500
SUMMARY:Ligue 5 Gr.4 Ph.A Onex IV vs Carouge VII (6)
UID:5dce4a58-035b-4b69-b53e-9f20a2efe2fb
STATUS:CONFIRMED
LAST-MODIFIED:20250926T075229Z
DESCRIPTION:5ème ligue Hommes Gr.4 Phase A\nBegegnungs-Nr: 6\nHeim: Onex IV\nGast: Carouge VII\n\nAdresse: Avenue du Bois-de-la Chapelle 90\, 1213 Onex\n
LOCATION:Avenue du Bois-de-la Chapelle 90\, 1213 Onex
CATEGORIES:Saison 2025/26
END:VEVENT
BEGIN:VEVENT
DTSTAMP:20260424T103949Z
DTSTART;TZID=Europe/Berlin:20251015T194500
DTEND;TZID=Europe/Berlin:20251015T224500
SUMMARY:Ligue 5 Gr.4 Ph.A UGS-Chênois XI vs Carouge VII (10)
UID:0be966cb-e445-4732-a705-d94ba211c795
STATUS:CONFIRMED
LAST-MODIFIED:20251016T092901Z
DESCRIPTION:5ème ligue Hommes Gr.4 Phase A\nBegegnungs-Nr: 10\nHeim: UGS-Chênois XI\nGast: Carouge VII\n
LOCATION:
CATEGORIES:Saison 2025/26
END:VEVENT
BEGIN:VEVENT
DTSTAMP:20260424T103949Z
DTSTART;TZID=Europe/Berlin:20260212T194500
DTEND;TZID=Europe/Berlin:20260212T224500
SUMMARY:Ligue 5 Gr.1 Ph.B Meyrin VII vs Carouge VII (12)
UID:3db3044c-2888-4960-a322-603df958ef05
STATUS:CONFIRMED
LAST-MODIFIED:20260213T084436Z
DESCRIPTION:5ème ligue Hommes Gr.1 Phase B\nBegegnungs-Nr: 12\nHeim: Meyrin VII\nGast: Carouge VII\n
LOCATION:
CATEGORIES:Saison 2025/26
END:VEVENT
BEGIN:VEVENT
DTSTAMP:20260424T103949Z
DTSTART;TZID=Europe/Berlin:20260216T194500
DTEND;TZID=Europe/Berlin:20260216T224500
SUMMARY:Ligue 5 Gr.1 Ph.B Veyrier IV vs Carouge VII (15)
UID:04572108-f4ee-4e56-8020-2093e190e398
STATUS:CONFIRMED
LAST-MODIFIED:20260217T180816Z
DESCRIPTION:5ème ligue Hommes Gr.1 Phase B\nBegegnungs-Nr: 15\nHeim: Veyrier IV\nGast: Carouge VII\n\nAdresse: -\, 1255 Veyrier\n
LOCATION:-\, 1255 Veyrier
CATEGORIES:Saison 2025/26
END:VEVENT
BEGIN:VEVENT
DTSTAMP:20260424T103949Z
DTSTART;TZID=Europe/Berlin:20260318T194500
DTEND;TZID=Europe/Berlin:20260318T224500
SUMMARY:Ligue 5 Gr.1 Ph.B Grand-Saconnex III vs Carouge VII (21)
UID:aab04d91-0ec4-4317-8805-bb97fd82aaad
STATUS:CONFIRMED
LAST-MODIFIED:20260320T103545Z
DESCRIPTION:5ème ligue Hommes Gr.1 Phase B\nBegegnungs-Nr: 21\nHeim: Grand-Saconnex III\nGast: Carouge VII\n
LOCATION:
CATEGORIES:Saison 2025/26
END:VEVENT
BEGIN:VEVENT
DTSTAMP:20260424T103949Z
DTSTART;TZID=Europe/Berlin:20260325T194500
DTEND;TZID=Europe/Berlin:20260325T224500
SUMMARY:Ligue 5 Gr.1 Ph.B Châtelaine IX vs Carouge VII (24)
UID:e5d3ffea-4112-4387-8e90-cf604d4e8fdc
STATUS:CONFIRMED
LAST-MODIFIED:20260327T081240Z
DESCRIPTION:5ème ligue Hommes Gr.1 Phase B\nBegegnungs-Nr: 24\nHeim: Châtelaine IX\nGast: Carouge VII\n
LOCATION:
CATEGORIES:Saison 2025/26
END:VEVENT
END:VCALENDAR
