BEGIN:VCALENDAR
PRODID:-//nuDatenautomaten//framework iCal4j //DE
VERSION:2.0
CALSCALE:GREGORIAN
BEGIN:VTIMEZONE
TZID:Europe/Berlin
LAST-MODIFIED:20260306T231828Z
TZURL:https://www.tzurl.org/zoneinfo/Europe/Berlin
X-LIC-LOCATION:Europe/Berlin
X-PROLEPTIC-TZNAME:LMT
BEGIN:STANDARD
TZNAME:CET
TZOFFSETFROM:+005328
TZOFFSETTO:+0100
DTSTART:18930401T000000
END:STANDARD
BEGIN:DAYLIGHT
TZNAME:CEST
TZOFFSETFROM:+0100
TZOFFSETTO:+0200
DTSTART:19160430T230000
RDATE:19400401T020000
RDATE:19430329T020000
RDATE:19460414T020000
RDATE:19470406T030000
RDATE:19480418T020000
RDATE:19490410T020000
RDATE:19800406T020000
END:DAYLIGHT
BEGIN:STANDARD
TZNAME:CET
TZOFFSETFROM:+0200
TZOFFSETTO:+0100
DTSTART:19161001T010000
RDATE:19421102T030000
RDATE:19431004T030000
RDATE:19441002T030000
RDATE:19451118T030000
RDATE:19461007T030000
END:STANDARD
BEGIN:DAYLIGHT
TZNAME:CEST
TZOFFSETFROM:+0100
TZOFFSETTO:+0200
DTSTART:19170416T020000
RRULE:FREQ=YEARLY;UNTIL=19180415T010000Z;BYMONTH=4;BYDAY=3MO
END:DAYLIGHT
BEGIN:STANDARD
TZNAME:CET
TZOFFSETFROM:+0200
TZOFFSETTO:+0100
DTSTART:19170917T030000
RRULE:FREQ=YEARLY;UNTIL=19180916T010000Z;BYMONTH=9;BYDAY=3MO
END:STANDARD
BEGIN:DAYLIGHT
TZNAME:CEST
TZOFFSETFROM:+0100
TZOFFSETTO:+0200
DTSTART:19440403T020000
RRULE:FREQ=YEARLY;UNTIL=19450402T010000Z;BYMONTH=4;BYDAY=1MO
END:DAYLIGHT
BEGIN:DAYLIGHT
TZNAME:CEMT
TZOFFSETFROM:+0200
TZOFFSETTO:+0300
DTSTART:19450524T020000
RDATE:19470511T030000
END:DAYLIGHT
BEGIN:DAYLIGHT
TZNAME:CEST
TZOFFSETFROM:+0300
TZOFFSETTO:+0200
DTSTART:19450924T030000
RDATE:19470629T030000
END:DAYLIGHT
BEGIN:STANDARD
TZNAME:CET
TZOFFSETFROM:+0100
TZOFFSETTO:+0100
DTSTART:19460101T000000
RDATE:19800101T000000
END:STANDARD
BEGIN:STANDARD
TZNAME:CET
TZOFFSETFROM:+0200
TZOFFSETTO:+0100
DTSTART:19471005T030000
RRULE:FREQ=YEARLY;UNTIL=19491002T010000Z;BYMONTH=10;BYDAY=1SU
END:STANDARD
BEGIN:STANDARD
TZNAME:CET
TZOFFSETFROM:+0200
TZOFFSETTO:+0100
DTSTART:19800928T030000
RRULE:FREQ=YEARLY;UNTIL=19950924T010000Z;BYMONTH=9;BYDAY=-1SU
END:STANDARD
BEGIN:DAYLIGHT
TZNAME:CEST
TZOFFSETFROM:+0100
TZOFFSETTO:+0200
DTSTART:19810329T020000
RRULE:FREQ=YEARLY;BYMONTH=3;BYDAY=-1SU
END:DAYLIGHT
BEGIN:STANDARD
TZNAME:CET
TZOFFSETFROM:+0200
TZOFFSETTO:+0100
DTSTART:19961027T030000
RRULE:FREQ=YEARLY;BYMONTH=10;BYDAY=-1SU
END:STANDARD
END:VTIMEZONE
BEGIN:VEVENT
DTSTAMP:20260424T062140Z
DTSTART;TZID=Europe/Berlin:20251024T200000
DTEND;TZID=Europe/Berlin:20251024T230000
SUMMARY:16telFinal Bremgarten vs Möhlin (6)
UID:5722be49-dc8f-4abe-ab44-0ca1d8590087
STATUS:CONFIRMED
DESCRIPTION:Sechzehntelfinal\nBegegnungs-Nr: 6\nHeim: Bremgarten\nGast: Möhlin\n
LOCATION:
CATEGORIES:Saison Cup 2025/26
END:VEVENT
BEGIN:VEVENT
DTSTAMP:20260424T062140Z
DTSTART;TZID=Europe/Berlin:20260107T200000
DTEND;TZID=Europe/Berlin:20260107T230000
SUMMARY:4telFinal Bremgarten vs Aarau III (2)
UID:7231d9c5-19ba-45c3-ac75-d81542bb5b8b
STATUS:CONFIRMED
DESCRIPTION:Viertelfinal\nBegegnungs-Nr: 2\nHeim: Bremgarten\nGast: Aarau III\n
LOCATION:
CATEGORIES:Saison Cup 2025/26
END:VEVENT
BEGIN:VEVENT
DTSTAMP:20260424T062140Z
DTSTART;TZID=Europe/Berlin:20251027T200000
DTEND;TZID=Europe/Berlin:20251027T230000
SUMMARY:8telFinal Olten vs Bremgarten (3)
UID:88127088-3c78-4dcc-9b67-136566a92a39
STATUS:CONFIRMED
DESCRIPTION:Achtelfinal\nBegegnungs-Nr: 3\nHeim: Olten\nGast: Bremgarten\n
LOCATION:
CATEGORIES:Saison Cup 2025/26
END:VEVENT
BEGIN:VEVENT
DTSTAMP:20260424T062140Z
DTSTART;TZID=Europe/Berlin:20260425T133000
DTEND;TZID=Europe/Berlin:20260425T163000
SUMMARY:Halbfinal Schöftland vs Bremgarten (1)
UID:3cabfb60-ec49-49e7-925c-51513b582c2d
STATUS:CONFIRMED
DESCRIPTION:Halbfinal\nBegegnungs-Nr: 1\nHeim: Schöftland\nGast: Bremgarten\n
LOCATION:
CATEGORIES:Saison Cup 2025/26
END:VEVENT
END:VCALENDAR
