BEGIN:VCALENDAR
PRODID:-//nuDatenautomaten//framework iCal4j //DE
VERSION:2.0
CALSCALE:GREGORIAN
BEGIN:VTIMEZONE
TZID:Europe/Berlin
LAST-MODIFIED:20260306T231828Z
TZURL:https://www.tzurl.org/zoneinfo/Europe/Berlin
X-LIC-LOCATION:Europe/Berlin
X-PROLEPTIC-TZNAME:LMT
BEGIN:STANDARD
TZNAME:CET
TZOFFSETFROM:+005328
TZOFFSETTO:+0100
DTSTART:18930401T000000
END:STANDARD
BEGIN:DAYLIGHT
TZNAME:CEST
TZOFFSETFROM:+0100
TZOFFSETTO:+0200
DTSTART:19160430T230000
RDATE:19400401T020000
RDATE:19430329T020000
RDATE:19460414T020000
RDATE:19470406T030000
RDATE:19480418T020000
RDATE:19490410T020000
RDATE:19800406T020000
END:DAYLIGHT
BEGIN:STANDARD
TZNAME:CET
TZOFFSETFROM:+0200
TZOFFSETTO:+0100
DTSTART:19161001T010000
RDATE:19421102T030000
RDATE:19431004T030000
RDATE:19441002T030000
RDATE:19451118T030000
RDATE:19461007T030000
END:STANDARD
BEGIN:DAYLIGHT
TZNAME:CEST
TZOFFSETFROM:+0100
TZOFFSETTO:+0200
DTSTART:19170416T020000
RRULE:FREQ=YEARLY;UNTIL=19180415T010000Z;BYMONTH=4;BYDAY=3MO
END:DAYLIGHT
BEGIN:STANDARD
TZNAME:CET
TZOFFSETFROM:+0200
TZOFFSETTO:+0100
DTSTART:19170917T030000
RRULE:FREQ=YEARLY;UNTIL=19180916T010000Z;BYMONTH=9;BYDAY=3MO
END:STANDARD
BEGIN:DAYLIGHT
TZNAME:CEST
TZOFFSETFROM:+0100
TZOFFSETTO:+0200
DTSTART:19440403T020000
RRULE:FREQ=YEARLY;UNTIL=19450402T010000Z;BYMONTH=4;BYDAY=1MO
END:DAYLIGHT
BEGIN:DAYLIGHT
TZNAME:CEMT
TZOFFSETFROM:+0200
TZOFFSETTO:+0300
DTSTART:19450524T020000
RDATE:19470511T030000
END:DAYLIGHT
BEGIN:DAYLIGHT
TZNAME:CEST
TZOFFSETFROM:+0300
TZOFFSETTO:+0200
DTSTART:19450924T030000
RDATE:19470629T030000
END:DAYLIGHT
BEGIN:STANDARD
TZNAME:CET
TZOFFSETFROM:+0100
TZOFFSETTO:+0100
DTSTART:19460101T000000
RDATE:19800101T000000
END:STANDARD
BEGIN:STANDARD
TZNAME:CET
TZOFFSETFROM:+0200
TZOFFSETTO:+0100
DTSTART:19471005T030000
RRULE:FREQ=YEARLY;UNTIL=19491002T010000Z;BYMONTH=10;BYDAY=1SU
END:STANDARD
BEGIN:STANDARD
TZNAME:CET
TZOFFSETFROM:+0200
TZOFFSETTO:+0100
DTSTART:19800928T030000
RRULE:FREQ=YEARLY;UNTIL=19950924T010000Z;BYMONTH=9;BYDAY=-1SU
END:STANDARD
BEGIN:DAYLIGHT
TZNAME:CEST
TZOFFSETFROM:+0100
TZOFFSETTO:+0200
DTSTART:19810329T020000
RRULE:FREQ=YEARLY;BYMONTH=3;BYDAY=-1SU
END:DAYLIGHT
BEGIN:STANDARD
TZNAME:CET
TZOFFSETFROM:+0200
TZOFFSETTO:+0100
DTSTART:19961027T030000
RRULE:FREQ=YEARLY;BYMONTH=10;BYDAY=-1SU
END:STANDARD
END:VTIMEZONE
BEGIN:VEVENT
DTSTAMP:20260424T063726Z
DTSTART;TZID=Europe/Berlin:20260110T130000
DTEND;TZID=Europe/Berlin:20260110T160000
SUMMARY:HE 5. Liga Gr. 1 Thun VI vs Bern X (4)
UID:0e4e1016-2fbc-4c0a-b4e8-a5831a994573
STATUS:CONFIRMED
LAST-MODIFIED:20260125T002140Z
DESCRIPTION:5. Liga Herren Gruppe 1\nBegegnungs-Nr: 4\nHeim: Thun VI\nGast: Bern X\n\nAdresse: Hallerstrasse 28\, 3604 Thun\n
LOCATION:Hallerstrasse 28\, 3604 Thun
CATEGORIES:Saison 2025/26
END:VEVENT
BEGIN:VEVENT
DTSTAMP:20260424T063726Z
DTSTART;TZID=Europe/Berlin:20260228T130000
DTEND;TZID=Europe/Berlin:20260228T160000
SUMMARY:HE 5. Liga Gr. 1 Thun VI vs Steffisburg (19)
UID:c8ede340-df5a-4d3c-9a82-4a55ba5ee066
STATUS:CONFIRMED
LAST-MODIFIED:20260302T144824Z
DESCRIPTION:5. Liga Herren Gruppe 1\nBegegnungs-Nr: 19\nHeim: Thun VI\nGast: Steffisburg\n\nAdresse: Hallerstrasse 28\, 3604 Thun\n
LOCATION:Hallerstrasse 28\, 3604 Thun
CATEGORIES:Saison 2025/26
END:VEVENT
BEGIN:VEVENT
DTSTAMP:20260424T063726Z
DTSTART;TZID=Europe/Berlin:20260207T130000
DTEND;TZID=Europe/Berlin:20260207T160000
SUMMARY:HE 5. Liga Gr. 1 Thun VI vs Wichtrach II (10)
UID:5e173abc-1e79-48ff-a841-02e5f7d56669
STATUS:CONFIRMED
LAST-MODIFIED:20260217T214114Z
DESCRIPTION:5. Liga Herren Gruppe 1\nBegegnungs-Nr: 10\nHeim: Thun VI\nGast: Wichtrach II\n\nAdresse: Hallerstrasse 28\, 3604 Thun\n
LOCATION:Hallerstrasse 28\, 3604 Thun
CATEGORIES:Saison 2025/26
END:VEVENT
BEGIN:VEVENT
DTSTAMP:20260424T063726Z
DTSTART;TZID=Europe/Berlin:20251108T160000
DTEND;TZID=Europe/Berlin:20251108T190000
SUMMARY:HE 5. Liga Gr. 1 Thun VI vs Langnau V (28)
UID:43f8c6dd-280e-4401-8b4a-bcb41434c0cb
STATUS:CONFIRMED
LAST-MODIFIED:20251115T173126Z
DESCRIPTION:5. Liga Herren Gruppe 1\nBegegnungs-Nr: 28\nHeim: Thun VI\nGast: Langnau V\n\nAdresse: Hallerstrasse 28\, 3604 Thun\n
LOCATION:Hallerstrasse 28\, 3604 Thun
CATEGORIES:Saison 2025/26
END:VEVENT
BEGIN:VEVENT
DTSTAMP:20260424T063726Z
DTSTART;TZID=Europe/Berlin:20251126T200000
DTEND;TZID=Europe/Berlin:20251126T230000
SUMMARY:HE 5. Liga Gr. 1 Thun VI vs Interlaken III (24)
UID:26d8bd56-7cd6-4aa6-be46-fa5eccd92a78
STATUS:CONFIRMED
LAST-MODIFIED:20251207T173602Z
DESCRIPTION:5. Liga Herren Gruppe 1\nBegegnungs-Nr: 24\nHeim: Thun VI\nGast: Interlaken III\n\nAdresse: Hallerstrasse 28\, 3604 Thun\n
LOCATION:Hallerstrasse 28\, 3604 Thun
CATEGORIES:Saison 2025/26
END:VEVENT
BEGIN:VEVENT
DTSTAMP:20260424T063726Z
DTSTART;TZID=Europe/Berlin:20251101T130000
DTEND;TZID=Europe/Berlin:20251101T160000
SUMMARY:HE 5. Liga Gr. 1 Thun VI vs Münsingen IV (15)
UID:cb24dedb-def0-4859-874b-390042fbc3d7
STATUS:CONFIRMED
LAST-MODIFIED:20251111T071916Z
DESCRIPTION:5. Liga Herren Gruppe 1\nBegegnungs-Nr: 15\nHeim: Thun VI\nGast: Münsingen IV\n\nAdresse: Hallerstrasse 28\, 3604 Thun\n
LOCATION:Hallerstrasse 28\, 3604 Thun
CATEGORIES:Saison 2025/26
END:VEVENT
BEGIN:VEVENT
DTSTAMP:20260424T063726Z
DTSTART;TZID=Europe/Berlin:20250917T194500
DTEND;TZID=Europe/Berlin:20250917T224500
SUMMARY:HE 5. Liga Gr. 1 Thun VI vs Worb III (5)
UID:860ed106-840b-429e-a4e3-7037084b3e6a
STATUS:CONFIRMED
LAST-MODIFIED:20250921T150304Z
DESCRIPTION:5. Liga Herren Gruppe 1\nBegegnungs-Nr: 5\nHeim: Thun VI\nGast: Worb III\n\nAdresse: Hallerstrasse 28\, 3604 Thun\n
LOCATION:Hallerstrasse 28\, 3604 Thun
CATEGORIES:Saison 2025/26
END:VEVENT
BEGIN:VEVENT
DTSTAMP:20260424T063726Z
DTSTART;TZID=Europe/Berlin:20260121T194500
DTEND;TZID=Europe/Berlin:20260121T224500
SUMMARY:HE 5. Liga Gr. 1 Worb III vs Thun VI (5)
UID:c2ab9cc8-4fa9-4737-b691-3a53e8dae914
STATUS:CONFIRMED
LAST-MODIFIED:20260125T002224Z
DESCRIPTION:5. Liga Herren Gruppe 1\nBegegnungs-Nr: 5\nHeim: Worb III\nGast: Thun VI\n\nAdresse: Rosenweg 9\, 3075 Rüfenacht BE\n
LOCATION:Rosenweg 9\, 3075 Rüfenacht BE
CATEGORIES:Saison 2025/26
END:VEVENT
BEGIN:VEVENT
DTSTAMP:20260424T063726Z
DTSTART;TZID=Europe/Berlin:20260313T200000
DTEND;TZID=Europe/Berlin:20260313T230000
SUMMARY:HE 5. Liga Gr. 1 Interlaken III vs Thun VI (24)
UID:18451a22-4905-4564-986d-b04b93d4cb77
STATUS:CONFIRMED
LAST-MODIFIED:20260315T230331Z
DESCRIPTION:5. Liga Herren Gruppe 1\nBegegnungs-Nr: 24\nHeim: Interlaken III\nGast: Thun VI\n\nAdresse: Burgweg 239R\, 3852 Ringgenberg\n
LOCATION:Burgweg 239R\, 3852 Ringgenberg
CATEGORIES:Saison 2025/26
END:VEVENT
BEGIN:VEVENT
DTSTAMP:20260424T063726Z
DTSTART;TZID=Europe/Berlin:20260218T200000
DTEND;TZID=Europe/Berlin:20260218T230000
SUMMARY:HE 5. Liga Gr. 1 Münsingen IV vs Thun VI (15)
UID:902b644c-f9c5-472a-942a-3faea3f02b99
STATUS:CONFIRMED
LAST-MODIFIED:20260224T074930Z
DESCRIPTION:5. Liga Herren Gruppe 1\nBegegnungs-Nr: 15\nHeim: Münsingen IV\nGast: Thun VI\n\nAdresse: Turnhallenweg 8\, 3110 Münsingen\n
LOCATION:Turnhallenweg 8\, 3110 Münsingen
CATEGORIES:Saison 2025/26
END:VEVENT
BEGIN:VEVENT
DTSTAMP:20260424T063726Z
DTSTART;TZID=Europe/Berlin:20260325T200000
DTEND;TZID=Europe/Berlin:20260325T230000
SUMMARY:HE 5. Liga Gr. 1 Langnau V vs Thun VI (28)
UID:1417ee36-6e4a-43bc-93e0-c534212b1dec
STATUS:CONFIRMED
LAST-MODIFIED:20260409T123107Z
DESCRIPTION:5. Liga Herren Gruppe 1\nBegegnungs-Nr: 28\nHeim: Langnau V\nGast: Thun VI\n\nAdresse: Bleicheweg 11\, 3550 Langnau\n
LOCATION:Bleicheweg 11\, 3550 Langnau
CATEGORIES:Saison 2025/26
END:VEVENT
BEGIN:VEVENT
DTSTAMP:20260424T063726Z
DTSTART;TZID=Europe/Berlin:20251121T194500
DTEND;TZID=Europe/Berlin:20251121T224500
SUMMARY:HE 5. Liga Gr. 1 Steffisburg vs Thun VI (19)
UID:0054b6fb-d492-4545-927f-dfaf94694420
STATUS:CONFIRMED
LAST-MODIFIED:20251122T091351Z
DESCRIPTION:5. Liga Herren Gruppe 1\nBegegnungs-Nr: 19\nHeim: Steffisburg\nGast: Thun VI\n\nAdresse: Sonnenfeldstrasse 10\, 3613 Steffisburg\n
LOCATION:Sonnenfeldstrasse 10\, 3613 Steffisburg
CATEGORIES:Saison 2025/26
END:VEVENT
BEGIN:VEVENT
DTSTAMP:20260424T063726Z
DTSTART;TZID=Europe/Berlin:20251024T200000
DTEND;TZID=Europe/Berlin:20251024T230000
SUMMARY:HE 5. Liga Gr. 1 Wichtrach II vs Thun VI (10)
UID:0c032c8d-b3a9-452a-ad22-b887336fdfb0
STATUS:CONFIRMED
LAST-MODIFIED:20251029T221210Z
DESCRIPTION:5. Liga Herren Gruppe 1\nBegegnungs-Nr: 10\nHeim: Wichtrach II\nGast: Thun VI\n\nAdresse: Hängertstrasse 4\, 3114 Wichtrach\n
LOCATION:Hängertstrasse 4\, 3114 Wichtrach
CATEGORIES:Saison 2025/26
END:VEVENT
BEGIN:VEVENT
DTSTAMP:20260424T063726Z
DTSTART;TZID=Europe/Berlin:20250901T193000
DTEND;TZID=Europe/Berlin:20250901T223000
SUMMARY:HE 5. Liga Gr. 1 Bern X vs Thun VI (4)
UID:38c40c1c-60bf-408c-a4ee-0d79bed2b011
STATUS:CONFIRMED
LAST-MODIFIED:20250911T065212Z
DESCRIPTION:5. Liga Herren Gruppe 1\nBegegnungs-Nr: 4\nHeim: Bern X\nGast: Thun VI\n\nAdresse: Mädergutstrasse 58\, 3018 Bern\n
LOCATION:Mädergutstrasse 58\, 3018 Bern
CATEGORIES:Saison 2025/26
END:VEVENT
END:VCALENDAR
