BEGIN:VCALENDAR
PRODID:-//nuDatenautomaten//framework iCal4j //DE
VERSION:2.0
CALSCALE:GREGORIAN
BEGIN:VTIMEZONE
TZID:Europe/Berlin
LAST-MODIFIED:20260306T231828Z
TZURL:https://www.tzurl.org/zoneinfo/Europe/Berlin
X-LIC-LOCATION:Europe/Berlin
X-PROLEPTIC-TZNAME:LMT
BEGIN:STANDARD
TZNAME:CET
TZOFFSETFROM:+005328
TZOFFSETTO:+0100
DTSTART:18930401T000000
END:STANDARD
BEGIN:DAYLIGHT
TZNAME:CEST
TZOFFSETFROM:+0100
TZOFFSETTO:+0200
DTSTART:19160430T230000
RDATE:19400401T020000
RDATE:19430329T020000
RDATE:19460414T020000
RDATE:19470406T030000
RDATE:19480418T020000
RDATE:19490410T020000
RDATE:19800406T020000
END:DAYLIGHT
BEGIN:STANDARD
TZNAME:CET
TZOFFSETFROM:+0200
TZOFFSETTO:+0100
DTSTART:19161001T010000
RDATE:19421102T030000
RDATE:19431004T030000
RDATE:19441002T030000
RDATE:19451118T030000
RDATE:19461007T030000
END:STANDARD
BEGIN:DAYLIGHT
TZNAME:CEST
TZOFFSETFROM:+0100
TZOFFSETTO:+0200
DTSTART:19170416T020000
RRULE:FREQ=YEARLY;UNTIL=19180415T010000Z;BYMONTH=4;BYDAY=3MO
END:DAYLIGHT
BEGIN:STANDARD
TZNAME:CET
TZOFFSETFROM:+0200
TZOFFSETTO:+0100
DTSTART:19170917T030000
RRULE:FREQ=YEARLY;UNTIL=19180916T010000Z;BYMONTH=9;BYDAY=3MO
END:STANDARD
BEGIN:DAYLIGHT
TZNAME:CEST
TZOFFSETFROM:+0100
TZOFFSETTO:+0200
DTSTART:19440403T020000
RRULE:FREQ=YEARLY;UNTIL=19450402T010000Z;BYMONTH=4;BYDAY=1MO
END:DAYLIGHT
BEGIN:DAYLIGHT
TZNAME:CEMT
TZOFFSETFROM:+0200
TZOFFSETTO:+0300
DTSTART:19450524T020000
RDATE:19470511T030000
END:DAYLIGHT
BEGIN:DAYLIGHT
TZNAME:CEST
TZOFFSETFROM:+0300
TZOFFSETTO:+0200
DTSTART:19450924T030000
RDATE:19470629T030000
END:DAYLIGHT
BEGIN:STANDARD
TZNAME:CET
TZOFFSETFROM:+0100
TZOFFSETTO:+0100
DTSTART:19460101T000000
RDATE:19800101T000000
END:STANDARD
BEGIN:STANDARD
TZNAME:CET
TZOFFSETFROM:+0200
TZOFFSETTO:+0100
DTSTART:19471005T030000
RRULE:FREQ=YEARLY;UNTIL=19491002T010000Z;BYMONTH=10;BYDAY=1SU
END:STANDARD
BEGIN:STANDARD
TZNAME:CET
TZOFFSETFROM:+0200
TZOFFSETTO:+0100
DTSTART:19800928T030000
RRULE:FREQ=YEARLY;UNTIL=19950924T010000Z;BYMONTH=9;BYDAY=-1SU
END:STANDARD
BEGIN:DAYLIGHT
TZNAME:CEST
TZOFFSETFROM:+0100
TZOFFSETTO:+0200
DTSTART:19810329T020000
RRULE:FREQ=YEARLY;BYMONTH=3;BYDAY=-1SU
END:DAYLIGHT
BEGIN:STANDARD
TZNAME:CET
TZOFFSETFROM:+0200
TZOFFSETTO:+0100
DTSTART:19961027T030000
RRULE:FREQ=YEARLY;BYMONTH=10;BYDAY=-1SU
END:STANDARD
END:VTIMEZONE
BEGIN:VEVENT
DTSTAMP:20260424T005542Z
DTSTART;TZID=Europe/Berlin:20260117T140000
DTEND;TZID=Europe/Berlin:20260117T170000
SUMMARY:2. HR Z 1 Collombey/Muraz vs Mandement (92)
UID:f97ead09-1fb9-4ad8-b23a-321c0d4e93b3
STATUS:CONFIRMED
LAST-MODIFIED:20260120T135703Z
DESCRIPTION:2. Hauptrunde Zone 1\nBegegnungs-Nr: 92\nHeim: Collombey/Muraz\nGast: Mandement\n
LOCATION:
CATEGORIES:Saison Cup 2025/26
END:VEVENT
BEGIN:VEVENT
DTSTAMP:20260424T005542Z
DTSTART;TZID=Europe/Berlin:20260315T170000
DTEND;TZID=Europe/Berlin:20260315T200000
SUMMARY:3. HR Z 1 Collombey/Muraz vs Vernier (124)
UID:6f8b2781-8cc2-4c98-b0cf-b809b4f661ca
STATUS:CONFIRMED
LAST-MODIFIED:20260317T082529Z
DESCRIPTION:3. Hauptrunde Zone 1\nBegegnungs-Nr: 124\nHeim: Collombey/Muraz\nGast: Vernier\n
LOCATION:
CATEGORIES:Saison Cup 2025/26
END:VEVENT
BEGIN:VEVENT
DTSTAMP:20260424T005542Z
DTSTART;TZID=Europe/Berlin:20251027T193000
DTEND;TZID=Europe/Berlin:20251027T223000
SUMMARY:1. HR Z 1 Pully vs Collombey/Muraz (62)
UID:6333f215-2f14-48cc-9426-9fd8a4e80ae9
STATUS:CONFIRMED
LAST-MODIFIED:20251105T131544Z
DESCRIPTION:1. Hauptrunde Zone 1\nBegegnungs-Nr: 62\nHeim: Pully\nGast: Collombey/Muraz\n
LOCATION:
CATEGORIES:Saison Cup 2025/26
END:VEVENT
BEGIN:VEVENT
DTSTAMP:20260424T005542Z
DTSTART;TZID=Europe/Berlin:20250907T150000
DTEND;TZID=Europe/Berlin:20250907T180000
SUMMARY:2. VR Z 1 Veyrier vs Collombey/Muraz (6)
UID:935b623d-0a67-44c6-8a7e-8efac85994bf
STATUS:CONFIRMED
LAST-MODIFIED:20250908T094552Z
DESCRIPTION:2. Vorrunde Zone 1\nBegegnungs-Nr: 6\nHeim: Veyrier\nGast: Collombey/Muraz\n
LOCATION:
CATEGORIES:Saison Cup 2025/26
END:VEVENT
END:VCALENDAR
