BEGIN:VCALENDAR
PRODID:-//nuDatenautomaten//framework iCal4j //DE
VERSION:2.0
CALSCALE:GREGORIAN
BEGIN:VTIMEZONE
TZID:Europe/Berlin
LAST-MODIFIED:20260306T231828Z
TZURL:https://www.tzurl.org/zoneinfo/Europe/Berlin
X-LIC-LOCATION:Europe/Berlin
X-PROLEPTIC-TZNAME:LMT
BEGIN:STANDARD
TZNAME:CET
TZOFFSETFROM:+005328
TZOFFSETTO:+0100
DTSTART:18930401T000000
END:STANDARD
BEGIN:DAYLIGHT
TZNAME:CEST
TZOFFSETFROM:+0100
TZOFFSETTO:+0200
DTSTART:19160430T230000
RDATE:19400401T020000
RDATE:19430329T020000
RDATE:19460414T020000
RDATE:19470406T030000
RDATE:19480418T020000
RDATE:19490410T020000
RDATE:19800406T020000
END:DAYLIGHT
BEGIN:STANDARD
TZNAME:CET
TZOFFSETFROM:+0200
TZOFFSETTO:+0100
DTSTART:19161001T010000
RDATE:19421102T030000
RDATE:19431004T030000
RDATE:19441002T030000
RDATE:19451118T030000
RDATE:19461007T030000
END:STANDARD
BEGIN:DAYLIGHT
TZNAME:CEST
TZOFFSETFROM:+0100
TZOFFSETTO:+0200
DTSTART:19170416T020000
RRULE:FREQ=YEARLY;UNTIL=19180415T010000Z;BYMONTH=4;BYDAY=3MO
END:DAYLIGHT
BEGIN:STANDARD
TZNAME:CET
TZOFFSETFROM:+0200
TZOFFSETTO:+0100
DTSTART:19170917T030000
RRULE:FREQ=YEARLY;UNTIL=19180916T010000Z;BYMONTH=9;BYDAY=3MO
END:STANDARD
BEGIN:DAYLIGHT
TZNAME:CEST
TZOFFSETFROM:+0100
TZOFFSETTO:+0200
DTSTART:19440403T020000
RRULE:FREQ=YEARLY;UNTIL=19450402T010000Z;BYMONTH=4;BYDAY=1MO
END:DAYLIGHT
BEGIN:DAYLIGHT
TZNAME:CEMT
TZOFFSETFROM:+0200
TZOFFSETTO:+0300
DTSTART:19450524T020000
RDATE:19470511T030000
END:DAYLIGHT
BEGIN:DAYLIGHT
TZNAME:CEST
TZOFFSETFROM:+0300
TZOFFSETTO:+0200
DTSTART:19450924T030000
RDATE:19470629T030000
END:DAYLIGHT
BEGIN:STANDARD
TZNAME:CET
TZOFFSETFROM:+0100
TZOFFSETTO:+0100
DTSTART:19460101T000000
RDATE:19800101T000000
END:STANDARD
BEGIN:STANDARD
TZNAME:CET
TZOFFSETFROM:+0200
TZOFFSETTO:+0100
DTSTART:19471005T030000
RRULE:FREQ=YEARLY;UNTIL=19491002T010000Z;BYMONTH=10;BYDAY=1SU
END:STANDARD
BEGIN:STANDARD
TZNAME:CET
TZOFFSETFROM:+0200
TZOFFSETTO:+0100
DTSTART:19800928T030000
RRULE:FREQ=YEARLY;UNTIL=19950924T010000Z;BYMONTH=9;BYDAY=-1SU
END:STANDARD
BEGIN:DAYLIGHT
TZNAME:CEST
TZOFFSETFROM:+0100
TZOFFSETTO:+0200
DTSTART:19810329T020000
RRULE:FREQ=YEARLY;BYMONTH=3;BYDAY=-1SU
END:DAYLIGHT
BEGIN:STANDARD
TZNAME:CET
TZOFFSETFROM:+0200
TZOFFSETTO:+0100
DTSTART:19961027T030000
RRULE:FREQ=YEARLY;BYMONTH=10;BYDAY=-1SU
END:STANDARD
END:VTIMEZONE
BEGIN:VEVENT
DTSTAMP:20260424T115005Z
DTSTART;TZID=Europe/Berlin:20260130T194500
DTEND;TZID=Europe/Berlin:20260130T224500
SUMMARY:2° Divisione Tenero II vs ABTT III (21)
UID:32eeaecd-fbda-4b9b-89d9-1cc90de36b92
STATUS:CONFIRMED
LAST-MODIFIED:20260202T075544Z
DESCRIPTION:2° Divisione\nBegegnungs-Nr: 21\nHeim: Tenero II\nGast: ABTT III\n\nAdresse: Palestra Naviglio\, Gottardo\, Squash\, 6598 Tenero\n
LOCATION:Palestra Naviglio\, Gottardo\, Squash\, 6598 Tenero
CATEGORIES:Saison 2025/26
END:VEVENT
BEGIN:VEVENT
DTSTAMP:20260424T115005Z
DTSTART;TZID=Europe/Berlin:20260227T194500
DTEND;TZID=Europe/Berlin:20260227T224500
SUMMARY:2° Divisione Tenero II vs Riva S.Vitale II (22)
UID:135e9b60-0dd9-45be-aaf8-2703077ad41c
STATUS:CONFIRMED
LAST-MODIFIED:20260301T112131Z
DESCRIPTION:2° Divisione\nBegegnungs-Nr: 22\nHeim: Tenero II\nGast: Riva S.Vitale II\n\nAdresse: Palestra Naviglio\, Gottardo\, Squash\, 6598 Tenero\n
LOCATION:Palestra Naviglio\, Gottardo\, Squash\, 6598 Tenero
CATEGORIES:Saison 2025/26
END:VEVENT
BEGIN:VEVENT
DTSTAMP:20260424T115005Z
DTSTART;TZID=Europe/Berlin:20260313T194500
DTEND;TZID=Europe/Berlin:20260313T224500
SUMMARY:2° Divisione Tenero II vs Lugano IV (26)
UID:e3e9e056-f831-4165-90be-dce632a3ed48
STATUS:CONFIRMED
LAST-MODIFIED:20260316T073645Z
DESCRIPTION:2° Divisione\nBegegnungs-Nr: 26\nHeim: Tenero II\nGast: Lugano IV\n\nAdresse: Palestra Naviglio\, Gottardo\, Squash\, 6598 Tenero\n
LOCATION:Palestra Naviglio\, Gottardo\, Squash\, 6598 Tenero
CATEGORIES:Saison 2025/26
END:VEVENT
BEGIN:VEVENT
DTSTAMP:20260424T115005Z
DTSTART;TZID=Europe/Berlin:20250926T194500
DTEND;TZID=Europe/Berlin:20250926T224500
SUMMARY:2° Divisione Tenero II vs Locarno III (3)
UID:1a7d7bda-a08e-4d1d-a188-c19afba8b88f
STATUS:CONFIRMED
LAST-MODIFIED:20250929T055705Z
DESCRIPTION:2° Divisione\nBegegnungs-Nr: 3\nHeim: Tenero II\nGast: Locarno III\n\nAdresse: Palestra Naviglio\, Gottardo\, Squash\, 6598 Tenero\n
LOCATION:Palestra Naviglio\, Gottardo\, Squash\, 6598 Tenero
CATEGORIES:Saison 2025/26
END:VEVENT
BEGIN:VEVENT
DTSTAMP:20260424T115005Z
DTSTART;TZID=Europe/Berlin:20251205T194500
DTEND;TZID=Europe/Berlin:20251205T224500
SUMMARY:2° Divisione Tenero II vs Lugano V (14)
UID:0f8be64f-c6c8-4b14-a986-5e5cc7982cf2
STATUS:CONFIRMED
LAST-MODIFIED:20251208T085738Z
DESCRIPTION:2° Divisione\nBegegnungs-Nr: 14\nHeim: Tenero II\nGast: Lugano V\n\nAdresse: Palestra Naviglio\, Gottardo\, Squash\, 6598 Tenero\n
LOCATION:Palestra Naviglio\, Gottardo\, Squash\, 6598 Tenero
CATEGORIES:Saison 2025/26
END:VEVENT
BEGIN:VEVENT
DTSTAMP:20260424T115005Z
DTSTART;TZID=Europe/Berlin:20260116T203000
DTEND;TZID=Europe/Berlin:20260116T233000
SUMMARY:2° Divisione Locarno III vs Tenero II (18)
UID:4a457fb5-649c-4ae7-a6f7-1bb5291bb484
STATUS:CONFIRMED
LAST-MODIFIED:20260119T082350Z
DESCRIPTION:2° Divisione\nBegegnungs-Nr: 18\nHeim: Locarno III\nGast: Tenero II\n\nAdresse: Via alla Morettina 3\, 6600 Locarno\n
LOCATION:Via alla Morettina 3\, 6600 Locarno
CATEGORIES:Saison 2025/26
END:VEVENT
BEGIN:VEVENT
DTSTAMP:20260424T115005Z
DTSTART;TZID=Europe/Berlin:20260327T201500
DTEND;TZID=Europe/Berlin:20260327T231500
SUMMARY:2° Divisione Lugano V vs Tenero II (29)
UID:bfb92e9b-948a-45f7-ac86-914c5bb6bf37
STATUS:CONFIRMED
LAST-MODIFIED:20260330T100301Z
DESCRIPTION:2° Divisione\nBegegnungs-Nr: 29\nHeim: Lugano V\nGast: Tenero II\n\nAdresse: Via al Chioso 7\, 6900 Lugano-Cassarate\n
LOCATION:Via al Chioso 7\, 6900 Lugano-Cassarate
CATEGORIES:Saison 2025/26
END:VEVENT
BEGIN:VEVENT
DTSTAMP:20260424T115005Z
DTSTART;TZID=Europe/Berlin:20251010T201500
DTEND;TZID=Europe/Berlin:20251010T231500
SUMMARY:2° Divisione ABTT III vs Tenero II (6)
UID:4045fa1f-9227-4e3b-a2fa-be4fb06ba0b1
STATUS:CONFIRMED
LAST-MODIFIED:20251014T063059Z
DESCRIPTION:2° Divisione\nBegegnungs-Nr: 6\nHeim: ABTT III\nGast: Tenero II\n\nAdresse: Francesco Chiesa 2a\, 6500 Bellinzona\n
LOCATION:Francesco Chiesa 2a\, 6500 Bellinzona
CATEGORIES:Saison 2025/26
END:VEVENT
BEGIN:VEVENT
DTSTAMP:20260424T115005Z
DTSTART;TZID=Europe/Berlin:20251024T203000
DTEND;TZID=Europe/Berlin:20251024T233000
SUMMARY:2° Divisione Riva S.Vitale II vs Tenero II (7)
UID:a948ef12-91b3-4bc4-9531-d24573d4b4d7
STATUS:CONFIRMED
LAST-MODIFIED:20251027T065850Z
DESCRIPTION:2° Divisione\nBegegnungs-Nr: 7\nHeim: Riva S.Vitale II\nGast: Tenero II\n\nAdresse: Via Monsignor Sesti\, 6826 Riva San Vitale\n
LOCATION:Via Monsignor Sesti\, 6826 Riva San Vitale
CATEGORIES:Saison 2025/26
END:VEVENT
BEGIN:VEVENT
DTSTAMP:20260424T115005Z
DTSTART;TZID=Europe/Berlin:20251121T201500
DTEND;TZID=Europe/Berlin:20251121T231500
SUMMARY:2° Divisione Lugano IV vs Tenero II (11)
UID:f6c17a32-c8f3-4fa3-91f0-538a25010a94
STATUS:CONFIRMED
LAST-MODIFIED:20251124T074826Z
DESCRIPTION:2° Divisione\nBegegnungs-Nr: 11\nHeim: Lugano IV\nGast: Tenero II\n\nAdresse: Via al Chioso 7\, 6900 Lugano-Cassarate\n
LOCATION:Via al Chioso 7\, 6900 Lugano-Cassarate
CATEGORIES:Saison 2025/26
END:VEVENT
END:VCALENDAR
