BEGIN:VCALENDAR
PRODID:-//nuDatenautomaten//framework iCal4j //DE
VERSION:2.0
CALSCALE:GREGORIAN
BEGIN:VTIMEZONE
TZID:Europe/Berlin
LAST-MODIFIED:20260306T231828Z
TZURL:https://www.tzurl.org/zoneinfo/Europe/Berlin
X-LIC-LOCATION:Europe/Berlin
X-PROLEPTIC-TZNAME:LMT
BEGIN:STANDARD
TZNAME:CET
TZOFFSETFROM:+005328
TZOFFSETTO:+0100
DTSTART:18930401T000000
END:STANDARD
BEGIN:DAYLIGHT
TZNAME:CEST
TZOFFSETFROM:+0100
TZOFFSETTO:+0200
DTSTART:19160430T230000
RDATE:19400401T020000
RDATE:19430329T020000
RDATE:19460414T020000
RDATE:19470406T030000
RDATE:19480418T020000
RDATE:19490410T020000
RDATE:19800406T020000
END:DAYLIGHT
BEGIN:STANDARD
TZNAME:CET
TZOFFSETFROM:+0200
TZOFFSETTO:+0100
DTSTART:19161001T010000
RDATE:19421102T030000
RDATE:19431004T030000
RDATE:19441002T030000
RDATE:19451118T030000
RDATE:19461007T030000
END:STANDARD
BEGIN:DAYLIGHT
TZNAME:CEST
TZOFFSETFROM:+0100
TZOFFSETTO:+0200
DTSTART:19170416T020000
RRULE:FREQ=YEARLY;UNTIL=19180415T010000Z;BYMONTH=4;BYDAY=3MO
END:DAYLIGHT
BEGIN:STANDARD
TZNAME:CET
TZOFFSETFROM:+0200
TZOFFSETTO:+0100
DTSTART:19170917T030000
RRULE:FREQ=YEARLY;UNTIL=19180916T010000Z;BYMONTH=9;BYDAY=3MO
END:STANDARD
BEGIN:DAYLIGHT
TZNAME:CEST
TZOFFSETFROM:+0100
TZOFFSETTO:+0200
DTSTART:19440403T020000
RRULE:FREQ=YEARLY;UNTIL=19450402T010000Z;BYMONTH=4;BYDAY=1MO
END:DAYLIGHT
BEGIN:DAYLIGHT
TZNAME:CEMT
TZOFFSETFROM:+0200
TZOFFSETTO:+0300
DTSTART:19450524T020000
RDATE:19470511T030000
END:DAYLIGHT
BEGIN:DAYLIGHT
TZNAME:CEST
TZOFFSETFROM:+0300
TZOFFSETTO:+0200
DTSTART:19450924T030000
RDATE:19470629T030000
END:DAYLIGHT
BEGIN:STANDARD
TZNAME:CET
TZOFFSETFROM:+0100
TZOFFSETTO:+0100
DTSTART:19460101T000000
RDATE:19800101T000000
END:STANDARD
BEGIN:STANDARD
TZNAME:CET
TZOFFSETFROM:+0200
TZOFFSETTO:+0100
DTSTART:19471005T030000
RRULE:FREQ=YEARLY;UNTIL=19491002T010000Z;BYMONTH=10;BYDAY=1SU
END:STANDARD
BEGIN:STANDARD
TZNAME:CET
TZOFFSETFROM:+0200
TZOFFSETTO:+0100
DTSTART:19800928T030000
RRULE:FREQ=YEARLY;UNTIL=19950924T010000Z;BYMONTH=9;BYDAY=-1SU
END:STANDARD
BEGIN:DAYLIGHT
TZNAME:CEST
TZOFFSETFROM:+0100
TZOFFSETTO:+0200
DTSTART:19810329T020000
RRULE:FREQ=YEARLY;BYMONTH=3;BYDAY=-1SU
END:DAYLIGHT
BEGIN:STANDARD
TZNAME:CET
TZOFFSETFROM:+0200
TZOFFSETTO:+0100
DTSTART:19961027T030000
RRULE:FREQ=YEARLY;BYMONTH=10;BYDAY=-1SU
END:STANDARD
END:VTIMEZONE
BEGIN:VEVENT
DTSTAMP:20260424T163309Z
DTSTART;TZID=Europe/Berlin:20250930T203000
DTEND;TZID=Europe/Berlin:20250930T233000
SUMMARY:1° Divisione Locarno II vs Riva S.Vitale (5)
UID:a24c441e-b951-47a2-80ba-3805fc7ccdfa
STATUS:CONFIRMED
LAST-MODIFIED:20251001T122254Z
DESCRIPTION:1° Divisione\nBegegnungs-Nr: 5\nHeim: Locarno II\nGast: Riva S.Vitale\n\nAdresse: Via alla Morettina 3\, 6600 Locarno\n
LOCATION:Via alla Morettina 3\, 6600 Locarno
CATEGORIES:Saison 2025/26
END:VEVENT
BEGIN:VEVENT
DTSTAMP:20260424T163309Z
DTSTART;TZID=Europe/Berlin:20251111T203000
DTEND;TZID=Europe/Berlin:20251111T233000
SUMMARY:1° Divisione Locarno II vs ABTT II (10)
UID:d6763641-5bde-44ec-8790-7a3e3991464e
STATUS:CONFIRMED
LAST-MODIFIED:20251113T092536Z
DESCRIPTION:1° Divisione\nBegegnungs-Nr: 10\nHeim: Locarno II\nGast: ABTT II\n\nAdresse: Via alla Morettina 3\, 6600 Locarno\n
LOCATION:Via alla Morettina 3\, 6600 Locarno
CATEGORIES:Saison 2025/26
END:VEVENT
BEGIN:VEVENT
DTSTAMP:20260424T163309Z
DTSTART;TZID=Europe/Berlin:20251209T203000
DTEND;TZID=Europe/Berlin:20251209T233000
SUMMARY:1° Divisione Locarno II vs Locarno (18)
UID:7a2d71f9-004d-4131-b50e-ca037e789abd
STATUS:CONFIRMED
LAST-MODIFIED:20251210T082016Z
DESCRIPTION:1° Divisione\nBegegnungs-Nr: 18\nHeim: Locarno II\nGast: Locarno\n\nAdresse: Via alla Morettina 3\, 6600 Locarno\n
LOCATION:Via alla Morettina 3\, 6600 Locarno
CATEGORIES:Saison 2025/26
END:VEVENT
BEGIN:VEVENT
DTSTAMP:20260424T163309Z
DTSTART;TZID=Europe/Berlin:20260317T203000
DTEND;TZID=Europe/Berlin:20260317T233000
SUMMARY:1° Divisione Locarno II vs Tenero (30)
UID:d291d2ec-2c92-42a5-b85f-7e039011e04f
STATUS:CONFIRMED
LAST-MODIFIED:20260318T112704Z
DESCRIPTION:1° Divisione\nBegegnungs-Nr: 30\nHeim: Locarno II\nGast: Tenero\n\nAdresse: Via alla Morettina 3\, 6600 Locarno\n
LOCATION:Via alla Morettina 3\, 6600 Locarno
CATEGORIES:Saison 2025/26
END:VEVENT
BEGIN:VEVENT
DTSTAMP:20260424T163309Z
DTSTART;TZID=Europe/Berlin:20260203T203000
DTEND;TZID=Europe/Berlin:20260203T233000
SUMMARY:1° Divisione Locarno II vs Lugano III (24)
UID:ef6a3cd1-228c-4681-9c8a-503d976a8b0a
STATUS:CONFIRMED
LAST-MODIFIED:20260205T134905Z
DESCRIPTION:1° Divisione\nBegegnungs-Nr: 24\nHeim: Locarno II\nGast: Lugano III\n\nAdresse: Via alla Morettina 3\, 6600 Locarno\n
LOCATION:Via alla Morettina 3\, 6600 Locarno
CATEGORIES:Saison 2025/26
END:VEVENT
BEGIN:VEVENT
DTSTAMP:20260424T163309Z
DTSTART;TZID=Europe/Berlin:20250917T203000
DTEND;TZID=Europe/Berlin:20250917T233000
SUMMARY:1° Divisione Locarno vs Locarno II (3)
UID:0a6756da-cc43-43a7-a8bf-78b1589bad76
STATUS:CONFIRMED
LAST-MODIFIED:20250922T071002Z
DESCRIPTION:1° Divisione\nBegegnungs-Nr: 3\nHeim: Locarno\nGast: Locarno II\n\nAdresse: Via alla Morettina 3\, 6600 Locarno\n
LOCATION:Via alla Morettina 3\, 6600 Locarno
CATEGORIES:Saison 2025/26
END:VEVENT
BEGIN:VEVENT
DTSTAMP:20260424T163309Z
DTSTART;TZID=Europe/Berlin:20251017T201500
DTEND;TZID=Europe/Berlin:20251017T231500
SUMMARY:1° Divisione Lugano III vs Locarno II (9)
UID:247594f7-203b-4c63-9a01-3d8faf224419
STATUS:CONFIRMED
LAST-MODIFIED:20251020T094433Z
DESCRIPTION:1° Divisione\nBegegnungs-Nr: 9\nHeim: Lugano III\nGast: Locarno II\n\nAdresse: Via al Chioso 7\, 6900 Lugano-Cassarate\n
LOCATION:Via al Chioso 7\, 6900 Lugano-Cassarate
CATEGORIES:Saison 2025/26
END:VEVENT
BEGIN:VEVENT
DTSTAMP:20260424T163309Z
DTSTART;TZID=Europe/Berlin:20251128T194500
DTEND;TZID=Europe/Berlin:20251128T224500
SUMMARY:1° Divisione Tenero vs Locarno II (15)
UID:a6a9524e-3cbd-44c5-a885-f2d967a93611
STATUS:CONFIRMED
LAST-MODIFIED:20251201T080547Z
DESCRIPTION:1° Divisione\nBegegnungs-Nr: 15\nHeim: Tenero\nGast: Locarno II\n\nAdresse: Palestra Naviglio\, Gottardo\, Squash\, 6598 Tenero\n
LOCATION:Palestra Naviglio\, Gottardo\, Squash\, 6598 Tenero
CATEGORIES:Saison 2025/26
END:VEVENT
BEGIN:VEVENT
DTSTAMP:20260424T163309Z
DTSTART;TZID=Europe/Berlin:20260123T203000
DTEND;TZID=Europe/Berlin:20260123T233000
SUMMARY:1° Divisione Riva S.Vitale vs Locarno II (20)
UID:594dbbbb-b948-4103-b9e0-09d49e993b5c
STATUS:CONFIRMED
LAST-MODIFIED:20260126T073059Z
DESCRIPTION:1° Divisione\nBegegnungs-Nr: 20\nHeim: Riva S.Vitale\nGast: Locarno II\n\nAdresse: Via Monsignor Sesti\, 6826 Riva San Vitale\n
LOCATION:Via Monsignor Sesti\, 6826 Riva San Vitale
CATEGORIES:Saison 2025/26
END:VEVENT
BEGIN:VEVENT
DTSTAMP:20260424T163309Z
DTSTART;TZID=Europe/Berlin:20260306T201500
DTEND;TZID=Europe/Berlin:20260306T231500
SUMMARY:1° Divisione ABTT II vs Locarno II (25)
UID:3e96b8ec-1e42-4c66-a4e1-d55f4b8651c7
STATUS:CONFIRMED
LAST-MODIFIED:20260309T083651Z
DESCRIPTION:1° Divisione\nBegegnungs-Nr: 25\nHeim: ABTT II\nGast: Locarno II\n\nAdresse: Francesco Chiesa 2a\, 6500 Bellinzona\n
LOCATION:Francesco Chiesa 2a\, 6500 Bellinzona
CATEGORIES:Saison 2025/26
END:VEVENT
END:VCALENDAR
