BEGIN:VCALENDAR
PRODID:-//nuDatenautomaten//framework iCal4j //DE
VERSION:2.0
CALSCALE:GREGORIAN
BEGIN:VTIMEZONE
TZID:Europe/Berlin
LAST-MODIFIED:20260306T231828Z
TZURL:https://www.tzurl.org/zoneinfo/Europe/Berlin
X-LIC-LOCATION:Europe/Berlin
X-PROLEPTIC-TZNAME:LMT
BEGIN:STANDARD
TZNAME:CET
TZOFFSETFROM:+005328
TZOFFSETTO:+0100
DTSTART:18930401T000000
END:STANDARD
BEGIN:DAYLIGHT
TZNAME:CEST
TZOFFSETFROM:+0100
TZOFFSETTO:+0200
DTSTART:19160430T230000
RDATE:19400401T020000
RDATE:19430329T020000
RDATE:19460414T020000
RDATE:19470406T030000
RDATE:19480418T020000
RDATE:19490410T020000
RDATE:19800406T020000
END:DAYLIGHT
BEGIN:STANDARD
TZNAME:CET
TZOFFSETFROM:+0200
TZOFFSETTO:+0100
DTSTART:19161001T010000
RDATE:19421102T030000
RDATE:19431004T030000
RDATE:19441002T030000
RDATE:19451118T030000
RDATE:19461007T030000
END:STANDARD
BEGIN:DAYLIGHT
TZNAME:CEST
TZOFFSETFROM:+0100
TZOFFSETTO:+0200
DTSTART:19170416T020000
RRULE:FREQ=YEARLY;UNTIL=19180415T010000Z;BYMONTH=4;BYDAY=3MO
END:DAYLIGHT
BEGIN:STANDARD
TZNAME:CET
TZOFFSETFROM:+0200
TZOFFSETTO:+0100
DTSTART:19170917T030000
RRULE:FREQ=YEARLY;UNTIL=19180916T010000Z;BYMONTH=9;BYDAY=3MO
END:STANDARD
BEGIN:DAYLIGHT
TZNAME:CEST
TZOFFSETFROM:+0100
TZOFFSETTO:+0200
DTSTART:19440403T020000
RRULE:FREQ=YEARLY;UNTIL=19450402T010000Z;BYMONTH=4;BYDAY=1MO
END:DAYLIGHT
BEGIN:DAYLIGHT
TZNAME:CEMT
TZOFFSETFROM:+0200
TZOFFSETTO:+0300
DTSTART:19450524T020000
RDATE:19470511T030000
END:DAYLIGHT
BEGIN:DAYLIGHT
TZNAME:CEST
TZOFFSETFROM:+0300
TZOFFSETTO:+0200
DTSTART:19450924T030000
RDATE:19470629T030000
END:DAYLIGHT
BEGIN:STANDARD
TZNAME:CET
TZOFFSETFROM:+0100
TZOFFSETTO:+0100
DTSTART:19460101T000000
RDATE:19800101T000000
END:STANDARD
BEGIN:STANDARD
TZNAME:CET
TZOFFSETFROM:+0200
TZOFFSETTO:+0100
DTSTART:19471005T030000
RRULE:FREQ=YEARLY;UNTIL=19491002T010000Z;BYMONTH=10;BYDAY=1SU
END:STANDARD
BEGIN:STANDARD
TZNAME:CET
TZOFFSETFROM:+0200
TZOFFSETTO:+0100
DTSTART:19800928T030000
RRULE:FREQ=YEARLY;UNTIL=19950924T010000Z;BYMONTH=9;BYDAY=-1SU
END:STANDARD
BEGIN:DAYLIGHT
TZNAME:CEST
TZOFFSETFROM:+0100
TZOFFSETTO:+0200
DTSTART:19810329T020000
RRULE:FREQ=YEARLY;BYMONTH=3;BYDAY=-1SU
END:DAYLIGHT
BEGIN:STANDARD
TZNAME:CET
TZOFFSETFROM:+0200
TZOFFSETTO:+0100
DTSTART:19961027T030000
RRULE:FREQ=YEARLY;BYMONTH=10;BYDAY=-1SU
END:STANDARD
END:VTIMEZONE
BEGIN:VEVENT
DTSTAMP:20260424T081638Z
DTSTART;TZID=Europe/Berlin:20251115T160000
DTEND;TZID=Europe/Berlin:20251115T190000
SUMMARY:JUG\, 3.Li\, Gr.9\, ZR Muolen vs TSV Zumikon II (3)
UID:46288968-0190-4edb-8b59-ef09f831aa6f
STATUS:CONFIRMED
LAST-MODIFIED:20251124T150933Z
DESCRIPTION:Jugend\, 3. Liga\, Gruppe 9\, Zwischenrunde\nBegegnungs-Nr: 3\nHeim: Muolen\nGast: TSV Zumikon II\n\nAdresse: Dorfstrasse 31\, 9313 Muolen\n
LOCATION:Dorfstrasse 31\, 9313 Muolen
CATEGORIES:Saison 2025/26
END:VEVENT
BEGIN:VEVENT
DTSTAMP:20260424T081638Z
DTSTART;TZID=Europe/Berlin:20251115T130000
DTEND;TZID=Europe/Berlin:20251115T160000
SUMMARY:JUG\, 3.Li\, Gr.9\, ZR Muolen vs Zürich (1)
UID:473fa470-b18a-45a1-b10c-e03c6a06d9b1
STATUS:CONFIRMED
LAST-MODIFIED:20251121T102947Z
DESCRIPTION:Jugend\, 3. Liga\, Gruppe 9\, Zwischenrunde\nBegegnungs-Nr: 1\nHeim: Muolen\nGast: Zürich\nHalle: Poule in Muolen\, Turnhalle\nAdresse: Dorfstrasse 31\, 9313 Muolen\n
LOCATION:Poule in Muolen\, Turnhalle Dorfstrasse 31\, 9313 Muolen
CATEGORIES:Saison 2025/26
END:VEVENT
BEGIN:VEVENT
DTSTAMP:20260424T081638Z
DTSTART;TZID=Europe/Berlin:20250830T130000
DTEND;TZID=Europe/Berlin:20250830T160000
SUMMARY:JUG\, 3.Li\, Gr.6\, VR Muolen vs Herisau (1)
UID:3af7ee2b-5497-4da9-a54f-8f28947325fa
STATUS:CONFIRMED
LAST-MODIFIED:20250902T124952Z
DESCRIPTION:Jugend\, 3. Liga\, Gruppe 6\, Vorrunde\nBegegnungs-Nr: 1\nHeim: Muolen\nGast: Herisau\nHalle: Poule in Muolen\, Turnhalle\nAdresse: Dorfstrasse 31\, 9313 Muolen\n
LOCATION:Poule in Muolen\, Turnhalle Dorfstrasse 31\, 9313 Muolen
CATEGORIES:Saison 2025/26
END:VEVENT
BEGIN:VEVENT
DTSTAMP:20260424T081638Z
DTSTART;TZID=Europe/Berlin:20250830T143000
DTEND;TZID=Europe/Berlin:20250830T173000
SUMMARY:JUG\, 3.Li\, Gr.6\, VR Muolen vs Romanshorn (4)
UID:eb819f19-b555-4c3e-9c0d-92ee7f311d8e
STATUS:CONFIRMED
LAST-MODIFIED:20250902T125105Z
DESCRIPTION:Jugend\, 3. Liga\, Gruppe 6\, Vorrunde\nBegegnungs-Nr: 4\nHeim: Muolen\nGast: Romanshorn\n\nAdresse: Dorfstrasse 31\, 9313 Muolen\n
LOCATION:Dorfstrasse 31\, 9313 Muolen
CATEGORIES:Saison 2025/26
END:VEVENT
BEGIN:VEVENT
DTSTAMP:20260424T081638Z
DTSTART;TZID=Europe/Berlin:20250830T160000
DTEND;TZID=Europe/Berlin:20250830T190000
SUMMARY:JUG\, 3.Li\, Gr.6\, VR St. Gallen III vs Muolen (6)
UID:44746942-3e68-4de9-83ad-dadab5560489
STATUS:CONFIRMED
LAST-MODIFIED:20250902T125129Z
DESCRIPTION:Jugend\, 3. Liga\, Gruppe 6\, Vorrunde\nBegegnungs-Nr: 6\nHeim: St. Gallen III\nGast: Muolen\n\nAdresse: Zilstrasse 61\, 9016 St.Gallen\n
LOCATION:Zilstrasse 61\, 9016 St.Gallen
CATEGORIES:Saison 2025/26
END:VEVENT
BEGIN:VEVENT
DTSTAMP:20260424T081638Z
DTSTART;TZID=Europe/Berlin:20260328T130000
DTEND;TZID=Europe/Berlin:20260328T160000
SUMMARY:JUG\, 3.Li\, Gr.8\, Final Zürich-Affoltern IV vs Muolen (1)
UID:cbd549f6-fe31-4e9a-8a87-1766ea0fc6a4
STATUS:CONFIRMED
LAST-MODIFIED:20260401T140808Z
DESCRIPTION:Jugend\, 3. Liga\, Gruppe 8\, Final\nBegegnungs-Nr: 1\nHeim: Zürich-Affoltern IV\nGast: Muolen\nHalle: Poule in Zürich\, Tischtennisgarage\, Rümlangstrasse\nAdresse: Rümlangstr. 89\, 8052 Zürich\n
LOCATION:Poule in Zürich\, Tischtennisgarage\, Rümlangstrasse Rümlangstr. 89\, 8052 Zürich
CATEGORIES:Saison 2025/26
END:VEVENT
BEGIN:VEVENT
DTSTAMP:20260424T081638Z
DTSTART;TZID=Europe/Berlin:20260328T143000
DTEND;TZID=Europe/Berlin:20260328T173000
SUMMARY:JUG\, 3.Li\, Gr.8\, Final Urdorf II vs Muolen (2)
UID:fa97c36d-b4fd-4bea-9037-300513be243c
STATUS:CONFIRMED
LAST-MODIFIED:20260401T140817Z
DESCRIPTION:Jugend\, 3. Liga\, Gruppe 8\, Final\nBegegnungs-Nr: 2\nHeim: Urdorf II\nGast: Muolen\n\nAdresse: Weihermattstrasse 50\, 8902 Urdorf\n
LOCATION:Weihermattstrasse 50\, 8902 Urdorf
CATEGORIES:Saison 2025/26
END:VEVENT
END:VCALENDAR
