BEGIN:VCALENDAR
PRODID:-//nuDatenautomaten//framework iCal4j //DE
VERSION:2.0
CALSCALE:GREGORIAN
BEGIN:VTIMEZONE
TZID:Europe/Berlin
LAST-MODIFIED:20260306T231828Z
TZURL:https://www.tzurl.org/zoneinfo/Europe/Berlin
X-LIC-LOCATION:Europe/Berlin
X-PROLEPTIC-TZNAME:LMT
BEGIN:STANDARD
TZNAME:CET
TZOFFSETFROM:+005328
TZOFFSETTO:+0100
DTSTART:18930401T000000
END:STANDARD
BEGIN:DAYLIGHT
TZNAME:CEST
TZOFFSETFROM:+0100
TZOFFSETTO:+0200
DTSTART:19160430T230000
RDATE:19400401T020000
RDATE:19430329T020000
RDATE:19460414T020000
RDATE:19470406T030000
RDATE:19480418T020000
RDATE:19490410T020000
RDATE:19800406T020000
END:DAYLIGHT
BEGIN:STANDARD
TZNAME:CET
TZOFFSETFROM:+0200
TZOFFSETTO:+0100
DTSTART:19161001T010000
RDATE:19421102T030000
RDATE:19431004T030000
RDATE:19441002T030000
RDATE:19451118T030000
RDATE:19461007T030000
END:STANDARD
BEGIN:DAYLIGHT
TZNAME:CEST
TZOFFSETFROM:+0100
TZOFFSETTO:+0200
DTSTART:19170416T020000
RRULE:FREQ=YEARLY;UNTIL=19180415T010000Z;BYMONTH=4;BYDAY=3MO
END:DAYLIGHT
BEGIN:STANDARD
TZNAME:CET
TZOFFSETFROM:+0200
TZOFFSETTO:+0100
DTSTART:19170917T030000
RRULE:FREQ=YEARLY;UNTIL=19180916T010000Z;BYMONTH=9;BYDAY=3MO
END:STANDARD
BEGIN:DAYLIGHT
TZNAME:CEST
TZOFFSETFROM:+0100
TZOFFSETTO:+0200
DTSTART:19440403T020000
RRULE:FREQ=YEARLY;UNTIL=19450402T010000Z;BYMONTH=4;BYDAY=1MO
END:DAYLIGHT
BEGIN:DAYLIGHT
TZNAME:CEMT
TZOFFSETFROM:+0200
TZOFFSETTO:+0300
DTSTART:19450524T020000
RDATE:19470511T030000
END:DAYLIGHT
BEGIN:DAYLIGHT
TZNAME:CEST
TZOFFSETFROM:+0300
TZOFFSETTO:+0200
DTSTART:19450924T030000
RDATE:19470629T030000
END:DAYLIGHT
BEGIN:STANDARD
TZNAME:CET
TZOFFSETFROM:+0100
TZOFFSETTO:+0100
DTSTART:19460101T000000
RDATE:19800101T000000
END:STANDARD
BEGIN:STANDARD
TZNAME:CET
TZOFFSETFROM:+0200
TZOFFSETTO:+0100
DTSTART:19471005T030000
RRULE:FREQ=YEARLY;UNTIL=19491002T010000Z;BYMONTH=10;BYDAY=1SU
END:STANDARD
BEGIN:STANDARD
TZNAME:CET
TZOFFSETFROM:+0200
TZOFFSETTO:+0100
DTSTART:19800928T030000
RRULE:FREQ=YEARLY;UNTIL=19950924T010000Z;BYMONTH=9;BYDAY=-1SU
END:STANDARD
BEGIN:DAYLIGHT
TZNAME:CEST
TZOFFSETFROM:+0100
TZOFFSETTO:+0200
DTSTART:19810329T020000
RRULE:FREQ=YEARLY;BYMONTH=3;BYDAY=-1SU
END:DAYLIGHT
BEGIN:STANDARD
TZNAME:CET
TZOFFSETFROM:+0200
TZOFFSETTO:+0100
DTSTART:19961027T030000
RRULE:FREQ=YEARLY;BYMONTH=10;BYDAY=-1SU
END:STANDARD
END:VTIMEZONE
BEGIN:VEVENT
DTSTAMP:20260424T103949Z
DTSTART;TZID=Europe/Berlin:20251119T194500
DTEND;TZID=Europe/Berlin:20251119T224500
SUMMARY:Ligue 5 Gr.4 Ph.A UGS-Chênois XI vs Onex V (15)
UID:4a3c807f-c927-44e6-84a7-998e150af5d8
STATUS:CONFIRMED
LAST-MODIFIED:20251120T123935Z
DESCRIPTION:5ème ligue Hommes Gr.4 Phase A\nBegegnungs-Nr: 15\nHeim: UGS-Chênois XI\nGast: Onex V\n
LOCATION:
CATEGORIES:Saison 2025/26
END:VEVENT
BEGIN:VEVENT
DTSTAMP:20260424T103949Z
DTSTART;TZID=Europe/Berlin:20251126T194500
DTEND;TZID=Europe/Berlin:20251126T224500
SUMMARY:Ligue 5 Gr.4 Ph.A UGS-Chênois XI vs Onex IV (18)
UID:9d641fb3-3047-420e-91a1-e27b43be7389
STATUS:CONFIRMED
LAST-MODIFIED:20251127T113535Z
DESCRIPTION:5ème ligue Hommes Gr.4 Phase A\nBegegnungs-Nr: 18\nHeim: UGS-Chênois XI\nGast: Onex IV\n
LOCATION:
CATEGORIES:Saison 2025/26
END:VEVENT
BEGIN:VEVENT
DTSTAMP:20260424T103949Z
DTSTART;TZID=Europe/Berlin:20250917T194500
DTEND;TZID=Europe/Berlin:20250917T224500
SUMMARY:Ligue 5 Gr.4 Ph.A UGS-Chênois XI vs Puplinge III (3)
UID:8769b628-6db1-47a0-b477-96e7b2388dc9
STATUS:CONFIRMED
LAST-MODIFIED:20250918T145407Z
DESCRIPTION:5ème ligue Hommes Gr.4 Phase A\nBegegnungs-Nr: 3\nHeim: UGS-Chênois XI\nGast: Puplinge III\n
LOCATION:
CATEGORIES:Saison 2025/26
END:VEVENT
BEGIN:VEVENT
DTSTAMP:20260424T103949Z
DTSTART;TZID=Europe/Berlin:20251015T194500
DTEND;TZID=Europe/Berlin:20251015T224500
SUMMARY:Ligue 5 Gr.4 Ph.A UGS-Chênois XI vs Carouge VII (10)
UID:0be966cb-e445-4732-a705-d94ba211c795
STATUS:CONFIRMED
LAST-MODIFIED:20251016T092901Z
DESCRIPTION:5ème ligue Hommes Gr.4 Phase A\nBegegnungs-Nr: 10\nHeim: UGS-Chênois XI\nGast: Carouge VII\n
LOCATION:
CATEGORIES:Saison 2025/26
END:VEVENT
BEGIN:VEVENT
DTSTAMP:20260424T103949Z
DTSTART;TZID=Europe/Berlin:20260429T194500
DTEND;TZID=Europe/Berlin:20260429T224500
SUMMARY:Ligue 5 Gr.2 Ph.B UGS-Chênois XI vs Châtelaine VII (28)
UID:585f4699-ad42-4d64-b5d0-b9a0df3087a2
STATUS:CONFIRMED
DESCRIPTION:5ème ligue Hommes Gr.2 Phase B\nBegegnungs-Nr: 28\nHeim: UGS-Chênois XI\nGast: Châtelaine VII\n
LOCATION:
CATEGORIES:Saison 2025/26
END:VEVENT
BEGIN:VEVENT
DTSTAMP:20260424T103949Z
DTSTART;TZID=Europe/Berlin:20260318T194500
DTEND;TZID=Europe/Berlin:20260318T224500
SUMMARY:Ligue 5 Gr.2 Ph.B UGS-Chênois XI vs Collex-Bossy II (20)
UID:a8e8068f-1689-49ff-88be-6d774c63c3d5
STATUS:CONFIRMED
LAST-MODIFIED:20260319T131727Z
DESCRIPTION:5ème ligue Hommes Gr.2 Phase B\nBegegnungs-Nr: 20\nHeim: UGS-Chênois XI\nGast: Collex-Bossy II\n
LOCATION:
CATEGORIES:Saison 2025/26
END:VEVENT
BEGIN:VEVENT
DTSTAMP:20260424T103949Z
DTSTART;TZID=Europe/Berlin:20260114T194500
DTEND;TZID=Europe/Berlin:20260114T224500
SUMMARY:Ligue 5 Gr.2 Ph.B UGS-Chênois XI vs ZZ-Lancy X (2)
UID:b8a2a3c1-90b6-4928-ba41-1cf98a85b162
STATUS:CONFIRMED
LAST-MODIFIED:20260115T140036Z
DESCRIPTION:5ème ligue Hommes Gr.2 Phase B\nBegegnungs-Nr: 2\nHeim: UGS-Chênois XI\nGast: ZZ-Lancy X\n
LOCATION:
CATEGORIES:Saison 2025/26
END:VEVENT
BEGIN:VEVENT
DTSTAMP:20260424T103949Z
DTSTART;TZID=Europe/Berlin:20260211T194500
DTEND;TZID=Europe/Berlin:20260211T224500
SUMMARY:Ligue 5 Gr.2 Ph.B UGS-Chênois XI vs Meyrin V (12)
UID:208400e2-8faa-48c3-bda0-b03315ce2747
STATUS:CONFIRMED
LAST-MODIFIED:20260212T072445Z
DESCRIPTION:5ème ligue Hommes Gr.2 Phase B\nBegegnungs-Nr: 12\nHeim: UGS-Chênois XI\nGast: Meyrin V\n
LOCATION:
CATEGORIES:Saison 2025/26
END:VEVENT
BEGIN:VEVENT
DTSTAMP:20260424T103949Z
DTSTART;TZID=Europe/Berlin:20260128T194500
DTEND;TZID=Europe/Berlin:20260128T224500
SUMMARY:Ligue 5 Gr.2 Ph.B UGS-Chênois XI vs Grand-Saconnex V (8)
UID:b829028e-1a96-4d92-8dcb-293e7efc98cb
STATUS:CONFIRMED
LAST-MODIFIED:20260129T094755Z
DESCRIPTION:5ème ligue Hommes Gr.2 Phase B\nBegegnungs-Nr: 8\nHeim: UGS-Chênois XI\nGast: Grand-Saconnex V\n
LOCATION:
CATEGORIES:Saison 2025/26
END:VEVENT
BEGIN:VEVENT
DTSTAMP:20260424T103949Z
DTSTART;TZID=Europe/Berlin:20251111T194500
DTEND;TZID=Europe/Berlin:20251111T224500
SUMMARY:Ligue 5 Gr.4 Ph.A Puplinge III vs UGS-Chênois XI (13)
UID:bf866cbb-b36d-4ced-ac74-9a8c27a5378f
STATUS:CONFIRMED
LAST-MODIFIED:20251113T133834Z
DESCRIPTION:5ème ligue Hommes Gr.4 Phase A\nBegegnungs-Nr: 13\nHeim: Puplinge III\nGast: UGS-Chênois XI\n\nAdresse: Chemin de la Brenaz\,  15\, 1241 Puplinge\n
LOCATION:Chemin de la Brenaz\,  15\, 1241 Puplinge
CATEGORIES:Saison 2025/26
END:VEVENT
BEGIN:VEVENT
DTSTAMP:20260424T103949Z
DTSTART;TZID=Europe/Berlin:20251203T200000
DTEND;TZID=Europe/Berlin:20251203T230000
SUMMARY:Ligue 5 Gr.4 Ph.A Carouge VII vs UGS-Chênois XI (20)
UID:4817b5ae-a4bf-4e62-96cf-6ea0fd5af296
STATUS:CONFIRMED
LAST-MODIFIED:20251205T082740Z
DESCRIPTION:5ème ligue Hommes Gr.4 Phase A\nBegegnungs-Nr: 20\nHeim: Carouge VII\nGast: UGS-Chênois XI\n
LOCATION:
CATEGORIES:Saison 2025/26
END:VEVENT
BEGIN:VEVENT
DTSTAMP:20260424T103949Z
DTSTART;TZID=Europe/Berlin:20250926T194500
DTEND;TZID=Europe/Berlin:20250926T224500
SUMMARY:Ligue 5 Gr.4 Ph.A Onex V vs UGS-Chênois XI (5)
UID:6b9e70ca-b2c9-4ac9-a391-ede574bdffa8
STATUS:CONFIRMED
LAST-MODIFIED:20250927T144221Z
DESCRIPTION:5ème ligue Hommes Gr.4 Phase A\nBegegnungs-Nr: 5\nHeim: Onex V\nGast: UGS-Chênois XI\n
LOCATION:
CATEGORIES:Saison 2025/26
END:VEVENT
BEGIN:VEVENT
DTSTAMP:20260424T103949Z
DTSTART;TZID=Europe/Berlin:20251009T194500
DTEND;TZID=Europe/Berlin:20251009T224500
SUMMARY:Ligue 5 Gr.4 Ph.A Onex IV vs UGS-Chênois XI (8)
UID:53f0720c-2154-4888-b1cf-b48a56298d81
STATUS:CONFIRMED
LAST-MODIFIED:20251010T073246Z
DESCRIPTION:5ème ligue Hommes Gr.4 Phase A\nBegegnungs-Nr: 8\nHeim: Onex IV\nGast: UGS-Chênois XI\n
LOCATION:
CATEGORIES:Saison 2025/26
END:VEVENT
BEGIN:VEVENT
DTSTAMP:20260424T103949Z
DTSTART;TZID=Europe/Berlin:20260119T194500
DTEND;TZID=Europe/Berlin:20260119T224500
SUMMARY:Ligue 5 Gr.2 Ph.B Collex-Bossy II vs UGS-Chênois XI (5)
UID:3609d5aa-3ac6-4d1a-9e45-74658d02f368
STATUS:CONFIRMED
LAST-MODIFIED:20260120T120950Z
DESCRIPTION:5ème ligue Hommes Gr.2 Phase B\nBegegnungs-Nr: 5\nHeim: Collex-Bossy II\nGast: UGS-Chênois XI\n
LOCATION:
CATEGORIES:Saison 2025/26
END:VEVENT
BEGIN:VEVENT
DTSTAMP:20260424T103949Z
DTSTART;TZID=Europe/Berlin:20260401T194500
DTEND;TZID=Europe/Berlin:20260401T224500
SUMMARY:Ligue 5 Gr.2 Ph.B Meyrin V vs UGS-Chênois XI (27)
UID:a048d72d-42ed-4632-a33f-f9257ffe014d
STATUS:CONFIRMED
LAST-MODIFIED:20260402T064141Z
DESCRIPTION:5ème ligue Hommes Gr.2 Phase B\nBegegnungs-Nr: 27\nHeim: Meyrin V\nGast: UGS-Chênois XI\n
LOCATION:
CATEGORIES:Saison 2025/26
END:VEVENT
BEGIN:VEVENT
DTSTAMP:20260424T103949Z
DTSTART;TZID=Europe/Berlin:20260323T194500
DTEND;TZID=Europe/Berlin:20260323T224500
SUMMARY:Ligue 5 Gr.2 Ph.B Grand-Saconnex V vs UGS-Chênois XI (23)
UID:addb61f3-5add-4cdd-89a3-92ece9389f07
STATUS:CONFIRMED
LAST-MODIFIED:20260324T072932Z
DESCRIPTION:5ème ligue Hommes Gr.2 Phase B\nBegegnungs-Nr: 23\nHeim: Grand-Saconnex V\nGast: UGS-Chênois XI\n
LOCATION:
CATEGORIES:Saison 2025/26
END:VEVENT
BEGIN:VEVENT
DTSTAMP:20260424T103949Z
DTSTART;TZID=Europe/Berlin:20260309T200000
DTEND;TZID=Europe/Berlin:20260309T230000
SUMMARY:Ligue 5 Gr.2 Ph.B ZZ-Lancy X vs UGS-Chênois XI (17)
UID:d88dc7b6-fee6-4b18-a0be-818a50dc662a
STATUS:CONFIRMED
LAST-MODIFIED:20260310T115850Z
DESCRIPTION:5ème ligue Hommes Gr.2 Phase B\nBegegnungs-Nr: 17\nHeim: ZZ-Lancy X\nGast: UGS-Chênois XI\n
LOCATION:
CATEGORIES:Saison 2025/26
END:VEVENT
BEGIN:VEVENT
DTSTAMP:20260424T103949Z
DTSTART;TZID=Europe/Berlin:20260218T194500
DTEND;TZID=Europe/Berlin:20260218T224500
SUMMARY:Ligue 5 Gr.2 Ph.B Châtelaine VII vs UGS-Chênois XI (13)
UID:e2370ae6-1ae1-45ef-8c35-d881dcbd816c
STATUS:CONFIRMED
LAST-MODIFIED:20260219T120904Z
DESCRIPTION:5ème ligue Hommes Gr.2 Phase B\nBegegnungs-Nr: 13\nHeim: Châtelaine VII\nGast: UGS-Chênois XI\n
LOCATION:
CATEGORIES:Saison 2025/26
END:VEVENT
END:VCALENDAR
