BEGIN:VCALENDAR
PRODID:-//nuDatenautomaten//framework iCal4j //DE
VERSION:2.0
CALSCALE:GREGORIAN
BEGIN:VTIMEZONE
TZID:Europe/Berlin
LAST-MODIFIED:20260306T231828Z
TZURL:https://www.tzurl.org/zoneinfo/Europe/Berlin
X-LIC-LOCATION:Europe/Berlin
X-PROLEPTIC-TZNAME:LMT
BEGIN:STANDARD
TZNAME:CET
TZOFFSETFROM:+005328
TZOFFSETTO:+0100
DTSTART:18930401T000000
END:STANDARD
BEGIN:DAYLIGHT
TZNAME:CEST
TZOFFSETFROM:+0100
TZOFFSETTO:+0200
DTSTART:19160430T230000
RDATE:19400401T020000
RDATE:19430329T020000
RDATE:19460414T020000
RDATE:19470406T030000
RDATE:19480418T020000
RDATE:19490410T020000
RDATE:19800406T020000
END:DAYLIGHT
BEGIN:STANDARD
TZNAME:CET
TZOFFSETFROM:+0200
TZOFFSETTO:+0100
DTSTART:19161001T010000
RDATE:19421102T030000
RDATE:19431004T030000
RDATE:19441002T030000
RDATE:19451118T030000
RDATE:19461007T030000
END:STANDARD
BEGIN:DAYLIGHT
TZNAME:CEST
TZOFFSETFROM:+0100
TZOFFSETTO:+0200
DTSTART:19170416T020000
RRULE:FREQ=YEARLY;UNTIL=19180415T010000Z;BYMONTH=4;BYDAY=3MO
END:DAYLIGHT
BEGIN:STANDARD
TZNAME:CET
TZOFFSETFROM:+0200
TZOFFSETTO:+0100
DTSTART:19170917T030000
RRULE:FREQ=YEARLY;UNTIL=19180916T010000Z;BYMONTH=9;BYDAY=3MO
END:STANDARD
BEGIN:DAYLIGHT
TZNAME:CEST
TZOFFSETFROM:+0100
TZOFFSETTO:+0200
DTSTART:19440403T020000
RRULE:FREQ=YEARLY;UNTIL=19450402T010000Z;BYMONTH=4;BYDAY=1MO
END:DAYLIGHT
BEGIN:DAYLIGHT
TZNAME:CEMT
TZOFFSETFROM:+0200
TZOFFSETTO:+0300
DTSTART:19450524T020000
RDATE:19470511T030000
END:DAYLIGHT
BEGIN:DAYLIGHT
TZNAME:CEST
TZOFFSETFROM:+0300
TZOFFSETTO:+0200
DTSTART:19450924T030000
RDATE:19470629T030000
END:DAYLIGHT
BEGIN:STANDARD
TZNAME:CET
TZOFFSETFROM:+0100
TZOFFSETTO:+0100
DTSTART:19460101T000000
RDATE:19800101T000000
END:STANDARD
BEGIN:STANDARD
TZNAME:CET
TZOFFSETFROM:+0200
TZOFFSETTO:+0100
DTSTART:19471005T030000
RRULE:FREQ=YEARLY;UNTIL=19491002T010000Z;BYMONTH=10;BYDAY=1SU
END:STANDARD
BEGIN:STANDARD
TZNAME:CET
TZOFFSETFROM:+0200
TZOFFSETTO:+0100
DTSTART:19800928T030000
RRULE:FREQ=YEARLY;UNTIL=19950924T010000Z;BYMONTH=9;BYDAY=-1SU
END:STANDARD
BEGIN:DAYLIGHT
TZNAME:CEST
TZOFFSETFROM:+0100
TZOFFSETTO:+0200
DTSTART:19810329T020000
RRULE:FREQ=YEARLY;BYMONTH=3;BYDAY=-1SU
END:DAYLIGHT
BEGIN:STANDARD
TZNAME:CET
TZOFFSETFROM:+0200
TZOFFSETTO:+0100
DTSTART:19961027T030000
RRULE:FREQ=YEARLY;BYMONTH=10;BYDAY=-1SU
END:STANDARD
END:VTIMEZONE
BEGIN:VEVENT
DTSTAMP:20260424T134159Z
DTSTART;TZID=Europe/Berlin:20251122T130000
DTEND;TZID=Europe/Berlin:20251122T160000
SUMMARY:J L3 Gr1\, Tours 1&2 Gland V vs Domdidier (12)
UID:dc7a9cbd-f55e-42f7-9781-0f9afbb00c96
STATUS:CONFIRMED
LAST-MODIFIED:20251123T123415Z
DESCRIPTION:3ème ligue Jeunesse Groupe 1\, Tours 1&2\nBegegnungs-Nr: 12\nHeim: Gland V\nGast: Domdidier\n\nAdresse: Chemin de la Perroude 1\, 1196 Gland\n
LOCATION:Chemin de la Perroude 1\, 1196 Gland
CATEGORIES:Saison 2025/26
END:VEVENT
BEGIN:VEVENT
DTSTAMP:20260424T134159Z
DTSTART;TZID=Europe/Berlin:20250906T100000
DTEND;TZID=Europe/Berlin:20250906T130000
SUMMARY:J L3 Gr1\, Tours 1&2 Gland V vs Romont-Villaz (1)
UID:51de4b71-b431-42f7-afba-4fcc892ac1af
STATUS:CONFIRMED
LAST-MODIFIED:20250906T155415Z
DESCRIPTION:3ème ligue Jeunesse Groupe 1\, Tours 1&2\nBegegnungs-Nr: 1\nHeim: Gland V\nGast: Romont-Villaz\n\nAdresse: Chemin de la Perroude 1\, 1196 Gland\n
LOCATION:Chemin de la Perroude 1\, 1196 Gland
CATEGORIES:Saison 2025/26
END:VEVENT
BEGIN:VEVENT
DTSTAMP:20260424T134159Z
DTSTART;TZID=Europe/Berlin:20250906T150000
DTEND;TZID=Europe/Berlin:20250906T180000
SUMMARY:J L3 Gr1\, Tours 1&2 Gland V vs Bulle II (3)
UID:e464fc11-a34b-44dc-a64b-c673b284e4a9
STATUS:CONFIRMED
LAST-MODIFIED:20250906T155713Z
DESCRIPTION:3ème ligue Jeunesse Groupe 1\, Tours 1&2\nBegegnungs-Nr: 3\nHeim: Gland V\nGast: Bulle II\n\nAdresse: Chemin de la Perroude 1\, 1196 Gland\n
LOCATION:Chemin de la Perroude 1\, 1196 Gland
CATEGORIES:Saison 2025/26
END:VEVENT
BEGIN:VEVENT
DTSTAMP:20260424T134159Z
DTSTART;TZID=Europe/Berlin:20260228T130000
DTEND;TZID=Europe/Berlin:20260228T160000
SUMMARY:J L2 Gr3\, Tours 3&4 Gland V vs Blonay (10)
UID:a4b4eeec-dc8b-4a71-b119-221556a66575
STATUS:CONFIRMED
LAST-MODIFIED:20260301T135755Z
DESCRIPTION:2ème ligue Jeunesse Groupe 3\, Tours 3&4\nBegegnungs-Nr: 10\nHeim: Gland V\nGast: Blonay\n\nAdresse: Chemin de la Perroude 1\, 1196 Gland\n
LOCATION:Chemin de la Perroude 1\, 1196 Gland
CATEGORIES:Saison 2025/26
END:VEVENT
BEGIN:VEVENT
DTSTAMP:20260424T134159Z
DTSTART;TZID=Europe/Berlin:20260117T100000
DTEND;TZID=Europe/Berlin:20260117T130000
SUMMARY:J L2 Gr3\, Tours 3&4 Gland V vs Lausanne IV (1)
UID:4cccd594-145c-4204-87b4-c2e4cd3993c6
STATUS:CONFIRMED
LAST-MODIFIED:20260117T181448Z
DESCRIPTION:2ème ligue Jeunesse Groupe 3\, Tours 3&4\nBegegnungs-Nr: 1\nHeim: Gland V\nGast: Lausanne IV\n\nAdresse: Chemin de la Perroude 1\, 1196 Gland\n
LOCATION:Chemin de la Perroude 1\, 1196 Gland
CATEGORIES:Saison 2025/26
END:VEVENT
BEGIN:VEVENT
DTSTAMP:20260424T134159Z
DTSTART;TZID=Europe/Berlin:20260117T150000
DTEND;TZID=Europe/Berlin:20260117T180000
SUMMARY:J L2 Gr3\, Tours 3&4 Gland V vs Montriond-Ouchy  (5)
UID:a88d5baf-6486-4dbf-967c-3cfa4f604140
STATUS:CONFIRMED
LAST-MODIFIED:20260117T181436Z
DESCRIPTION:2ème ligue Jeunesse Groupe 3\, Tours 3&4\nBegegnungs-Nr: 5\nHeim: Gland V\nGast: Montriond-Ouchy \n\nAdresse: Chemin de la Perroude 1\, 1196 Gland\n
LOCATION:Chemin de la Perroude 1\, 1196 Gland
CATEGORIES:Saison 2025/26
END:VEVENT
BEGIN:VEVENT
DTSTAMP:20260424T134159Z
DTSTART;TZID=Europe/Berlin:20251122T150000
DTEND;TZID=Europe/Berlin:20251122T180000
SUMMARY:J L3 Gr1\, Tours 1&2 Bulle II vs Gland V (9)
UID:1f6cda9f-3515-4168-b0f0-16284128ee22
STATUS:CONFIRMED
LAST-MODIFIED:20251123T123453Z
DESCRIPTION:3ème ligue Jeunesse Groupe 1\, Tours 1&2\nBegegnungs-Nr: 9\nHeim: Bulle II\nGast: Gland V\n\nAdresse: Rue du Stade 50\, 1630 Bulle\n
LOCATION:Rue du Stade 50\, 1630 Bulle
CATEGORIES:Saison 2025/26
END:VEVENT
BEGIN:VEVENT
DTSTAMP:20260424T134159Z
DTSTART;TZID=Europe/Berlin:20251122T100000
DTEND;TZID=Europe/Berlin:20251122T130000
SUMMARY:J L3 Gr1\, Tours 1&2 Romont-Villaz vs Gland V (7)
UID:3e2db82f-9a85-4fda-9c21-d7a029bf6d7a
STATUS:CONFIRMED
LAST-MODIFIED:20251123T223333Z
DESCRIPTION:3ème ligue Jeunesse Groupe 1\, Tours 1&2\nBegegnungs-Nr: 7\nHeim: Romont-Villaz\nGast: Gland V\n\nAdresse: Route de la Gare 5\, 1690 Villaz-St-Pierre\n
LOCATION:Route de la Gare 5\, 1690 Villaz-St-Pierre
CATEGORIES:Saison 2025/26
END:VEVENT
BEGIN:VEVENT
DTSTAMP:20260424T134159Z
DTSTART;TZID=Europe/Berlin:20250906T130000
DTEND;TZID=Europe/Berlin:20250906T160000
SUMMARY:J L3 Gr1\, Tours 1&2 Domdidier vs Gland V (6)
UID:8567db44-4872-4e55-89b1-5ef10336e52b
STATUS:CONFIRMED
LAST-MODIFIED:20250910T231618Z
DESCRIPTION:3ème ligue Jeunesse Groupe 1\, Tours 1&2\nBegegnungs-Nr: 6\nHeim: Domdidier\nGast: Gland V\n\nAdresse: Pré-de-la-Cour\, 1564 Domdidier\n
LOCATION:Pré-de-la-Cour\, 1564 Domdidier
CATEGORIES:Saison 2025/26
END:VEVENT
BEGIN:VEVENT
DTSTAMP:20260424T134159Z
DTSTART;TZID=Europe/Berlin:20260117T130000
DTEND;TZID=Europe/Berlin:20260117T160000
SUMMARY:J L2 Gr3\, Tours 3&4 Blonay vs Gland V (4)
UID:5f6afb1a-607d-49d4-b866-8df572cf28e3
STATUS:CONFIRMED
LAST-MODIFIED:20260119T172157Z
DESCRIPTION:2ème ligue Jeunesse Groupe 3\, Tours 3&4\nBegegnungs-Nr: 4\nHeim: Blonay\nGast: Gland V\n\nAdresse: Route de Prélaz 2\, 1807 Blonay\n
LOCATION:Route de Prélaz 2\, 1807 Blonay
CATEGORIES:Saison 2025/26
END:VEVENT
BEGIN:VEVENT
DTSTAMP:20260424T134159Z
DTSTART;TZID=Europe/Berlin:20260228T150000
DTEND;TZID=Europe/Berlin:20260228T180000
SUMMARY:J L2 Gr3\, Tours 3&4 Montriond-Ouchy  vs Gland V (11)
UID:833fcf85-b19d-495f-afe5-74ad74d8fbe6
STATUS:CONFIRMED
LAST-MODIFIED:20260301T135806Z
DESCRIPTION:2ème ligue Jeunesse Groupe 3\, Tours 3&4\nBegegnungs-Nr: 11\nHeim: Montriond-Ouchy \nGast: Gland V\n\nAdresse: Avenue d'Ouchy 45\, 1006 Lausanne\n
LOCATION:Avenue d'Ouchy 45\, 1006 Lausanne
CATEGORIES:Saison 2025/26
END:VEVENT
BEGIN:VEVENT
DTSTAMP:20260424T134159Z
DTSTART;TZID=Europe/Berlin:20260228T100000
DTEND;TZID=Europe/Berlin:20260228T130000
SUMMARY:J L2 Gr3\, Tours 3&4 Lausanne IV vs Gland V (7)
UID:6376f49f-36b6-423e-9ce3-4b6600cc5623
STATUS:CONFIRMED
LAST-MODIFIED:20260301T135736Z
DESCRIPTION:2ème ligue Jeunesse Groupe 3\, Tours 3&4\nBegegnungs-Nr: 7\nHeim: Lausanne IV\nGast: Gland V\n\nAdresse: Vaudoise Aréna\, Ch. du Viaduc 14\, 1008 Prilly\n
LOCATION:Vaudoise Aréna\, Ch. du Viaduc 14\, 1008 Prilly
CATEGORIES:Saison 2025/26
END:VEVENT
END:VCALENDAR
