BEGIN:VCALENDAR
PRODID:-//nuDatenautomaten//framework iCal4j //DE
VERSION:2.0
CALSCALE:GREGORIAN
BEGIN:VTIMEZONE
TZID:Europe/Berlin
LAST-MODIFIED:20260306T231828Z
TZURL:https://www.tzurl.org/zoneinfo/Europe/Berlin
X-LIC-LOCATION:Europe/Berlin
X-PROLEPTIC-TZNAME:LMT
BEGIN:STANDARD
TZNAME:CET
TZOFFSETFROM:+005328
TZOFFSETTO:+0100
DTSTART:18930401T000000
END:STANDARD
BEGIN:DAYLIGHT
TZNAME:CEST
TZOFFSETFROM:+0100
TZOFFSETTO:+0200
DTSTART:19160430T230000
RDATE:19400401T020000
RDATE:19430329T020000
RDATE:19460414T020000
RDATE:19470406T030000
RDATE:19480418T020000
RDATE:19490410T020000
RDATE:19800406T020000
END:DAYLIGHT
BEGIN:STANDARD
TZNAME:CET
TZOFFSETFROM:+0200
TZOFFSETTO:+0100
DTSTART:19161001T010000
RDATE:19421102T030000
RDATE:19431004T030000
RDATE:19441002T030000
RDATE:19451118T030000
RDATE:19461007T030000
END:STANDARD
BEGIN:DAYLIGHT
TZNAME:CEST
TZOFFSETFROM:+0100
TZOFFSETTO:+0200
DTSTART:19170416T020000
RRULE:FREQ=YEARLY;UNTIL=19180415T010000Z;BYMONTH=4;BYDAY=3MO
END:DAYLIGHT
BEGIN:STANDARD
TZNAME:CET
TZOFFSETFROM:+0200
TZOFFSETTO:+0100
DTSTART:19170917T030000
RRULE:FREQ=YEARLY;UNTIL=19180916T010000Z;BYMONTH=9;BYDAY=3MO
END:STANDARD
BEGIN:DAYLIGHT
TZNAME:CEST
TZOFFSETFROM:+0100
TZOFFSETTO:+0200
DTSTART:19440403T020000
RRULE:FREQ=YEARLY;UNTIL=19450402T010000Z;BYMONTH=4;BYDAY=1MO
END:DAYLIGHT
BEGIN:DAYLIGHT
TZNAME:CEMT
TZOFFSETFROM:+0200
TZOFFSETTO:+0300
DTSTART:19450524T020000
RDATE:19470511T030000
END:DAYLIGHT
BEGIN:DAYLIGHT
TZNAME:CEST
TZOFFSETFROM:+0300
TZOFFSETTO:+0200
DTSTART:19450924T030000
RDATE:19470629T030000
END:DAYLIGHT
BEGIN:STANDARD
TZNAME:CET
TZOFFSETFROM:+0100
TZOFFSETTO:+0100
DTSTART:19460101T000000
RDATE:19800101T000000
END:STANDARD
BEGIN:STANDARD
TZNAME:CET
TZOFFSETFROM:+0200
TZOFFSETTO:+0100
DTSTART:19471005T030000
RRULE:FREQ=YEARLY;UNTIL=19491002T010000Z;BYMONTH=10;BYDAY=1SU
END:STANDARD
BEGIN:STANDARD
TZNAME:CET
TZOFFSETFROM:+0200
TZOFFSETTO:+0100
DTSTART:19800928T030000
RRULE:FREQ=YEARLY;UNTIL=19950924T010000Z;BYMONTH=9;BYDAY=-1SU
END:STANDARD
BEGIN:DAYLIGHT
TZNAME:CEST
TZOFFSETFROM:+0100
TZOFFSETTO:+0200
DTSTART:19810329T020000
RRULE:FREQ=YEARLY;BYMONTH=3;BYDAY=-1SU
END:DAYLIGHT
BEGIN:STANDARD
TZNAME:CET
TZOFFSETFROM:+0200
TZOFFSETTO:+0100
DTSTART:19961027T030000
RRULE:FREQ=YEARLY;BYMONTH=10;BYDAY=-1SU
END:STANDARD
END:VTIMEZONE
BEGIN:VEVENT
DTSTAMP:20260424T133957Z
DTSTART;TZID=Europe/Berlin:20251122T130000
DTEND;TZID=Europe/Berlin:20251122T160000
SUMMARY:J L2 Gr3\, Tours 1&2 Gland III vs Montriond-Ouchy  (12)
UID:fc806a2d-c081-4fcb-b53a-43a4e67dee53
STATUS:CONFIRMED
LAST-MODIFIED:20251123T123402Z
DESCRIPTION:2ème ligue Jeunesse Groupe 3\, Tours 1&2\nBegegnungs-Nr: 12\nHeim: Gland III\nGast: Montriond-Ouchy \n\nAdresse: Chemin de la Perroude 1\, 1196 Gland\n
LOCATION:Chemin de la Perroude 1\, 1196 Gland
CATEGORIES:Saison 2025/26
END:VEVENT
BEGIN:VEVENT
DTSTAMP:20260424T133957Z
DTSTART;TZID=Europe/Berlin:20250906T100000
DTEND;TZID=Europe/Berlin:20250906T130000
SUMMARY:J L2 Gr3\, Tours 1&2 Gland III vs Yverdon (1)
UID:42e419a2-c678-40ee-8d5e-880e7001f32a
STATUS:CONFIRMED
LAST-MODIFIED:20250906T155321Z
DESCRIPTION:2ème ligue Jeunesse Groupe 3\, Tours 1&2\nBegegnungs-Nr: 1\nHeim: Gland III\nGast: Yverdon\n\nAdresse: Chemin de la Perroude 1\, 1196 Gland\n
LOCATION:Chemin de la Perroude 1\, 1196 Gland
CATEGORIES:Saison 2025/26
END:VEVENT
BEGIN:VEVENT
DTSTAMP:20260424T133957Z
DTSTART;TZID=Europe/Berlin:20250906T150000
DTEND;TZID=Europe/Berlin:20250906T180000
SUMMARY:J L2 Gr3\, Tours 1&2 Gland III vs Nyon (3)
UID:5d42c331-8edc-4f2d-b39b-d3af2a332fac
STATUS:CONFIRMED
LAST-MODIFIED:20250906T155354Z
DESCRIPTION:2ème ligue Jeunesse Groupe 3\, Tours 1&2\nBegegnungs-Nr: 3\nHeim: Gland III\nGast: Nyon\n\nAdresse: Chemin de la Perroude 1\, 1196 Gland\n
LOCATION:Chemin de la Perroude 1\, 1196 Gland
CATEGORIES:Saison 2025/26
END:VEVENT
BEGIN:VEVENT
DTSTAMP:20260424T133957Z
DTSTART;TZID=Europe/Berlin:20260117T150000
DTEND;TZID=Europe/Berlin:20260117T180000
SUMMARY:J L3 Gr3\, Tours 3&4 Gland III vs Domdidier (6)
UID:2770a07c-92b2-4e2e-8648-a2b50c932b7e
STATUS:CONFIRMED
LAST-MODIFIED:20260117T181314Z
DESCRIPTION:3ème ligue Jeunesse Groupe 3\, Tours 3&4\nBegegnungs-Nr: 6\nHeim: Gland III\nGast: Domdidier\n\nAdresse: Chemin de la Perroude 1\, 1196 Gland\n
LOCATION:Chemin de la Perroude 1\, 1196 Gland
CATEGORIES:Saison 2025/26
END:VEVENT
BEGIN:VEVENT
DTSTAMP:20260424T133957Z
DTSTART;TZID=Europe/Berlin:20260228T130000
DTEND;TZID=Europe/Berlin:20260228T160000
SUMMARY:J L3 Gr3\, Tours 3&4 Gland III vs Montriond-Ouchy  II (9)
UID:cc7300bc-7f66-47e6-acb4-ad5977f43bc3
STATUS:CONFIRMED
LAST-MODIFIED:20260301T135855Z
DESCRIPTION:3ème ligue Jeunesse Groupe 3\, Tours 3&4\nBegegnungs-Nr: 9\nHeim: Gland III\nGast: Montriond-Ouchy  II\n\nAdresse: Chemin de la Perroude 1\, 1196 Gland\n
LOCATION:Chemin de la Perroude 1\, 1196 Gland
CATEGORIES:Saison 2025/26
END:VEVENT
BEGIN:VEVENT
DTSTAMP:20260424T133957Z
DTSTART;TZID=Europe/Berlin:20251122T150000
DTEND;TZID=Europe/Berlin:20251122T180000
SUMMARY:J L2 Gr3\, Tours 1&2 Nyon vs Gland III (9)
UID:d2da47b7-8be5-4129-8ceb-36fb6dd05fe7
STATUS:CONFIRMED
LAST-MODIFIED:20251124T184633Z
DESCRIPTION:2ème ligue Jeunesse Groupe 3\, Tours 1&2\nBegegnungs-Nr: 9\nHeim: Nyon\nGast: Gland III\n\nAdresse: Rte des Tattes-d'Oie 97\, 1260 Nyon\n
LOCATION:Rte des Tattes-d'Oie 97\, 1260 Nyon
CATEGORIES:Saison 2025/26
END:VEVENT
BEGIN:VEVENT
DTSTAMP:20260424T133957Z
DTSTART;TZID=Europe/Berlin:20251122T100000
DTEND;TZID=Europe/Berlin:20251122T130000
SUMMARY:J L2 Gr3\, Tours 1&2 Yverdon vs Gland III (7)
UID:a7a81fc3-3e20-4f74-87a0-47f4801d3386
STATUS:CONFIRMED
LAST-MODIFIED:20251123T123342Z
DESCRIPTION:2ème ligue Jeunesse Groupe 3\, Tours 1&2\nBegegnungs-Nr: 7\nHeim: Yverdon\nGast: Gland III\n\nAdresse: Avenue des Quatre Marroniers 1\, 1400 Yverdon-les-Bains\n
LOCATION:Avenue des Quatre Marroniers 1\, 1400 Yverdon-les-Bains
CATEGORIES:Saison 2025/26
END:VEVENT
BEGIN:VEVENT
DTSTAMP:20260424T133957Z
DTSTART;TZID=Europe/Berlin:20250906T130000
DTEND;TZID=Europe/Berlin:20250906T160000
SUMMARY:J L2 Gr3\, Tours 1&2 Montriond-Ouchy  vs Gland III (6)
UID:3e7b95e1-0592-4f68-8d10-45bd4a784573
STATUS:CONFIRMED
LAST-MODIFIED:20250910T231607Z
DESCRIPTION:2ème ligue Jeunesse Groupe 3\, Tours 1&2\nBegegnungs-Nr: 6\nHeim: Montriond-Ouchy \nGast: Gland III\n\nAdresse: Avenue d'Ouchy 45\, 1006 Lausanne\n
LOCATION:Avenue d'Ouchy 45\, 1006 Lausanne
CATEGORIES:Saison 2025/26
END:VEVENT
BEGIN:VEVENT
DTSTAMP:20260424T133957Z
DTSTART;TZID=Europe/Berlin:20260117T130000
DTEND;TZID=Europe/Berlin:20260117T160000
SUMMARY:J L3 Gr3\, Tours 3&4 Montriond-Ouchy  II vs Gland III (3)
UID:752d5a8f-9883-439a-ab42-c58f4ded6660
STATUS:CONFIRMED
LAST-MODIFIED:20260119T172219Z
DESCRIPTION:3ème ligue Jeunesse Groupe 3\, Tours 3&4\nBegegnungs-Nr: 3\nHeim: Montriond-Ouchy  II\nGast: Gland III\n\nAdresse: Avenue d'Ouchy 45\, 1006 Lausanne\n
LOCATION:Avenue d'Ouchy 45\, 1006 Lausanne
CATEGORIES:Saison 2025/26
END:VEVENT
BEGIN:VEVENT
DTSTAMP:20260424T133957Z
DTSTART;TZID=Europe/Berlin:20260228T150000
DTEND;TZID=Europe/Berlin:20260228T180000
SUMMARY:J L3 Gr3\, Tours 3&4 Domdidier vs Gland III (12)
UID:2b8bb7d1-6a76-40bf-b433-b62543d683aa
STATUS:CONFIRMED
LAST-MODIFIED:20260302T100325Z
DESCRIPTION:3ème ligue Jeunesse Groupe 3\, Tours 3&4\nBegegnungs-Nr: 12\nHeim: Domdidier\nGast: Gland III\n\nAdresse: Pré-de-la-Cour\, 1564 Domdidier\n
LOCATION:Pré-de-la-Cour\, 1564 Domdidier
CATEGORIES:Saison 2025/26
END:VEVENT
END:VCALENDAR
