BEGIN:VCALENDAR
PRODID:-//nuDatenautomaten//framework iCal4j //DE
VERSION:2.0
CALSCALE:GREGORIAN
BEGIN:VTIMEZONE
TZID:Europe/Berlin
LAST-MODIFIED:20260306T231828Z
TZURL:https://www.tzurl.org/zoneinfo/Europe/Berlin
X-LIC-LOCATION:Europe/Berlin
X-PROLEPTIC-TZNAME:LMT
BEGIN:STANDARD
TZNAME:CET
TZOFFSETFROM:+005328
TZOFFSETTO:+0100
DTSTART:18930401T000000
END:STANDARD
BEGIN:DAYLIGHT
TZNAME:CEST
TZOFFSETFROM:+0100
TZOFFSETTO:+0200
DTSTART:19160430T230000
RDATE:19400401T020000
RDATE:19430329T020000
RDATE:19460414T020000
RDATE:19470406T030000
RDATE:19480418T020000
RDATE:19490410T020000
RDATE:19800406T020000
END:DAYLIGHT
BEGIN:STANDARD
TZNAME:CET
TZOFFSETFROM:+0200
TZOFFSETTO:+0100
DTSTART:19161001T010000
RDATE:19421102T030000
RDATE:19431004T030000
RDATE:19441002T030000
RDATE:19451118T030000
RDATE:19461007T030000
END:STANDARD
BEGIN:DAYLIGHT
TZNAME:CEST
TZOFFSETFROM:+0100
TZOFFSETTO:+0200
DTSTART:19170416T020000
RRULE:FREQ=YEARLY;UNTIL=19180415T010000Z;BYMONTH=4;BYDAY=3MO
END:DAYLIGHT
BEGIN:STANDARD
TZNAME:CET
TZOFFSETFROM:+0200
TZOFFSETTO:+0100
DTSTART:19170917T030000
RRULE:FREQ=YEARLY;UNTIL=19180916T010000Z;BYMONTH=9;BYDAY=3MO
END:STANDARD
BEGIN:DAYLIGHT
TZNAME:CEST
TZOFFSETFROM:+0100
TZOFFSETTO:+0200
DTSTART:19440403T020000
RRULE:FREQ=YEARLY;UNTIL=19450402T010000Z;BYMONTH=4;BYDAY=1MO
END:DAYLIGHT
BEGIN:DAYLIGHT
TZNAME:CEMT
TZOFFSETFROM:+0200
TZOFFSETTO:+0300
DTSTART:19450524T020000
RDATE:19470511T030000
END:DAYLIGHT
BEGIN:DAYLIGHT
TZNAME:CEST
TZOFFSETFROM:+0300
TZOFFSETTO:+0200
DTSTART:19450924T030000
RDATE:19470629T030000
END:DAYLIGHT
BEGIN:STANDARD
TZNAME:CET
TZOFFSETFROM:+0100
TZOFFSETTO:+0100
DTSTART:19460101T000000
RDATE:19800101T000000
END:STANDARD
BEGIN:STANDARD
TZNAME:CET
TZOFFSETFROM:+0200
TZOFFSETTO:+0100
DTSTART:19471005T030000
RRULE:FREQ=YEARLY;UNTIL=19491002T010000Z;BYMONTH=10;BYDAY=1SU
END:STANDARD
BEGIN:STANDARD
TZNAME:CET
TZOFFSETFROM:+0200
TZOFFSETTO:+0100
DTSTART:19800928T030000
RRULE:FREQ=YEARLY;UNTIL=19950924T010000Z;BYMONTH=9;BYDAY=-1SU
END:STANDARD
BEGIN:DAYLIGHT
TZNAME:CEST
TZOFFSETFROM:+0100
TZOFFSETTO:+0200
DTSTART:19810329T020000
RRULE:FREQ=YEARLY;BYMONTH=3;BYDAY=-1SU
END:DAYLIGHT
BEGIN:STANDARD
TZNAME:CET
TZOFFSETFROM:+0200
TZOFFSETTO:+0100
DTSTART:19961027T030000
RRULE:FREQ=YEARLY;BYMONTH=10;BYDAY=-1SU
END:STANDARD
END:VTIMEZONE
BEGIN:VEVENT
DTSTAMP:20260424T151636Z
DTSTART;TZID=Europe/Berlin:20251011T133000
DTEND;TZID=Europe/Berlin:20251011T163000
SUMMARY:Ligue 3 Veyrier vs ZZ-Lancy III (9)
UID:f931bb45-5f15-4b88-a742-1be905d70d75
STATUS:CONFIRMED
DESCRIPTION:3ème ligue jeunesse - Groupe unique\nBegegnungs-Nr: 9\nHeim: Veyrier\nGast: ZZ-Lancy III\n
LOCATION:
CATEGORIES:Saison 2025/26
END:VEVENT
BEGIN:VEVENT
DTSTAMP:20260424T151636Z
DTSTART;TZID=Europe/Berlin:20251011T113000
DTEND;TZID=Europe/Berlin:20251011T143000
SUMMARY:Ligue 3 Veyrier vs Onex (5)
UID:841b991e-894a-4fdc-8c59-19fd61069807
STATUS:CONFIRMED
LAST-MODIFIED:20251003T112849Z
DESCRIPTION:3ème ligue jeunesse - Groupe unique\nBegegnungs-Nr: 5\nHeim: Veyrier\nGast: Onex\n
LOCATION:
CATEGORIES:Saison 2025/26
END:VEVENT
BEGIN:VEVENT
DTSTAMP:20260424T151636Z
DTSTART;TZID=Europe/Berlin:20260328T093000
DTEND;TZID=Europe/Berlin:20260328T123000
SUMMARY:Ligue 3 Veyrier vs Versoix (22)
UID:3972602b-2f58-4d34-9e90-93619d4594e2
STATUS:CONFIRMED
DESCRIPTION:3ème ligue jeunesse - Groupe unique\nBegegnungs-Nr: 22\nHeim: Veyrier\nGast: Versoix\n
LOCATION:
CATEGORIES:Saison 2025/26
END:VEVENT
BEGIN:VEVENT
DTSTAMP:20260424T151636Z
DTSTART;TZID=Europe/Berlin:20251213T113000
DTEND;TZID=Europe/Berlin:20251213T143000
SUMMARY:Ligue 3 Veyrier vs Châtelaine II (19)
UID:3e80c6ee-0c08-401a-ac53-3236d7de2aba
STATUS:CONFIRMED
LAST-MODIFIED:20251213T111555Z
DESCRIPTION:3ème ligue jeunesse - Groupe unique\nBegegnungs-Nr: 19\nHeim: Veyrier\nGast: Châtelaine II\n
LOCATION:
CATEGORIES:Saison 2025/26
END:VEVENT
BEGIN:VEVENT
DTSTAMP:20260424T151636Z
DTSTART;TZID=Europe/Berlin:20251011T093000
DTEND;TZID=Europe/Berlin:20251011T123000
SUMMARY:Ligue 3 Meyrin vs Veyrier (1)
UID:df703080-aea6-462b-82ce-f32f474283f5
STATUS:CONFIRMED
DESCRIPTION:3ème ligue jeunesse - Groupe unique\nBegegnungs-Nr: 1\nHeim: Meyrin\nGast: Veyrier\n
LOCATION:
CATEGORIES:Saison 2025/26
END:VEVENT
BEGIN:VEVENT
DTSTAMP:20260424T151636Z
DTSTART;TZID=Europe/Berlin:20260328T113000
DTEND;TZID=Europe/Berlin:20260328T143000
SUMMARY:Ligue 3 UGS-Chênois IV vs Veyrier (25)
UID:bd3b70ca-5478-467b-b793-dc05eb2af69d
STATUS:CONFIRMED
DESCRIPTION:3ème ligue jeunesse - Groupe unique\nBegegnungs-Nr: 25\nHeim: UGS-Chênois IV\nGast: Veyrier\n
LOCATION:
CATEGORIES:Saison 2025/26
END:VEVENT
BEGIN:VEVENT
DTSTAMP:20260424T151636Z
DTSTART;TZID=Europe/Berlin:20251213T093000
DTEND;TZID=Europe/Berlin:20251213T123000
SUMMARY:Ligue 3 UGS-Chênois V vs Veyrier (16)
UID:51cd0056-5109-4e2a-a274-3321bce3ba16
STATUS:CONFIRMED
LAST-MODIFIED:20251213T111440Z
DESCRIPTION:3ème ligue jeunesse - Groupe unique\nBegegnungs-Nr: 16\nHeim: UGS-Chênois V\nGast: Veyrier\n
LOCATION:
CATEGORIES:Saison 2025/26
END:VEVENT
END:VCALENDAR
