BEGIN:VCALENDAR
PRODID:-//nuDatenautomaten//framework iCal4j //DE
VERSION:2.0
CALSCALE:GREGORIAN
BEGIN:VTIMEZONE
TZID:Europe/Berlin
LAST-MODIFIED:20260306T231828Z
TZURL:https://www.tzurl.org/zoneinfo/Europe/Berlin
X-LIC-LOCATION:Europe/Berlin
X-PROLEPTIC-TZNAME:LMT
BEGIN:STANDARD
TZNAME:CET
TZOFFSETFROM:+005328
TZOFFSETTO:+0100
DTSTART:18930401T000000
END:STANDARD
BEGIN:DAYLIGHT
TZNAME:CEST
TZOFFSETFROM:+0100
TZOFFSETTO:+0200
DTSTART:19160430T230000
RDATE:19400401T020000
RDATE:19430329T020000
RDATE:19460414T020000
RDATE:19470406T030000
RDATE:19480418T020000
RDATE:19490410T020000
RDATE:19800406T020000
END:DAYLIGHT
BEGIN:STANDARD
TZNAME:CET
TZOFFSETFROM:+0200
TZOFFSETTO:+0100
DTSTART:19161001T010000
RDATE:19421102T030000
RDATE:19431004T030000
RDATE:19441002T030000
RDATE:19451118T030000
RDATE:19461007T030000
END:STANDARD
BEGIN:DAYLIGHT
TZNAME:CEST
TZOFFSETFROM:+0100
TZOFFSETTO:+0200
DTSTART:19170416T020000
RRULE:FREQ=YEARLY;UNTIL=19180415T010000Z;BYMONTH=4;BYDAY=3MO
END:DAYLIGHT
BEGIN:STANDARD
TZNAME:CET
TZOFFSETFROM:+0200
TZOFFSETTO:+0100
DTSTART:19170917T030000
RRULE:FREQ=YEARLY;UNTIL=19180916T010000Z;BYMONTH=9;BYDAY=3MO
END:STANDARD
BEGIN:DAYLIGHT
TZNAME:CEST
TZOFFSETFROM:+0100
TZOFFSETTO:+0200
DTSTART:19440403T020000
RRULE:FREQ=YEARLY;UNTIL=19450402T010000Z;BYMONTH=4;BYDAY=1MO
END:DAYLIGHT
BEGIN:DAYLIGHT
TZNAME:CEMT
TZOFFSETFROM:+0200
TZOFFSETTO:+0300
DTSTART:19450524T020000
RDATE:19470511T030000
END:DAYLIGHT
BEGIN:DAYLIGHT
TZNAME:CEST
TZOFFSETFROM:+0300
TZOFFSETTO:+0200
DTSTART:19450924T030000
RDATE:19470629T030000
END:DAYLIGHT
BEGIN:STANDARD
TZNAME:CET
TZOFFSETFROM:+0100
TZOFFSETTO:+0100
DTSTART:19460101T000000
RDATE:19800101T000000
END:STANDARD
BEGIN:STANDARD
TZNAME:CET
TZOFFSETFROM:+0200
TZOFFSETTO:+0100
DTSTART:19471005T030000
RRULE:FREQ=YEARLY;UNTIL=19491002T010000Z;BYMONTH=10;BYDAY=1SU
END:STANDARD
BEGIN:STANDARD
TZNAME:CET
TZOFFSETFROM:+0200
TZOFFSETTO:+0100
DTSTART:19800928T030000
RRULE:FREQ=YEARLY;UNTIL=19950924T010000Z;BYMONTH=9;BYDAY=-1SU
END:STANDARD
BEGIN:DAYLIGHT
TZNAME:CEST
TZOFFSETFROM:+0100
TZOFFSETTO:+0200
DTSTART:19810329T020000
RRULE:FREQ=YEARLY;BYMONTH=3;BYDAY=-1SU
END:DAYLIGHT
BEGIN:STANDARD
TZNAME:CET
TZOFFSETFROM:+0200
TZOFFSETTO:+0100
DTSTART:19961027T030000
RRULE:FREQ=YEARLY;BYMONTH=10;BYDAY=-1SU
END:STANDARD
END:VTIMEZONE
BEGIN:VEVENT
DTSTAMP:20260424T115242Z
DTSTART;TZID=Europe/Berlin:20251023T200000
DTEND;TZID=Europe/Berlin:20251023T230000
SUMMARY:ME L1 Gr 1\, Tours 1&2 Vevey II vs Sierre II (0)
UID:bc0f1e3c-ce96-4615-9c6f-a616fcf1fcd4
STATUS:CONFIRMED
LAST-MODIFIED:20251024T202756Z
DESCRIPTION:1ère ligue Hommes Groupe 1\, Tours 1&2\nBegegnungs-Nr: 0\nHeim: Vevey II\nGast: Sierre II\n\nAdresse: Rue Louis-Meyer\, 1800 Vevey\n
LOCATION:Rue Louis-Meyer\, 1800 Vevey
CATEGORIES:Saison 2025/26
END:VEVENT
BEGIN:VEVENT
DTSTAMP:20260424T115242Z
DTSTART;TZID=Europe/Berlin:20251030T200000
DTEND;TZID=Europe/Berlin:20251030T230000
SUMMARY:ME L1 Gr 1\, Tours 1&2 Vevey II vs Forward-Morges II (0)
UID:1c68dc8e-446f-433d-8056-0ae4fb94289a
STATUS:CONFIRMED
LAST-MODIFIED:20251101T153725Z
DESCRIPTION:1ère ligue Hommes Groupe 1\, Tours 1&2\nBegegnungs-Nr: 0\nHeim: Vevey II\nGast: Forward-Morges II\n\nAdresse: Rue Louis-Meyer\, 1800 Vevey\n
LOCATION:Rue Louis-Meyer\, 1800 Vevey
CATEGORIES:Saison 2025/26
END:VEVENT
BEGIN:VEVENT
DTSTAMP:20260424T115242Z
DTSTART;TZID=Europe/Berlin:20251120T200000
DTEND;TZID=Europe/Berlin:20251120T230000
SUMMARY:ME L1 Gr 1\, Tours 1&2 Vevey II vs Collombey/Muraz (0)
UID:566420b7-09dc-4d05-97f3-19fcde04fa31
STATUS:CONFIRMED
LAST-MODIFIED:20251124T184913Z
DESCRIPTION:1ère ligue Hommes Groupe 1\, Tours 1&2\nBegegnungs-Nr: 0\nHeim: Vevey II\nGast: Collombey/Muraz\n\nAdresse: Rue Louis-Meyer\, 1800 Vevey\n
LOCATION:Rue Louis-Meyer\, 1800 Vevey
CATEGORIES:Saison 2025/26
END:VEVENT
BEGIN:VEVENT
DTSTAMP:20260424T115242Z
DTSTART;TZID=Europe/Berlin:20251211T200000
DTEND;TZID=Europe/Berlin:20251211T230000
SUMMARY:ME L1 Gr 1\, Tours 1&2 Vevey II vs Martigny (0)
UID:0fc178b2-9566-4dab-bdd6-ec8897523364
STATUS:CONFIRMED
LAST-MODIFIED:20251215T184422Z
DESCRIPTION:1ère ligue Hommes Groupe 1\, Tours 1&2\nBegegnungs-Nr: 0\nHeim: Vevey II\nGast: Martigny\n\nAdresse: Rue Louis-Meyer\, 1800 Vevey\n
LOCATION:Rue Louis-Meyer\, 1800 Vevey
CATEGORIES:Saison 2025/26
END:VEVENT
BEGIN:VEVENT
DTSTAMP:20260424T115242Z
DTSTART;TZID=Europe/Berlin:20250911T200000
DTEND;TZID=Europe/Berlin:20250911T230000
SUMMARY:ME L1 Gr 1\, Tours 1&2 Vevey II vs Lausanne II (0)
UID:5a4bd644-7b37-4242-a701-eadd3aef3e3d
STATUS:CONFIRMED
LAST-MODIFIED:20250913T125858Z
DESCRIPTION:1ère ligue Hommes Groupe 1\, Tours 1&2\nBegegnungs-Nr: 0\nHeim: Vevey II\nGast: Lausanne II\n\nAdresse: Rue Louis-Meyer\, 1800 Vevey\n
LOCATION:Rue Louis-Meyer\, 1800 Vevey
CATEGORIES:Saison 2025/26
END:VEVENT
BEGIN:VEVENT
DTSTAMP:20260424T115242Z
DTSTART;TZID=Europe/Berlin:20260212T200000
DTEND;TZID=Europe/Berlin:20260212T230000
SUMMARY:ME L2 Gr 3\, Tours 3&4 Vevey II vs Montriond-Ouchy  (0)
UID:b8b06659-0557-45b0-a2f6-34d7636846f3
STATUS:CONFIRMED
LAST-MODIFIED:20260216T135232Z
DESCRIPTION:2ème ligue Hommes Groupe 3\, Tours 3&4\nBegegnungs-Nr: 0\nHeim: Vevey II\nGast: Montriond-Ouchy \n\nAdresse: Rue Louis-Meyer\, 1800 Vevey\n
LOCATION:Rue Louis-Meyer\, 1800 Vevey
CATEGORIES:Saison 2025/26
END:VEVENT
BEGIN:VEVENT
DTSTAMP:20260424T115242Z
DTSTART;TZID=Europe/Berlin:20260226T200000
DTEND;TZID=Europe/Berlin:20260226T230000
SUMMARY:ME L2 Gr 3\, Tours 3&4 Vevey II vs Romanel II (0)
UID:d92ed423-f45c-4789-b2c0-f228c5715d05
STATUS:CONFIRMED
LAST-MODIFIED:20260302T095915Z
DESCRIPTION:2ème ligue Hommes Groupe 3\, Tours 3&4\nBegegnungs-Nr: 0\nHeim: Vevey II\nGast: Romanel II\n\nAdresse: Rue Louis-Meyer\, 1800 Vevey\n
LOCATION:Rue Louis-Meyer\, 1800 Vevey
CATEGORIES:Saison 2025/26
END:VEVENT
BEGIN:VEVENT
DTSTAMP:20260424T115242Z
DTSTART;TZID=Europe/Berlin:20260312T200000
DTEND;TZID=Europe/Berlin:20260312T230000
SUMMARY:ME L2 Gr 3\, Tours 3&4 Vevey II vs Eysins (0)
UID:e420b361-d619-44b1-8ee6-b2aef6a48a23
STATUS:CONFIRMED
LAST-MODIFIED:20260313T231713Z
DESCRIPTION:2ème ligue Hommes Groupe 3\, Tours 3&4\nBegegnungs-Nr: 0\nHeim: Vevey II\nGast: Eysins\n\nAdresse: Rue Louis-Meyer\, 1800 Vevey\n
LOCATION:Rue Louis-Meyer\, 1800 Vevey
CATEGORIES:Saison 2025/26
END:VEVENT
BEGIN:VEVENT
DTSTAMP:20260424T115242Z
DTSTART;TZID=Europe/Berlin:20260402T200000
DTEND;TZID=Europe/Berlin:20260402T230000
SUMMARY:ME L2 Gr 3\, Tours 3&4 Vevey II vs Lausanne III (0)
UID:1e393cd0-4006-4b4c-841c-8f73debb162d
STATUS:CONFIRMED
LAST-MODIFIED:20260407T193012Z
DESCRIPTION:2ème ligue Hommes Groupe 3\, Tours 3&4\nBegegnungs-Nr: 0\nHeim: Vevey II\nGast: Lausanne III\n\nAdresse: Rue Louis-Meyer\, 1800 Vevey\n
LOCATION:Rue Louis-Meyer\, 1800 Vevey
CATEGORIES:Saison 2025/26
END:VEVENT
BEGIN:VEVENT
DTSTAMP:20260424T115242Z
DTSTART;TZID=Europe/Berlin:20260122T200000
DTEND;TZID=Europe/Berlin:20260122T230000
SUMMARY:ME L2 Gr 3\, Tours 3&4 Vevey II vs Forward-Morges III (0)
UID:ee2ff6ca-a192-4b10-8d14-08a0afb3e632
STATUS:CONFIRMED
LAST-MODIFIED:20260124T154220Z
DESCRIPTION:2ème ligue Hommes Groupe 3\, Tours 3&4\nBegegnungs-Nr: 0\nHeim: Vevey II\nGast: Forward-Morges III\n\nAdresse: Rue Louis-Meyer\, 1800 Vevey\n
LOCATION:Rue Louis-Meyer\, 1800 Vevey
CATEGORIES:Saison 2025/26
END:VEVENT
BEGIN:VEVENT
DTSTAMP:20260424T115242Z
DTSTART;TZID=Europe/Berlin:20251014T200000
DTEND;TZID=Europe/Berlin:20251014T230000
SUMMARY:ME L1 Gr 1\, Tours 1&2 Martigny vs Vevey II (0)
UID:c94a33ed-8415-444a-91dd-a8912b352363
STATUS:CONFIRMED
LAST-MODIFIED:20251015T213013Z
DESCRIPTION:1ère ligue Hommes Groupe 1\, Tours 1&2\nBegegnungs-Nr: 0\nHeim: Martigny\nGast: Vevey II\n\nAdresse: Rue des Ecoles 9\, 1920 Martigny\n
LOCATION:Rue des Ecoles 9\, 1920 Martigny
CATEGORIES:Saison 2025/26
END:VEVENT
BEGIN:VEVENT
DTSTAMP:20260424T115242Z
DTSTART;TZID=Europe/Berlin:20251108T160000
DTEND;TZID=Europe/Berlin:20251108T190000
SUMMARY:ME L1 Gr 1\, Tours 1&2 Lausanne II vs Vevey II (0)
UID:23ddf46a-755d-4679-90e5-cd71b096094f
STATUS:CONFIRMED
LAST-MODIFIED:20251109T122256Z
DESCRIPTION:1ère ligue Hommes Groupe 1\, Tours 1&2\nBegegnungs-Nr: 0\nHeim: Lausanne II\nGast: Vevey II\n\nAdresse: Vaudoise Aréna\, Ch. du Viaduc 14\, 1008 Prilly\n
LOCATION:Vaudoise Aréna\, Ch. du Viaduc 14\, 1008 Prilly
CATEGORIES:Saison 2025/26
END:VEVENT
BEGIN:VEVENT
DTSTAMP:20260424T115242Z
DTSTART;TZID=Europe/Berlin:20251126T200000
DTEND;TZID=Europe/Berlin:20251126T230000
SUMMARY:ME L1 Gr 1\, Tours 1&2 Sierre II vs Vevey II (0)
UID:39244701-207d-4775-8032-eb6a46187594
STATUS:CONFIRMED
LAST-MODIFIED:20251127T111956Z
DESCRIPTION:1ère ligue Hommes Groupe 1\, Tours 1&2\nBegegnungs-Nr: 0\nHeim: Sierre II\nGast: Vevey II\n\nAdresse: Rte des Liddes 6\, 3960 Sierre\n
LOCATION:Rte des Liddes 6\, 3960 Sierre
CATEGORIES:Saison 2025/26
END:VEVENT
BEGIN:VEVENT
DTSTAMP:20260424T115242Z
DTSTART;TZID=Europe/Berlin:20250904T194500
DTEND;TZID=Europe/Berlin:20250904T224500
SUMMARY:ME L1 Gr 1\, Tours 1&2 Forward-Morges II vs Vevey II (0)
UID:851074b8-ac9c-4e19-8d47-233be7c668e9
STATUS:CONFIRMED
LAST-MODIFIED:20250905T182521Z
DESCRIPTION:1ère ligue Hommes Groupe 1\, Tours 1&2\nBegegnungs-Nr: 0\nHeim: Forward-Morges II\nGast: Vevey II\n\nAdresse: Chemin de Tolochenaz\, 1110 Morges\n
LOCATION:Chemin de Tolochenaz\, 1110 Morges
CATEGORIES:Saison 2025/26
END:VEVENT
BEGIN:VEVENT
DTSTAMP:20260424T115242Z
DTSTART;TZID=Europe/Berlin:20250921T170000
DTEND;TZID=Europe/Berlin:20250921T200000
SUMMARY:ME L1 Gr 1\, Tours 1&2 Collombey/Muraz vs Vevey II (0)
UID:41bfbd8b-77e2-480d-a150-02ee4b282823
STATUS:CONFIRMED
LAST-MODIFIED:20250922T150854Z
DESCRIPTION:1ère ligue Hommes Groupe 1\, Tours 1&2\nBegegnungs-Nr: 0\nHeim: Collombey/Muraz\nGast: Vevey II\n\nAdresse: Route du Montagnier 81\, 1868 Collombey\n
LOCATION:Route du Montagnier 81\, 1868 Collombey
CATEGORIES:Saison 2025/26
END:VEVENT
BEGIN:VEVENT
DTSTAMP:20260424T115242Z
DTSTART;TZID=Europe/Berlin:20260202T200000
DTEND;TZID=Europe/Berlin:20260202T230000
SUMMARY:ME L2 Gr 3\, Tours 3&4 Lausanne III vs Vevey II (0)
UID:41336382-10b8-42fb-97fd-a87e5dfedd96
STATUS:CONFIRMED
LAST-MODIFIED:20260203T175310Z
DESCRIPTION:2ème ligue Hommes Groupe 3\, Tours 3&4\nBegegnungs-Nr: 0\nHeim: Lausanne III\nGast: Vevey II\n\nAdresse: Vaudoise Aréna\, Ch. du Viaduc 14\, 1008 Prilly\n
LOCATION:Vaudoise Aréna\, Ch. du Viaduc 14\, 1008 Prilly
CATEGORIES:Saison 2025/26
END:VEVENT
BEGIN:VEVENT
DTSTAMP:20260424T115242Z
DTSTART;TZID=Europe/Berlin:20260318T194500
DTEND;TZID=Europe/Berlin:20260318T224500
SUMMARY:ME L2 Gr 3\, Tours 3&4 Forward-Morges III vs Vevey II (0)
UID:17e9dd2c-115a-473b-8ce9-ac33df9513c4
STATUS:CONFIRMED
LAST-MODIFIED:20260325T093200Z
DESCRIPTION:2ème ligue Hommes Groupe 3\, Tours 3&4\nBegegnungs-Nr: 0\nHeim: Forward-Morges III\nGast: Vevey II\n\nAdresse: Chemin de Tolochenaz\, 1110 Morges\n
LOCATION:Chemin de Tolochenaz\, 1110 Morges
CATEGORIES:Saison 2025/26
END:VEVENT
BEGIN:VEVENT
DTSTAMP:20260424T115242Z
DTSTART;TZID=Europe/Berlin:20260424T193000
DTEND;TZID=Europe/Berlin:20260424T223000
SUMMARY:ME L2 Gr 3\, Tours 3&4 Montriond-Ouchy  vs Vevey II (0)
UID:23b454c1-0136-4ea5-835d-3fd4444cd6b0
STATUS:CONFIRMED
DESCRIPTION:2ème ligue Hommes Groupe 3\, Tours 3&4\nBegegnungs-Nr: 0\nHeim: Montriond-Ouchy \nGast: Vevey II\n\nAdresse: Avenue d'Ouchy 45\, 1006 Lausanne\n
LOCATION:Avenue d'Ouchy 45\, 1006 Lausanne
CATEGORIES:Saison 2025/26
END:VEVENT
BEGIN:VEVENT
DTSTAMP:20260424T115242Z
DTSTART;TZID=Europe/Berlin:20260429T193000
DTEND;TZID=Europe/Berlin:20260429T223000
SUMMARY:ME L2 Gr 3\, Tours 3&4 Romanel II vs Vevey II (0)
UID:01a96dde-dc7a-471f-aaa3-45acc5df2996
STATUS:CONFIRMED
DESCRIPTION:2ème ligue Hommes Groupe 3\, Tours 3&4\nBegegnungs-Nr: 0\nHeim: Romanel II\nGast: Vevey II\n\nAdresse: Ch des Epinettes 1\, 1032 Romanel-sur-Lausanne\n
LOCATION:Ch des Epinettes 1\, 1032 Romanel-sur-Lausanne
CATEGORIES:Saison 2025/26
END:VEVENT
BEGIN:VEVENT
DTSTAMP:20260424T115242Z
DTSTART;TZID=Europe/Berlin:20260128T200000
DTEND;TZID=Europe/Berlin:20260128T230000
SUMMARY:ME L2 Gr 3\, Tours 3&4 Eysins vs Vevey II (0)
UID:e3d99315-ce7f-4783-911c-199302a5f280
STATUS:CONFIRMED
LAST-MODIFIED:20260131T171113Z
DESCRIPTION:2ème ligue Hommes Groupe 3\, Tours 3&4\nBegegnungs-Nr: 0\nHeim: Eysins\nGast: Vevey II\n\nAdresse: En Bellossiez 1\, 1262 Eysins\n
LOCATION:En Bellossiez 1\, 1262 Eysins
CATEGORIES:Saison 2025/26
END:VEVENT
END:VCALENDAR
