BEGIN:VCALENDAR
PRODID:-//nuDatenautomaten//framework iCal4j //DE
VERSION:2.0
CALSCALE:GREGORIAN
BEGIN:VTIMEZONE
TZID:Europe/Berlin
LAST-MODIFIED:20260306T231828Z
TZURL:https://www.tzurl.org/zoneinfo/Europe/Berlin
X-LIC-LOCATION:Europe/Berlin
X-PROLEPTIC-TZNAME:LMT
BEGIN:STANDARD
TZNAME:CET
TZOFFSETFROM:+005328
TZOFFSETTO:+0100
DTSTART:18930401T000000
END:STANDARD
BEGIN:DAYLIGHT
TZNAME:CEST
TZOFFSETFROM:+0100
TZOFFSETTO:+0200
DTSTART:19160430T230000
RDATE:19400401T020000
RDATE:19430329T020000
RDATE:19460414T020000
RDATE:19470406T030000
RDATE:19480418T020000
RDATE:19490410T020000
RDATE:19800406T020000
END:DAYLIGHT
BEGIN:STANDARD
TZNAME:CET
TZOFFSETFROM:+0200
TZOFFSETTO:+0100
DTSTART:19161001T010000
RDATE:19421102T030000
RDATE:19431004T030000
RDATE:19441002T030000
RDATE:19451118T030000
RDATE:19461007T030000
END:STANDARD
BEGIN:DAYLIGHT
TZNAME:CEST
TZOFFSETFROM:+0100
TZOFFSETTO:+0200
DTSTART:19170416T020000
RRULE:FREQ=YEARLY;UNTIL=19180415T010000Z;BYMONTH=4;BYDAY=3MO
END:DAYLIGHT
BEGIN:STANDARD
TZNAME:CET
TZOFFSETFROM:+0200
TZOFFSETTO:+0100
DTSTART:19170917T030000
RRULE:FREQ=YEARLY;UNTIL=19180916T010000Z;BYMONTH=9;BYDAY=3MO
END:STANDARD
BEGIN:DAYLIGHT
TZNAME:CEST
TZOFFSETFROM:+0100
TZOFFSETTO:+0200
DTSTART:19440403T020000
RRULE:FREQ=YEARLY;UNTIL=19450402T010000Z;BYMONTH=4;BYDAY=1MO
END:DAYLIGHT
BEGIN:DAYLIGHT
TZNAME:CEMT
TZOFFSETFROM:+0200
TZOFFSETTO:+0300
DTSTART:19450524T020000
RDATE:19470511T030000
END:DAYLIGHT
BEGIN:DAYLIGHT
TZNAME:CEST
TZOFFSETFROM:+0300
TZOFFSETTO:+0200
DTSTART:19450924T030000
RDATE:19470629T030000
END:DAYLIGHT
BEGIN:STANDARD
TZNAME:CET
TZOFFSETFROM:+0100
TZOFFSETTO:+0100
DTSTART:19460101T000000
RDATE:19800101T000000
END:STANDARD
BEGIN:STANDARD
TZNAME:CET
TZOFFSETFROM:+0200
TZOFFSETTO:+0100
DTSTART:19471005T030000
RRULE:FREQ=YEARLY;UNTIL=19491002T010000Z;BYMONTH=10;BYDAY=1SU
END:STANDARD
BEGIN:STANDARD
TZNAME:CET
TZOFFSETFROM:+0200
TZOFFSETTO:+0100
DTSTART:19800928T030000
RRULE:FREQ=YEARLY;UNTIL=19950924T010000Z;BYMONTH=9;BYDAY=-1SU
END:STANDARD
BEGIN:DAYLIGHT
TZNAME:CEST
TZOFFSETFROM:+0100
TZOFFSETTO:+0200
DTSTART:19810329T020000
RRULE:FREQ=YEARLY;BYMONTH=3;BYDAY=-1SU
END:DAYLIGHT
BEGIN:STANDARD
TZNAME:CET
TZOFFSETFROM:+0200
TZOFFSETTO:+0100
DTSTART:19961027T030000
RRULE:FREQ=YEARLY;BYMONTH=10;BYDAY=-1SU
END:STANDARD
END:VTIMEZONE
BEGIN:VEVENT
DTSTAMP:20260424T152509Z
DTSTART;TZID=Europe/Berlin:20260506T194500
DTEND;TZID=Europe/Berlin:20260506T224500
SUMMARY:Ligue 3 Gr.1 Grand-Saconnex III vs Rapid-Genève II (29)
UID:e45bc76c-e8db-47a2-b355-50a42bf0de13
STATUS:CONFIRMED
DESCRIPTION:3ème ligue O40 1er Groupe\nBegegnungs-Nr: 29\nHeim: Grand-Saconnex III\nGast: Rapid-Genève II\n
LOCATION:
CATEGORIES:Saison 2025/26
END:VEVENT
BEGIN:VEVENT
DTSTAMP:20260424T152509Z
DTSTART;TZID=Europe/Berlin:20260304T194500
DTEND;TZID=Europe/Berlin:20260304T224500
SUMMARY:Ligue 3 Gr.1 Grand-Saconnex III vs Châtelaine V (24)
UID:a7b0df35-5b03-4278-9a33-ddf8f1d00be4
STATUS:CONFIRMED
LAST-MODIFIED:20260305T180317Z
DESCRIPTION:3ème ligue O40 1er Groupe\nBegegnungs-Nr: 24\nHeim: Grand-Saconnex III\nGast: Châtelaine V\n
LOCATION:
CATEGORIES:Saison 2025/26
END:VEVENT
BEGIN:VEVENT
DTSTAMP:20260424T152509Z
DTSTART;TZID=Europe/Berlin:20260107T194500
DTEND;TZID=Europe/Berlin:20260107T224500
SUMMARY:Ligue 3 Gr.1 Grand-Saconnex III vs Versoix II (16)
UID:533c8ef7-800a-43cd-b9e3-250ba5fb9b4e
STATUS:CONFIRMED
LAST-MODIFIED:20260108T105537Z
DESCRIPTION:3ème ligue O40 1er Groupe\nBegegnungs-Nr: 16\nHeim: Grand-Saconnex III\nGast: Versoix II\n
LOCATION:
CATEGORIES:Saison 2025/26
END:VEVENT
BEGIN:VEVENT
DTSTAMP:20260424T152509Z
DTSTART;TZID=Europe/Berlin:20251210T194500
DTEND;TZID=Europe/Berlin:20251210T224500
SUMMARY:Ligue 3 Gr.1 Grand-Saconnex III vs UGS-Chênois IV (11)
UID:86398e72-749e-4cdc-99b3-2e748ffddf9c
STATUS:CONFIRMED
LAST-MODIFIED:20251211T075214Z
DESCRIPTION:3ème ligue O40 1er Groupe\nBegegnungs-Nr: 11\nHeim: Grand-Saconnex III\nGast: UGS-Chênois IV\n
LOCATION:
CATEGORIES:Saison 2025/26
END:VEVENT
BEGIN:VEVENT
DTSTAMP:20260424T152509Z
DTSTART;TZID=Europe/Berlin:20251001T194500
DTEND;TZID=Europe/Berlin:20251001T224500
SUMMARY:Ligue 3 Gr.1 Grand-Saconnex III vs Puplinge (5)
UID:45791fa8-3605-42fb-972c-85c1b4ac4ef8
STATUS:CONFIRMED
LAST-MODIFIED:20251002T085034Z
DESCRIPTION:3ème ligue O40 1er Groupe\nBegegnungs-Nr: 5\nHeim: Grand-Saconnex III\nGast: Puplinge\n
LOCATION:
CATEGORIES:Saison 2025/26
END:VEVENT
BEGIN:VEVENT
DTSTAMP:20260424T152509Z
DTSTART;TZID=Europe/Berlin:20260422T194500
DTEND;TZID=Europe/Berlin:20260422T224500
SUMMARY:Ligue 3 Gr.1 UGS-Chênois IV vs Grand-Saconnex III (26)
UID:8de460d1-1465-4f19-aeae-b952aae3ce3a
STATUS:CONFIRMED
LAST-MODIFIED:20260423T164613Z
DESCRIPTION:3ème ligue O40 1er Groupe\nBegegnungs-Nr: 26\nHeim: UGS-Chênois IV\nGast: Grand-Saconnex III\n
LOCATION:
CATEGORIES:Saison 2025/26
END:VEVENT
BEGIN:VEVENT
DTSTAMP:20260424T152509Z
DTSTART;TZID=Europe/Berlin:20260204T194500
DTEND;TZID=Europe/Berlin:20260204T224500
SUMMARY:Ligue 3 Gr.1 Puplinge vs Grand-Saconnex III (20)
UID:af5c2ac5-dd99-4e56-ab74-94da9f5c938f
STATUS:CONFIRMED
LAST-MODIFIED:20260205T100152Z
DESCRIPTION:3ème ligue O40 1er Groupe\nBegegnungs-Nr: 20\nHeim: Puplinge\nGast: Grand-Saconnex III\n\nAdresse: Chemin de la Brenaz\,  15\, 1241 Puplinge\n
LOCATION:Chemin de la Brenaz\,  15\, 1241 Puplinge
CATEGORIES:Saison 2025/26
END:VEVENT
BEGIN:VEVENT
DTSTAMP:20260424T152509Z
DTSTART;TZID=Europe/Berlin:20251217T194500
DTEND;TZID=Europe/Berlin:20251217T224500
SUMMARY:Ligue 3 Gr.1 Rapid-Genève II vs Grand-Saconnex III (14)
UID:fe36819f-d934-433d-b880-f522037bda2d
STATUS:CONFIRMED
LAST-MODIFIED:20251218T093806Z
DESCRIPTION:3ème ligue O40 1er Groupe\nBegegnungs-Nr: 14\nHeim: Rapid-Genève II\nGast: Grand-Saconnex III\n
LOCATION:
CATEGORIES:Saison 2025/26
END:VEVENT
BEGIN:VEVENT
DTSTAMP:20260424T152509Z
DTSTART;TZID=Europe/Berlin:20250910T194500
DTEND;TZID=Europe/Berlin:20250910T224500
SUMMARY:Ligue 3 Gr.1 Versoix II vs Grand-Saconnex III (1)
UID:13cbc09c-4432-42e0-9b1b-3b31cfb53eab
STATUS:CONFIRMED
LAST-MODIFIED:20250911T134150Z
DESCRIPTION:3ème ligue O40 1er Groupe\nBegegnungs-Nr: 1\nHeim: Versoix II\nGast: Grand-Saconnex III\n
LOCATION:
CATEGORIES:Saison 2025/26
END:VEVENT
BEGIN:VEVENT
DTSTAMP:20260424T152509Z
DTSTART;TZID=Europe/Berlin:20251105T194500
DTEND;TZID=Europe/Berlin:20251105T224500
SUMMARY:Ligue 3 Gr.1 Châtelaine V vs Grand-Saconnex III (9)
UID:c9fd1e2a-c448-499c-a035-3b9025a75be7
STATUS:CONFIRMED
LAST-MODIFIED:20251105T231938Z
DESCRIPTION:3ème ligue O40 1er Groupe\nBegegnungs-Nr: 9\nHeim: Châtelaine V\nGast: Grand-Saconnex III\n
LOCATION:
CATEGORIES:Saison 2025/26
END:VEVENT
END:VCALENDAR
