BEGIN:VCALENDAR
PRODID:-//nuDatenautomaten//framework iCal4j //DE
VERSION:2.0
CALSCALE:GREGORIAN
BEGIN:VTIMEZONE
TZID:Europe/Berlin
LAST-MODIFIED:20260306T231828Z
TZURL:https://www.tzurl.org/zoneinfo/Europe/Berlin
X-LIC-LOCATION:Europe/Berlin
X-PROLEPTIC-TZNAME:LMT
BEGIN:STANDARD
TZNAME:CET
TZOFFSETFROM:+005328
TZOFFSETTO:+0100
DTSTART:18930401T000000
END:STANDARD
BEGIN:DAYLIGHT
TZNAME:CEST
TZOFFSETFROM:+0100
TZOFFSETTO:+0200
DTSTART:19160430T230000
RDATE:19400401T020000
RDATE:19430329T020000
RDATE:19460414T020000
RDATE:19470406T030000
RDATE:19480418T020000
RDATE:19490410T020000
RDATE:19800406T020000
END:DAYLIGHT
BEGIN:STANDARD
TZNAME:CET
TZOFFSETFROM:+0200
TZOFFSETTO:+0100
DTSTART:19161001T010000
RDATE:19421102T030000
RDATE:19431004T030000
RDATE:19441002T030000
RDATE:19451118T030000
RDATE:19461007T030000
END:STANDARD
BEGIN:DAYLIGHT
TZNAME:CEST
TZOFFSETFROM:+0100
TZOFFSETTO:+0200
DTSTART:19170416T020000
RRULE:FREQ=YEARLY;UNTIL=19180415T010000Z;BYMONTH=4;BYDAY=3MO
END:DAYLIGHT
BEGIN:STANDARD
TZNAME:CET
TZOFFSETFROM:+0200
TZOFFSETTO:+0100
DTSTART:19170917T030000
RRULE:FREQ=YEARLY;UNTIL=19180916T010000Z;BYMONTH=9;BYDAY=3MO
END:STANDARD
BEGIN:DAYLIGHT
TZNAME:CEST
TZOFFSETFROM:+0100
TZOFFSETTO:+0200
DTSTART:19440403T020000
RRULE:FREQ=YEARLY;UNTIL=19450402T010000Z;BYMONTH=4;BYDAY=1MO
END:DAYLIGHT
BEGIN:DAYLIGHT
TZNAME:CEMT
TZOFFSETFROM:+0200
TZOFFSETTO:+0300
DTSTART:19450524T020000
RDATE:19470511T030000
END:DAYLIGHT
BEGIN:DAYLIGHT
TZNAME:CEST
TZOFFSETFROM:+0300
TZOFFSETTO:+0200
DTSTART:19450924T030000
RDATE:19470629T030000
END:DAYLIGHT
BEGIN:STANDARD
TZNAME:CET
TZOFFSETFROM:+0100
TZOFFSETTO:+0100
DTSTART:19460101T000000
RDATE:19800101T000000
END:STANDARD
BEGIN:STANDARD
TZNAME:CET
TZOFFSETFROM:+0200
TZOFFSETTO:+0100
DTSTART:19471005T030000
RRULE:FREQ=YEARLY;UNTIL=19491002T010000Z;BYMONTH=10;BYDAY=1SU
END:STANDARD
BEGIN:STANDARD
TZNAME:CET
TZOFFSETFROM:+0200
TZOFFSETTO:+0100
DTSTART:19800928T030000
RRULE:FREQ=YEARLY;UNTIL=19950924T010000Z;BYMONTH=9;BYDAY=-1SU
END:STANDARD
BEGIN:DAYLIGHT
TZNAME:CEST
TZOFFSETFROM:+0100
TZOFFSETTO:+0200
DTSTART:19810329T020000
RRULE:FREQ=YEARLY;BYMONTH=3;BYDAY=-1SU
END:DAYLIGHT
BEGIN:STANDARD
TZNAME:CET
TZOFFSETFROM:+0200
TZOFFSETTO:+0100
DTSTART:19961027T030000
RRULE:FREQ=YEARLY;BYMONTH=10;BYDAY=-1SU
END:STANDARD
END:VTIMEZONE
BEGIN:VEVENT
DTSTAMP:20260424T135908Z
DTSTART;TZID=Europe/Berlin:20250830T160000
DTEND;TZID=Europe/Berlin:20250830T190000
SUMMARY:JUG\, 3.Li\, Gr.1\, VR Zürich vs Bülach II (5)
UID:2953abec-4362-4dab-8977-425171a9e1b7
STATUS:CONFIRMED
LAST-MODIFIED:20250902T124326Z
DESCRIPTION:Jugend\, 3. Liga\, Gruppe 1\, Vorrunde\nBegegnungs-Nr: 5\nHeim: Zürich\nGast: Bülach II\n\nAdresse: Wehntalerstrasse 283\, 8046 Zürich\n
LOCATION:Wehntalerstrasse 283\, 8046 Zürich
CATEGORIES:Saison 2025/26
END:VEVENT
BEGIN:VEVENT
DTSTAMP:20260424T135908Z
DTSTART;TZID=Europe/Berlin:20250830T130000
DTEND;TZID=Europe/Berlin:20250830T160000
SUMMARY:JUG\, 3.Li\, Gr.1\, VR Zürich vs Zürich-Affoltern V (2)
UID:daeea0a9-300e-4adb-8129-a274cddd5739
STATUS:CONFIRMED
LAST-MODIFIED:20250902T124235Z
DESCRIPTION:Jugend\, 3. Liga\, Gruppe 1\, Vorrunde\nBegegnungs-Nr: 2\nHeim: Zürich\nGast: Zürich-Affoltern V\n\nAdresse: Wehntalerstrasse 283\, 8046 Zürich\n
LOCATION:Wehntalerstrasse 283\, 8046 Zürich
CATEGORIES:Saison 2025/26
END:VEVENT
BEGIN:VEVENT
DTSTAMP:20260424T135908Z
DTSTART;TZID=Europe/Berlin:20260328T160000
DTEND;TZID=Europe/Berlin:20260328T190000
SUMMARY:JUG\, 3.Li\, Gr.6\, Final Zürich vs Herisau (6)
UID:acbd5e0b-8b06-42ad-8cc7-08444cf71fbd
STATUS:CONFIRMED
LAST-MODIFIED:20260401T140721Z
DESCRIPTION:Jugend\, 3. Liga\, Gruppe 6\, Final\nBegegnungs-Nr: 6\nHeim: Zürich\nGast: Herisau\n\nAdresse: Wehntalerstrasse 283\, 8046 Zürich\n
LOCATION:Wehntalerstrasse 283\, 8046 Zürich
CATEGORIES:Saison 2025/26
END:VEVENT
BEGIN:VEVENT
DTSTAMP:20260424T135908Z
DTSTART;TZID=Europe/Berlin:20250830T143000
DTEND;TZID=Europe/Berlin:20250830T173000
SUMMARY:JUG\, 3.Li\, Gr.1\, VR Affoltern A/A III vs Zürich (4)
UID:a136ff61-8a5d-4fde-a90a-ffb4803f85b6
STATUS:CONFIRMED
LAST-MODIFIED:20250902T124315Z
DESCRIPTION:Jugend\, 3. Liga\, Gruppe 1\, Vorrunde\nBegegnungs-Nr: 4\nHeim: Affoltern A/A III\nGast: Zürich\n\nAdresse: Butzenstrasse 8\, 8910 Affoltern am Albis\n
LOCATION:Butzenstrasse 8\, 8910 Affoltern am Albis
CATEGORIES:Saison 2025/26
END:VEVENT
BEGIN:VEVENT
DTSTAMP:20260424T135908Z
DTSTART;TZID=Europe/Berlin:20251115T143000
DTEND;TZID=Europe/Berlin:20251115T173000
SUMMARY:JUG\, 3.Li\, Gr.9\, ZR TSV Zumikon II vs Zürich (2)
UID:69af7994-9c99-4cda-96aa-e5177f2c355b
STATUS:CONFIRMED
LAST-MODIFIED:20251121T102955Z
DESCRIPTION:Jugend\, 3. Liga\, Gruppe 9\, Zwischenrunde\nBegegnungs-Nr: 2\nHeim: TSV Zumikon II\nGast: Zürich\n\nAdresse: Dorfstrasse 45\, 8126 Zumikon\n
LOCATION:Dorfstrasse 45\, 8126 Zumikon
CATEGORIES:Saison 2025/26
END:VEVENT
BEGIN:VEVENT
DTSTAMP:20260424T135908Z
DTSTART;TZID=Europe/Berlin:20251115T130000
DTEND;TZID=Europe/Berlin:20251115T160000
SUMMARY:JUG\, 3.Li\, Gr.9\, ZR Muolen vs Zürich (1)
UID:473fa470-b18a-45a1-b10c-e03c6a06d9b1
STATUS:CONFIRMED
LAST-MODIFIED:20251121T102947Z
DESCRIPTION:Jugend\, 3. Liga\, Gruppe 9\, Zwischenrunde\nBegegnungs-Nr: 1\nHeim: Muolen\nGast: Zürich\nHalle: Poule in Muolen\, Turnhalle\nAdresse: Dorfstrasse 31\, 9313 Muolen\n
LOCATION:Poule in Muolen\, Turnhalle Dorfstrasse 31\, 9313 Muolen
CATEGORIES:Saison 2025/26
END:VEVENT
BEGIN:VEVENT
DTSTAMP:20260424T135908Z
DTSTART;TZID=Europe/Berlin:20260328T130000
DTEND;TZID=Europe/Berlin:20260328T160000
SUMMARY:JUG\, 3.Li\, Gr.6\, Final Dübendorf-Volketswil vs Zürich (2)
UID:3e981fb3-1f4a-4622-82ae-718858b4649d
STATUS:CONFIRMED
LAST-MODIFIED:20260401T140644Z
DESCRIPTION:Jugend\, 3. Liga\, Gruppe 6\, Final\nBegegnungs-Nr: 2\nHeim: Dübendorf-Volketswil\nGast: Zürich\n\nAdresse: Usterstrasse 35\, 8604 Volketswil\n
LOCATION:Usterstrasse 35\, 8604 Volketswil
CATEGORIES:Saison 2025/26
END:VEVENT
BEGIN:VEVENT
DTSTAMP:20260424T135908Z
DTSTART;TZID=Europe/Berlin:20260328T143000
DTEND;TZID=Europe/Berlin:20260328T173000
SUMMARY:JUG\, 3.Li\, Gr.6\, Final Rapperswil-Jona II vs Zürich (3)
UID:6f8a22f4-30dc-47c4-a2e9-bad5671c713f
STATUS:CONFIRMED
LAST-MODIFIED:20260401T140653Z
DESCRIPTION:Jugend\, 3. Liga\, Gruppe 6\, Final\nBegegnungs-Nr: 3\nHeim: Rapperswil-Jona II\nGast: Zürich\n\nAdresse: Kreuzstrasse 43\, 8640 Rapperswil\n
LOCATION:Kreuzstrasse 43\, 8640 Rapperswil
CATEGORIES:Saison 2025/26
END:VEVENT
END:VCALENDAR
