BEGIN:VCALENDAR
PRODID:-//nuDatenautomaten//framework iCal4j //DE
VERSION:2.0
CALSCALE:GREGORIAN
BEGIN:VTIMEZONE
TZID:Europe/Berlin
LAST-MODIFIED:20260306T231828Z
TZURL:https://www.tzurl.org/zoneinfo/Europe/Berlin
X-LIC-LOCATION:Europe/Berlin
X-PROLEPTIC-TZNAME:LMT
BEGIN:STANDARD
TZNAME:CET
TZOFFSETFROM:+005328
TZOFFSETTO:+0100
DTSTART:18930401T000000
END:STANDARD
BEGIN:DAYLIGHT
TZNAME:CEST
TZOFFSETFROM:+0100
TZOFFSETTO:+0200
DTSTART:19160430T230000
RDATE:19400401T020000
RDATE:19430329T020000
RDATE:19460414T020000
RDATE:19470406T030000
RDATE:19480418T020000
RDATE:19490410T020000
RDATE:19800406T020000
END:DAYLIGHT
BEGIN:STANDARD
TZNAME:CET
TZOFFSETFROM:+0200
TZOFFSETTO:+0100
DTSTART:19161001T010000
RDATE:19421102T030000
RDATE:19431004T030000
RDATE:19441002T030000
RDATE:19451118T030000
RDATE:19461007T030000
END:STANDARD
BEGIN:DAYLIGHT
TZNAME:CEST
TZOFFSETFROM:+0100
TZOFFSETTO:+0200
DTSTART:19170416T020000
RRULE:FREQ=YEARLY;UNTIL=19180415T010000Z;BYMONTH=4;BYDAY=3MO
END:DAYLIGHT
BEGIN:STANDARD
TZNAME:CET
TZOFFSETFROM:+0200
TZOFFSETTO:+0100
DTSTART:19170917T030000
RRULE:FREQ=YEARLY;UNTIL=19180916T010000Z;BYMONTH=9;BYDAY=3MO
END:STANDARD
BEGIN:DAYLIGHT
TZNAME:CEST
TZOFFSETFROM:+0100
TZOFFSETTO:+0200
DTSTART:19440403T020000
RRULE:FREQ=YEARLY;UNTIL=19450402T010000Z;BYMONTH=4;BYDAY=1MO
END:DAYLIGHT
BEGIN:DAYLIGHT
TZNAME:CEMT
TZOFFSETFROM:+0200
TZOFFSETTO:+0300
DTSTART:19450524T020000
RDATE:19470511T030000
END:DAYLIGHT
BEGIN:DAYLIGHT
TZNAME:CEST
TZOFFSETFROM:+0300
TZOFFSETTO:+0200
DTSTART:19450924T030000
RDATE:19470629T030000
END:DAYLIGHT
BEGIN:STANDARD
TZNAME:CET
TZOFFSETFROM:+0100
TZOFFSETTO:+0100
DTSTART:19460101T000000
RDATE:19800101T000000
END:STANDARD
BEGIN:STANDARD
TZNAME:CET
TZOFFSETFROM:+0200
TZOFFSETTO:+0100
DTSTART:19471005T030000
RRULE:FREQ=YEARLY;UNTIL=19491002T010000Z;BYMONTH=10;BYDAY=1SU
END:STANDARD
BEGIN:STANDARD
TZNAME:CET
TZOFFSETFROM:+0200
TZOFFSETTO:+0100
DTSTART:19800928T030000
RRULE:FREQ=YEARLY;UNTIL=19950924T010000Z;BYMONTH=9;BYDAY=-1SU
END:STANDARD
BEGIN:DAYLIGHT
TZNAME:CEST
TZOFFSETFROM:+0100
TZOFFSETTO:+0200
DTSTART:19810329T020000
RRULE:FREQ=YEARLY;BYMONTH=3;BYDAY=-1SU
END:DAYLIGHT
BEGIN:STANDARD
TZNAME:CET
TZOFFSETFROM:+0200
TZOFFSETTO:+0100
DTSTART:19961027T030000
RRULE:FREQ=YEARLY;BYMONTH=10;BYDAY=-1SU
END:STANDARD
END:VTIMEZONE
BEGIN:VEVENT
DTSTAMP:20260424T115151Z
DTSTART;TZID=Europe/Berlin:20250912T200000
DTEND;TZID=Europe/Berlin:20250912T230000
SUMMARY:ME L6 Gr 2\, Tours 1&2 Aigle III vs Montreux-Riviera II (0)
UID:1accc8cf-8559-47ee-9559-c3aa2cea929d
STATUS:CONFIRMED
LAST-MODIFIED:20250916T220855Z
DESCRIPTION:6ème ligue Hommes Groupe 2\, Tours 1&2\nBegegnungs-Nr: 0\nHeim: Aigle III\nGast: Montreux-Riviera II\n\nAdresse: Rue du Collège 12\, 1860 Aigle\n
LOCATION:Rue du Collège 12\, 1860 Aigle
CATEGORIES:Saison 2025/26
END:VEVENT
BEGIN:VEVENT
DTSTAMP:20260424T115151Z
DTSTART;TZID=Europe/Berlin:20251003T200000
DTEND;TZID=Europe/Berlin:20251003T230000
SUMMARY:ME L6 Gr 2\, Tours 1&2 Aigle III vs Martigny VI (0)
UID:1e190bea-9d67-444d-844f-af03f27634ce
STATUS:CONFIRMED
LAST-MODIFIED:20251007T221215Z
DESCRIPTION:6ème ligue Hommes Groupe 2\, Tours 1&2\nBegegnungs-Nr: 0\nHeim: Aigle III\nGast: Martigny VI\n\nAdresse: Rue du Collège 12\, 1860 Aigle\n
LOCATION:Rue du Collège 12\, 1860 Aigle
CATEGORIES:Saison 2025/26
END:VEVENT
BEGIN:VEVENT
DTSTAMP:20260424T115151Z
DTSTART;TZID=Europe/Berlin:20251031T200000
DTEND;TZID=Europe/Berlin:20251031T230000
SUMMARY:ME L6 Gr 2\, Tours 1&2 Aigle III vs Aigle II (0)
UID:bd582b3a-3447-40b6-80fb-d99db27a25ae
STATUS:CONFIRMED
LAST-MODIFIED:20251101T154226Z
DESCRIPTION:6ème ligue Hommes Groupe 2\, Tours 1&2\nBegegnungs-Nr: 0\nHeim: Aigle III\nGast: Aigle II\n\nAdresse: Rue du Collège 12\, 1860 Aigle\n
LOCATION:Rue du Collège 12\, 1860 Aigle
CATEGORIES:Saison 2025/26
END:VEVENT
BEGIN:VEVENT
DTSTAMP:20260424T115151Z
DTSTART;TZID=Europe/Berlin:20251121T200000
DTEND;TZID=Europe/Berlin:20251121T230000
SUMMARY:ME L6 Gr 2\, Tours 1&2 Aigle III vs Yvorne II (0)
UID:5823d4e3-a079-450a-843d-8d7ef53e237e
STATUS:CONFIRMED
LAST-MODIFIED:20251127T112154Z
DESCRIPTION:6ème ligue Hommes Groupe 2\, Tours 1&2\nBegegnungs-Nr: 0\nHeim: Aigle III\nGast: Yvorne II\n\nAdresse: Rue du Collège 12\, 1860 Aigle\n
LOCATION:Rue du Collège 12\, 1860 Aigle
CATEGORIES:Saison 2025/26
END:VEVENT
BEGIN:VEVENT
DTSTAMP:20260424T115151Z
DTSTART;TZID=Europe/Berlin:20251212T200000
DTEND;TZID=Europe/Berlin:20251212T230000
SUMMARY:ME L6 Gr 2\, Tours 1&2 Aigle III vs Collombey/Muraz V (0)
UID:9ebfdbc8-2071-4e22-b362-d0d7b39eac35
STATUS:CONFIRMED
LAST-MODIFIED:20251213T181415Z
DESCRIPTION:6ème ligue Hommes Groupe 2\, Tours 1&2\nBegegnungs-Nr: 0\nHeim: Aigle III\nGast: Collombey/Muraz V\n\nAdresse: Rue du Collège 12\, 1860 Aigle\n
LOCATION:Rue du Collège 12\, 1860 Aigle
CATEGORIES:Saison 2025/26
END:VEVENT
BEGIN:VEVENT
DTSTAMP:20260424T115151Z
DTSTART;TZID=Europe/Berlin:20260206T200000
DTEND;TZID=Europe/Berlin:20260206T230000
SUMMARY:ME L6 Gr 2\, Tours 3&4 Aigle III vs Salvan (0)
UID:94d0b6bc-8e12-42d2-b672-9709cc91d7d3
STATUS:CONFIRMED
LAST-MODIFIED:20260210T114809Z
DESCRIPTION:6ème ligue Hommes Groupe 2\, Tours 3&4\nBegegnungs-Nr: 0\nHeim: Aigle III\nGast: Salvan\n\nAdresse: Rue du Collège 12\, 1860 Aigle\n
LOCATION:Rue du Collège 12\, 1860 Aigle
CATEGORIES:Saison 2025/26
END:VEVENT
BEGIN:VEVENT
DTSTAMP:20260424T115151Z
DTSTART;TZID=Europe/Berlin:20260227T200000
DTEND;TZID=Europe/Berlin:20260227T230000
SUMMARY:ME L6 Gr 2\, Tours 3&4 Aigle III vs Yvorne II (0)
UID:94918ec1-abda-4215-aa04-939ce0f9ecde
STATUS:CONFIRMED
LAST-MODIFIED:20260228T130054Z
DESCRIPTION:6ème ligue Hommes Groupe 2\, Tours 3&4\nBegegnungs-Nr: 0\nHeim: Aigle III\nGast: Yvorne II\n\nAdresse: Rue du Collège 12\, 1860 Aigle\n
LOCATION:Rue du Collège 12\, 1860 Aigle
CATEGORIES:Saison 2025/26
END:VEVENT
BEGIN:VEVENT
DTSTAMP:20260424T115151Z
DTSTART;TZID=Europe/Berlin:20260327T200000
DTEND;TZID=Europe/Berlin:20260327T230000
SUMMARY:ME L6 Gr 2\, Tours 3&4 Aigle III vs Montreux-Riviera II (0)
UID:5dfb1091-332c-4871-9136-ffa7b4b57372
STATUS:CONFIRMED
LAST-MODIFIED:20260401T092523Z
DESCRIPTION:6ème ligue Hommes Groupe 2\, Tours 3&4\nBegegnungs-Nr: 0\nHeim: Aigle III\nGast: Montreux-Riviera II\n\nAdresse: Rue du Collège 12\, 1860 Aigle\n
LOCATION:Rue du Collège 12\, 1860 Aigle
CATEGORIES:Saison 2025/26
END:VEVENT
BEGIN:VEVENT
DTSTAMP:20260424T115151Z
DTSTART;TZID=Europe/Berlin:20260424T200000
DTEND;TZID=Europe/Berlin:20260424T230000
SUMMARY:ME L6 Gr 2\, Tours 3&4 Aigle III vs Dorénaz (0)
UID:98cecbc1-09e8-42db-b9cd-5e3df46a75e4
STATUS:CONFIRMED
DESCRIPTION:6ème ligue Hommes Groupe 2\, Tours 3&4\nBegegnungs-Nr: 0\nHeim: Aigle III\nGast: Dorénaz\n\nAdresse: Rue du Collège 12\, 1860 Aigle\n
LOCATION:Rue du Collège 12\, 1860 Aigle
CATEGORIES:Saison 2025/26
END:VEVENT
BEGIN:VEVENT
DTSTAMP:20260424T115151Z
DTSTART;TZID=Europe/Berlin:20260116T200000
DTEND;TZID=Europe/Berlin:20260116T230000
SUMMARY:ME L6 Gr 2\, Tours 3&4 Aigle III vs Aigle II (0)
UID:dfcf0a39-2570-4ed3-aa90-2c58fe8e40c8
STATUS:CONFIRMED
LAST-MODIFIED:20260126T142058Z
DESCRIPTION:6ème ligue Hommes Groupe 2\, Tours 3&4\nBegegnungs-Nr: 0\nHeim: Aigle III\nGast: Aigle II\n\nAdresse: Rue du Collège 12\, 1860 Aigle\n
LOCATION:Rue du Collège 12\, 1860 Aigle
CATEGORIES:Saison 2025/26
END:VEVENT
BEGIN:VEVENT
DTSTAMP:20260424T115151Z
DTSTART;TZID=Europe/Berlin:20250917T194500
DTEND;TZID=Europe/Berlin:20250917T224500
SUMMARY:ME L6 Gr 2\, Tours 1&2 Yvorne II vs Aigle III (0)
UID:8371f9e9-052e-4815-8a10-16d6d8e0bf05
STATUS:CONFIRMED
LAST-MODIFIED:20250920T101354Z
DESCRIPTION:6ème ligue Hommes Groupe 2\, Tours 1&2\nBegegnungs-Nr: 0\nHeim: Yvorne II\nGast: Aigle III\n\nAdresse: Les Maisons Neuves 38\, 1853 Yvorne\n
LOCATION:Les Maisons Neuves 38\, 1853 Yvorne
CATEGORIES:Saison 2025/26
END:VEVENT
BEGIN:VEVENT
DTSTAMP:20260424T115151Z
DTSTART;TZID=Europe/Berlin:20251006T193000
DTEND;TZID=Europe/Berlin:20251006T223000
SUMMARY:ME L6 Gr 2\, Tours 1&2 Collombey/Muraz V vs Aigle III (0)
UID:7df29ef8-66e3-49f1-a55d-3e596c9fbae1
STATUS:CONFIRMED
LAST-MODIFIED:20251007T094851Z
DESCRIPTION:6ème ligue Hommes Groupe 2\, Tours 1&2\nBegegnungs-Nr: 0\nHeim: Collombey/Muraz V\nGast: Aigle III\n\nAdresse: Route du Montagnier 81\, 1868 Collombey\n
LOCATION:Route du Montagnier 81\, 1868 Collombey
CATEGORIES:Saison 2025/26
END:VEVENT
BEGIN:VEVENT
DTSTAMP:20260424T115151Z
DTSTART;TZID=Europe/Berlin:20251106T200000
DTEND;TZID=Europe/Berlin:20251106T230000
SUMMARY:ME L6 Gr 2\, Tours 1&2 Montreux-Riviera II vs Aigle III (0)
UID:1371d7e8-250d-4548-9185-477726b89e86
STATUS:CONFIRMED
LAST-MODIFIED:20251109T122805Z
DESCRIPTION:6ème ligue Hommes Groupe 2\, Tours 1&2\nBegegnungs-Nr: 0\nHeim: Montreux-Riviera II\nGast: Aigle III\n\nAdresse: Rue de la Gare 33\, 1820 Montreux\n
LOCATION:Rue de la Gare 33\, 1820 Montreux
CATEGORIES:Saison 2025/26
END:VEVENT
BEGIN:VEVENT
DTSTAMP:20260424T115151Z
DTSTART;TZID=Europe/Berlin:20251205T193000
DTEND;TZID=Europe/Berlin:20251205T223000
SUMMARY:ME L6 Gr 2\, Tours 1&2 Martigny VI vs Aigle III (0)
UID:572b7df0-fba7-4e77-b213-501808197ce6
STATUS:CONFIRMED
LAST-MODIFIED:20251206T140415Z
DESCRIPTION:6ème ligue Hommes Groupe 2\, Tours 1&2\nBegegnungs-Nr: 0\nHeim: Martigny VI\nGast: Aigle III\n\nAdresse: Rue des Ecoles 9\, 1920 Martigny\n
LOCATION:Rue des Ecoles 9\, 1920 Martigny
CATEGORIES:Saison 2025/26
END:VEVENT
BEGIN:VEVENT
DTSTAMP:20260424T115151Z
DTSTART;TZID=Europe/Berlin:20250903T200000
DTEND;TZID=Europe/Berlin:20250903T230000
SUMMARY:ME L6 Gr 2\, Tours 1&2 Aigle II vs Aigle III (0)
UID:6a1899df-863a-42a1-94e2-60f9fb78f795
STATUS:CONFIRMED
LAST-MODIFIED:20250910T235732Z
DESCRIPTION:6ème ligue Hommes Groupe 2\, Tours 1&2\nBegegnungs-Nr: 0\nHeim: Aigle II\nGast: Aigle III\n\nAdresse: Rue du Collège 12\, 1860 Aigle\n
LOCATION:Rue du Collège 12\, 1860 Aigle
CATEGORIES:Saison 2025/26
END:VEVENT
BEGIN:VEVENT
DTSTAMP:20260424T115151Z
DTSTART;TZID=Europe/Berlin:20260212T200000
DTEND;TZID=Europe/Berlin:20260212T230000
SUMMARY:ME L6 Gr 2\, Tours 3&4 Dorénaz vs Aigle III (0)
UID:82f50740-e599-4996-aa0a-cb90b6f897b7
STATUS:CONFIRMED
LAST-MODIFIED:20260214T170706Z
DESCRIPTION:6ème ligue Hommes Groupe 2\, Tours 3&4\nBegegnungs-Nr: 0\nHeim: Dorénaz\nGast: Aigle III\n\nAdresse: Place du téléphérique\, 1905 Dorénaz\n
LOCATION:Place du téléphérique\, 1905 Dorénaz
CATEGORIES:Saison 2025/26
END:VEVENT
BEGIN:VEVENT
DTSTAMP:20260424T115151Z
DTSTART;TZID=Europe/Berlin:20260311T200000
DTEND;TZID=Europe/Berlin:20260311T230000
SUMMARY:ME L6 Gr 2\, Tours 3&4 Aigle II vs Aigle III (0)
UID:acbff214-1b36-4680-8c52-8022d37eff02
STATUS:CONFIRMED
LAST-MODIFIED:20260312T105108Z
DESCRIPTION:6ème ligue Hommes Groupe 2\, Tours 3&4\nBegegnungs-Nr: 0\nHeim: Aigle II\nGast: Aigle III\n\nAdresse: Rue du Collège 12\, 1860 Aigle\n
LOCATION:Rue du Collège 12\, 1860 Aigle
CATEGORIES:Saison 2025/26
END:VEVENT
BEGIN:VEVENT
DTSTAMP:20260424T115151Z
DTSTART;TZID=Europe/Berlin:20260401T190000
DTEND;TZID=Europe/Berlin:20260401T220000
SUMMARY:ME L6 Gr 2\, Tours 3&4 Salvan vs Aigle III (0)
UID:37d6ed67-f58d-46f1-809f-2b0ccaabe910
STATUS:CONFIRMED
LAST-MODIFIED:20260402T080918Z
DESCRIPTION:6ème ligue Hommes Groupe 2\, Tours 3&4\nBegegnungs-Nr: 0\nHeim: Salvan\nGast: Aigle III\n\nAdresse: Le Carre 8\, 1922 Salvan\n
LOCATION:Le Carre 8\, 1922 Salvan
CATEGORIES:Saison 2025/26
END:VEVENT
BEGIN:VEVENT
DTSTAMP:20260424T115151Z
DTSTART;TZID=Europe/Berlin:20260122T200000
DTEND;TZID=Europe/Berlin:20260122T230000
SUMMARY:ME L6 Gr 2\, Tours 3&4 Montreux-Riviera II vs Aigle III (0)
UID:5df621e6-3190-4324-bab0-7c39954e6dcf
STATUS:CONFIRMED
LAST-MODIFIED:20260125T124107Z
DESCRIPTION:6ème ligue Hommes Groupe 2\, Tours 3&4\nBegegnungs-Nr: 0\nHeim: Montreux-Riviera II\nGast: Aigle III\n\nAdresse: Rue de la Gare 33\, 1820 Montreux\n
LOCATION:Rue de la Gare 33\, 1820 Montreux
CATEGORIES:Saison 2025/26
END:VEVENT
BEGIN:VEVENT
DTSTAMP:20260424T115151Z
DTSTART;TZID=Europe/Berlin:20260415T194500
DTEND;TZID=Europe/Berlin:20260415T224500
SUMMARY:ME L6 Gr 2\, Tours 3&4 Yvorne II vs Aigle III (0)
UID:6d3f8669-ddfc-4e00-a951-86f3f6786e69
STATUS:CONFIRMED
LAST-MODIFIED:20260418T123642Z
DESCRIPTION:6ème ligue Hommes Groupe 2\, Tours 3&4\nBegegnungs-Nr: 0\nHeim: Yvorne II\nGast: Aigle III\n\nAdresse: Les Maisons Neuves 38\, 1853 Yvorne\n
LOCATION:Les Maisons Neuves 38\, 1853 Yvorne
CATEGORIES:Saison 2025/26
END:VEVENT
END:VCALENDAR
