BEGIN:VCALENDAR
PRODID:-//nuDatenautomaten//framework iCal4j //DE
VERSION:2.0
CALSCALE:GREGORIAN
BEGIN:VTIMEZONE
TZID:Europe/Berlin
LAST-MODIFIED:20260306T231828Z
TZURL:https://www.tzurl.org/zoneinfo/Europe/Berlin
X-LIC-LOCATION:Europe/Berlin
X-PROLEPTIC-TZNAME:LMT
BEGIN:STANDARD
TZNAME:CET
TZOFFSETFROM:+005328
TZOFFSETTO:+0100
DTSTART:18930401T000000
END:STANDARD
BEGIN:DAYLIGHT
TZNAME:CEST
TZOFFSETFROM:+0100
TZOFFSETTO:+0200
DTSTART:19160430T230000
RDATE:19400401T020000
RDATE:19430329T020000
RDATE:19460414T020000
RDATE:19470406T030000
RDATE:19480418T020000
RDATE:19490410T020000
RDATE:19800406T020000
END:DAYLIGHT
BEGIN:STANDARD
TZNAME:CET
TZOFFSETFROM:+0200
TZOFFSETTO:+0100
DTSTART:19161001T010000
RDATE:19421102T030000
RDATE:19431004T030000
RDATE:19441002T030000
RDATE:19451118T030000
RDATE:19461007T030000
END:STANDARD
BEGIN:DAYLIGHT
TZNAME:CEST
TZOFFSETFROM:+0100
TZOFFSETTO:+0200
DTSTART:19170416T020000
RRULE:FREQ=YEARLY;UNTIL=19180415T010000Z;BYMONTH=4;BYDAY=3MO
END:DAYLIGHT
BEGIN:STANDARD
TZNAME:CET
TZOFFSETFROM:+0200
TZOFFSETTO:+0100
DTSTART:19170917T030000
RRULE:FREQ=YEARLY;UNTIL=19180916T010000Z;BYMONTH=9;BYDAY=3MO
END:STANDARD
BEGIN:DAYLIGHT
TZNAME:CEST
TZOFFSETFROM:+0100
TZOFFSETTO:+0200
DTSTART:19440403T020000
RRULE:FREQ=YEARLY;UNTIL=19450402T010000Z;BYMONTH=4;BYDAY=1MO
END:DAYLIGHT
BEGIN:DAYLIGHT
TZNAME:CEMT
TZOFFSETFROM:+0200
TZOFFSETTO:+0300
DTSTART:19450524T020000
RDATE:19470511T030000
END:DAYLIGHT
BEGIN:DAYLIGHT
TZNAME:CEST
TZOFFSETFROM:+0300
TZOFFSETTO:+0200
DTSTART:19450924T030000
RDATE:19470629T030000
END:DAYLIGHT
BEGIN:STANDARD
TZNAME:CET
TZOFFSETFROM:+0100
TZOFFSETTO:+0100
DTSTART:19460101T000000
RDATE:19800101T000000
END:STANDARD
BEGIN:STANDARD
TZNAME:CET
TZOFFSETFROM:+0200
TZOFFSETTO:+0100
DTSTART:19471005T030000
RRULE:FREQ=YEARLY;UNTIL=19491002T010000Z;BYMONTH=10;BYDAY=1SU
END:STANDARD
BEGIN:STANDARD
TZNAME:CET
TZOFFSETFROM:+0200
TZOFFSETTO:+0100
DTSTART:19800928T030000
RRULE:FREQ=YEARLY;UNTIL=19950924T010000Z;BYMONTH=9;BYDAY=-1SU
END:STANDARD
BEGIN:DAYLIGHT
TZNAME:CEST
TZOFFSETFROM:+0100
TZOFFSETTO:+0200
DTSTART:19810329T020000
RRULE:FREQ=YEARLY;BYMONTH=3;BYDAY=-1SU
END:DAYLIGHT
BEGIN:STANDARD
TZNAME:CET
TZOFFSETFROM:+0200
TZOFFSETTO:+0100
DTSTART:19961027T030000
RRULE:FREQ=YEARLY;BYMONTH=10;BYDAY=-1SU
END:STANDARD
END:VTIMEZONE
BEGIN:VEVENT
DTSTAMP:20260424T150249Z
DTSTART;TZID=Europe/Berlin:20250908T193000
DTEND;TZID=Europe/Berlin:20250908T223000
SUMMARY:ME L6 Gr 3\, Tours 1&2 Chexbres IV vs Vevey III (0)
UID:17d857c2-640e-4492-b76c-172dc659c820
STATUS:CONFIRMED
LAST-MODIFIED:20250910T231041Z
DESCRIPTION:6ème ligue Hommes Groupe 3\, Tours 1&2\nBegegnungs-Nr: 0\nHeim: Chexbres IV\nGast: Vevey III\n\nAdresse: Entre Deux Villes\, 1814 La Tour-de-Peilz\n
LOCATION:Entre Deux Villes\, 1814 La Tour-de-Peilz
CATEGORIES:Saison 2025/26
END:VEVENT
BEGIN:VEVENT
DTSTAMP:20260424T150249Z
DTSTART;TZID=Europe/Berlin:20250929T193000
DTEND;TZID=Europe/Berlin:20250929T223000
SUMMARY:ME L6 Gr 3\, Tours 1&2 Chexbres IV vs Romont-Villaz IV (0)
UID:2dd3b21d-347b-4cf8-888a-0434bd1b54c9
STATUS:CONFIRMED
LAST-MODIFIED:20250930T095902Z
DESCRIPTION:6ème ligue Hommes Groupe 3\, Tours 1&2\nBegegnungs-Nr: 0\nHeim: Chexbres IV\nGast: Romont-Villaz IV\n\nAdresse: Entre Deux Villes\, 1814 La Tour-de-Peilz\n
LOCATION:Entre Deux Villes\, 1814 La Tour-de-Peilz
CATEGORIES:Saison 2025/26
END:VEVENT
BEGIN:VEVENT
DTSTAMP:20260424T150249Z
DTSTART;TZID=Europe/Berlin:20251006T193000
DTEND;TZID=Europe/Berlin:20251006T223000
SUMMARY:ME L6 Gr 3\, Tours 1&2 Chexbres IV vs Bulle VII (0)
UID:b868af33-18f5-49e9-8a0c-93c8a1703d1d
STATUS:CONFIRMED
LAST-MODIFIED:20251007T094903Z
DESCRIPTION:6ème ligue Hommes Groupe 3\, Tours 1&2\nBegegnungs-Nr: 0\nHeim: Chexbres IV\nGast: Bulle VII\n\nAdresse: Entre Deux Villes\, 1814 La Tour-de-Peilz\n
LOCATION:Entre Deux Villes\, 1814 La Tour-de-Peilz
CATEGORIES:Saison 2025/26
END:VEVENT
BEGIN:VEVENT
DTSTAMP:20260424T150249Z
DTSTART;TZID=Europe/Berlin:20251027T193000
DTEND;TZID=Europe/Berlin:20251027T223000
SUMMARY:ME L6 Gr 3\, Tours 1&2 Chexbres IV vs Château d'Oex (0)
UID:e6ec9a5f-0e5e-483a-bcc2-174bc9616d18
STATUS:CONFIRMED
LAST-MODIFIED:20251028T113440Z
DESCRIPTION:6ème ligue Hommes Groupe 3\, Tours 1&2\nBegegnungs-Nr: 0\nHeim: Chexbres IV\nGast: Château d'Oex\n\nAdresse: Entre Deux Villes\, 1814 La Tour-de-Peilz\n
LOCATION:Entre Deux Villes\, 1814 La Tour-de-Peilz
CATEGORIES:Saison 2025/26
END:VEVENT
BEGIN:VEVENT
DTSTAMP:20260424T150249Z
DTSTART;TZID=Europe/Berlin:20251117T193000
DTEND;TZID=Europe/Berlin:20251117T223000
SUMMARY:ME L6 Gr 3\, Tours 1&2 Chexbres IV vs Blonay IV (0)
UID:3cdc3f68-338d-42d2-a030-b8edcf47b0a6
STATUS:CONFIRMED
LAST-MODIFIED:20251119T171544Z
DESCRIPTION:6ème ligue Hommes Groupe 3\, Tours 1&2\nBegegnungs-Nr: 0\nHeim: Chexbres IV\nGast: Blonay IV\n\nAdresse: Entre Deux Villes\, 1814 La Tour-de-Peilz\n
LOCATION:Entre Deux Villes\, 1814 La Tour-de-Peilz
CATEGORIES:Saison 2025/26
END:VEVENT
BEGIN:VEVENT
DTSTAMP:20260424T150249Z
DTSTART;TZID=Europe/Berlin:20260420T193000
DTEND;TZID=Europe/Berlin:20260420T223000
SUMMARY:ME L6 Gr 6\, Tours 3&4 Chexbres IV vs Lausanne XVI (0)
UID:2bb55fbe-8d14-45ad-9561-4ae7696d4a14
STATUS:CONFIRMED
LAST-MODIFIED:20260423T075757Z
DESCRIPTION:6ème ligue Hommes Groupe 6\, Tours 3&4\nBegegnungs-Nr: 0\nHeim: Chexbres IV\nGast: Lausanne XVI\n\nAdresse: Entre Deux Villes\, 1814 La Tour-de-Peilz\n
LOCATION:Entre Deux Villes\, 1814 La Tour-de-Peilz
CATEGORIES:Saison 2025/26
END:VEVENT
BEGIN:VEVENT
DTSTAMP:20260424T150249Z
DTSTART;TZID=Europe/Berlin:20260316T193000
DTEND;TZID=Europe/Berlin:20260316T223000
SUMMARY:ME L6 Gr 6\, Tours 3&4 Chexbres IV vs Romanel V (0)
UID:05505181-fea9-4160-9511-c31564d5f3ea
STATUS:CONFIRMED
LAST-MODIFIED:20260317T025652Z
DESCRIPTION:6ème ligue Hommes Groupe 6\, Tours 3&4\nBegegnungs-Nr: 0\nHeim: Chexbres IV\nGast: Romanel V\n\nAdresse: Entre Deux Villes\, 1814 La Tour-de-Peilz\n
LOCATION:Entre Deux Villes\, 1814 La Tour-de-Peilz
CATEGORIES:Saison 2025/26
END:VEVENT
BEGIN:VEVENT
DTSTAMP:20260424T150249Z
DTSTART;TZID=Europe/Berlin:20260112T193000
DTEND;TZID=Europe/Berlin:20260112T223000
SUMMARY:ME L6 Gr 6\, Tours 3&4 Chexbres IV vs Pully II (0)
UID:463c494c-c4e9-4bbe-9987-e958c500687e
STATUS:CONFIRMED
LAST-MODIFIED:20260113T012913Z
DESCRIPTION:6ème ligue Hommes Groupe 6\, Tours 3&4\nBegegnungs-Nr: 0\nHeim: Chexbres IV\nGast: Pully II\n\nAdresse: Entre Deux Villes\, 1814 La Tour-de-Peilz\n
LOCATION:Entre Deux Villes\, 1814 La Tour-de-Peilz
CATEGORIES:Saison 2025/26
END:VEVENT
BEGIN:VEVENT
DTSTAMP:20260424T150249Z
DTSTART;TZID=Europe/Berlin:20260202T193000
DTEND;TZID=Europe/Berlin:20260202T223000
SUMMARY:ME L6 Gr 6\, Tours 3&4 Chexbres IV vs Blonay IV (0)
UID:257b024f-f611-4d70-8da7-ec1253c40b91
STATUS:CONFIRMED
LAST-MODIFIED:20260203T175444Z
DESCRIPTION:6ème ligue Hommes Groupe 6\, Tours 3&4\nBegegnungs-Nr: 0\nHeim: Chexbres IV\nGast: Blonay IV\n\nAdresse: Entre Deux Villes\, 1814 La Tour-de-Peilz\n
LOCATION:Entre Deux Villes\, 1814 La Tour-de-Peilz
CATEGORIES:Saison 2025/26
END:VEVENT
BEGIN:VEVENT
DTSTAMP:20260424T150249Z
DTSTART;TZID=Europe/Berlin:20260223T193000
DTEND;TZID=Europe/Berlin:20260223T223000
SUMMARY:ME L6 Gr 6\, Tours 3&4 Chexbres IV vs Lausanne XV (0)
UID:4f9b6c5b-83b6-4134-bfad-7a720755fada
STATUS:CONFIRMED
LAST-MODIFIED:20260225T225111Z
DESCRIPTION:6ème ligue Hommes Groupe 6\, Tours 3&4\nBegegnungs-Nr: 0\nHeim: Chexbres IV\nGast: Lausanne XV\n\nAdresse: Entre Deux Villes\, 1814 La Tour-de-Peilz\n
LOCATION:Entre Deux Villes\, 1814 La Tour-de-Peilz
CATEGORIES:Saison 2025/26
END:VEVENT
BEGIN:VEVENT
DTSTAMP:20260424T150249Z
DTSTART;TZID=Europe/Berlin:20250925T194500
DTEND;TZID=Europe/Berlin:20250925T224500
SUMMARY:ME L6 Gr 3\, Tours 1&2 Château d'Oex vs Chexbres IV (0)
UID:748d2769-d9bc-4641-a12e-34783f685aa1
STATUS:CONFIRMED
LAST-MODIFIED:20250926T105248Z
DESCRIPTION:6ème ligue Hommes Groupe 3\, Tours 1&2\nBegegnungs-Nr: 0\nHeim: Château d'Oex\nGast: Chexbres IV\n\nAdresse: rte du Périsset 7\, 1660 Château d'Oex\n
LOCATION:rte du Périsset 7\, 1660 Château d'Oex
CATEGORIES:Saison 2025/26
END:VEVENT
BEGIN:VEVENT
DTSTAMP:20260424T150249Z
DTSTART;TZID=Europe/Berlin:20250918T200000
DTEND;TZID=Europe/Berlin:20250918T230000
SUMMARY:ME L6 Gr 3\, Tours 1&2 Blonay IV vs Chexbres IV (0)
UID:ebd32f1c-4154-4ef5-86ce-8f2691fdb42f
STATUS:CONFIRMED
LAST-MODIFIED:20250919T205230Z
DESCRIPTION:6ème ligue Hommes Groupe 3\, Tours 1&2\nBegegnungs-Nr: 0\nHeim: Blonay IV\nGast: Chexbres IV\n\nAdresse: Route de Prélaz 2\, 1807 Blonay\n
LOCATION:Route de Prélaz 2\, 1807 Blonay
CATEGORIES:Saison 2025/26
END:VEVENT
BEGIN:VEVENT
DTSTAMP:20260424T150249Z
DTSTART;TZID=Europe/Berlin:20251103T200000
DTEND;TZID=Europe/Berlin:20251103T230000
SUMMARY:ME L6 Gr 3\, Tours 1&2 Vevey III vs Chexbres IV (0)
UID:3c414873-00a9-47bc-9a7d-9c893d67990b
STATUS:CONFIRMED
LAST-MODIFIED:20251104T233624Z
DESCRIPTION:6ème ligue Hommes Groupe 3\, Tours 1&2\nBegegnungs-Nr: 0\nHeim: Vevey III\nGast: Chexbres IV\n\nAdresse: Rue Louis-Meyer\, 1800 Vevey\n
LOCATION:Rue Louis-Meyer\, 1800 Vevey
CATEGORIES:Saison 2025/26
END:VEVENT
BEGIN:VEVENT
DTSTAMP:20260424T150249Z
DTSTART;TZID=Europe/Berlin:20251014T193000
DTEND;TZID=Europe/Berlin:20251014T223000
SUMMARY:ME L6 Gr 3\, Tours 1&2 Romont-Villaz IV vs Chexbres IV (0)
UID:58c9d6e0-3c93-4cbc-86ee-e34afd35fd6d
STATUS:CONFIRMED
LAST-MODIFIED:20251015T213035Z
DESCRIPTION:6ème ligue Hommes Groupe 3\, Tours 1&2\nBegegnungs-Nr: 0\nHeim: Romont-Villaz IV\nGast: Chexbres IV\n\nAdresse: Route de la Gare 5\, 1690 Villaz-St-Pierre\n
LOCATION:Route de la Gare 5\, 1690 Villaz-St-Pierre
CATEGORIES:Saison 2025/26
END:VEVENT
BEGIN:VEVENT
DTSTAMP:20260424T150249Z
DTSTART;TZID=Europe/Berlin:20251212T200000
DTEND;TZID=Europe/Berlin:20251212T230000
SUMMARY:ME L6 Gr 3\, Tours 1&2 Bulle VII vs Chexbres IV (0)
UID:d9a0c8ec-dba3-4120-969b-7a1ef30985d2
STATUS:CONFIRMED
LAST-MODIFIED:20251213T181425Z
DESCRIPTION:6ème ligue Hommes Groupe 3\, Tours 1&2\nBegegnungs-Nr: 0\nHeim: Bulle VII\nGast: Chexbres IV\n\nAdresse: Rue du Stade 50\, 1630 Bulle\n
LOCATION:Rue du Stade 50\, 1630 Bulle
CATEGORIES:Saison 2025/26
END:VEVENT
BEGIN:VEVENT
DTSTAMP:20260424T150249Z
DTSTART;TZID=Europe/Berlin:20260418T110000
DTEND;TZID=Europe/Berlin:20260418T140000
SUMMARY:ME L6 Gr 6\, Tours 3&4 Lausanne XV vs Chexbres IV (0)
UID:f594e3ab-b9d1-48a0-9caf-8504dd007c11
STATUS:CONFIRMED
LAST-MODIFIED:20260419T110930Z
DESCRIPTION:6ème ligue Hommes Groupe 6\, Tours 3&4\nBegegnungs-Nr: 0\nHeim: Lausanne XV\nGast: Chexbres IV\n\nAdresse: Vaudoise Aréna\, Ch. du Viaduc 14\, 1008 Prilly\n
LOCATION:Vaudoise Aréna\, Ch. du Viaduc 14\, 1008 Prilly
CATEGORIES:Saison 2025/26
END:VEVENT
BEGIN:VEVENT
DTSTAMP:20260424T150249Z
DTSTART;TZID=Europe/Berlin:20260326T200000
DTEND;TZID=Europe/Berlin:20260326T230000
SUMMARY:ME L6 Gr 6\, Tours 3&4 Blonay IV vs Chexbres IV (0)
UID:9544970e-9462-4f32-8865-74fd722af761
STATUS:CONFIRMED
LAST-MODIFIED:20260327T193418Z
DESCRIPTION:6ème ligue Hommes Groupe 6\, Tours 3&4\nBegegnungs-Nr: 0\nHeim: Blonay IV\nGast: Chexbres IV\n\nAdresse: Route de Prélaz 2\, 1807 Blonay\n
LOCATION:Route de Prélaz 2\, 1807 Blonay
CATEGORIES:Saison 2025/26
END:VEVENT
BEGIN:VEVENT
DTSTAMP:20260424T150249Z
DTSTART;TZID=Europe/Berlin:20260127T193000
DTEND;TZID=Europe/Berlin:20260127T223000
SUMMARY:ME L6 Gr 6\, Tours 3&4 Romanel V vs Chexbres IV (0)
UID:78ff9992-a32b-4dc4-af5d-5728df4b2ccb
STATUS:CONFIRMED
LAST-MODIFIED:20260128T205518Z
DESCRIPTION:6ème ligue Hommes Groupe 6\, Tours 3&4\nBegegnungs-Nr: 0\nHeim: Romanel V\nGast: Chexbres IV\n\nAdresse: Ch des Epinettes 1\, 1032 Romanel-sur-Lausanne\n
LOCATION:Ch des Epinettes 1\, 1032 Romanel-sur-Lausanne
CATEGORIES:Saison 2025/26
END:VEVENT
BEGIN:VEVENT
DTSTAMP:20260424T150249Z
DTSTART;TZID=Europe/Berlin:20260213T193000
DTEND;TZID=Europe/Berlin:20260213T223000
SUMMARY:ME L6 Gr 6\, Tours 3&4 Lausanne XVI vs Chexbres IV (0)
UID:77d63aa1-eb30-4ab2-a663-a14c3f2bcb8c
STATUS:CONFIRMED
LAST-MODIFIED:20260215T195310Z
DESCRIPTION:6ème ligue Hommes Groupe 6\, Tours 3&4\nBegegnungs-Nr: 0\nHeim: Lausanne XVI\nGast: Chexbres IV\n\nAdresse: Vaudoise Aréna\, Ch. du Viaduc 14\, 1008 Prilly\n
LOCATION:Vaudoise Aréna\, Ch. du Viaduc 14\, 1008 Prilly
CATEGORIES:Saison 2025/26
END:VEVENT
BEGIN:VEVENT
DTSTAMP:20260424T150249Z
DTSTART;TZID=Europe/Berlin:20260323T193000
DTEND;TZID=Europe/Berlin:20260323T223000
SUMMARY:ME L6 Gr 6\, Tours 3&4 Pully II vs Chexbres IV (0)
UID:160ad44f-fdad-431e-9235-e8d3910d14b4
STATUS:CONFIRMED
LAST-MODIFIED:20260325T093439Z
DESCRIPTION:6ème ligue Hommes Groupe 6\, Tours 3&4\nBegegnungs-Nr: 0\nHeim: Pully II\nGast: Chexbres IV\n\nAdresse: Av. de Belmont 4\, 1009 Pully\n
LOCATION:Av. de Belmont 4\, 1009 Pully
CATEGORIES:Saison 2025/26
END:VEVENT
END:VCALENDAR
