BEGIN:VCALENDAR
PRODID:-//nuDatenautomaten//framework iCal4j //DE
VERSION:2.0
CALSCALE:GREGORIAN
BEGIN:VTIMEZONE
TZID:Europe/Berlin
LAST-MODIFIED:20260306T231828Z
TZURL:https://www.tzurl.org/zoneinfo/Europe/Berlin
X-LIC-LOCATION:Europe/Berlin
X-PROLEPTIC-TZNAME:LMT
BEGIN:STANDARD
TZNAME:CET
TZOFFSETFROM:+005328
TZOFFSETTO:+0100
DTSTART:18930401T000000
END:STANDARD
BEGIN:DAYLIGHT
TZNAME:CEST
TZOFFSETFROM:+0100
TZOFFSETTO:+0200
DTSTART:19160430T230000
RDATE:19400401T020000
RDATE:19430329T020000
RDATE:19460414T020000
RDATE:19470406T030000
RDATE:19480418T020000
RDATE:19490410T020000
RDATE:19800406T020000
END:DAYLIGHT
BEGIN:STANDARD
TZNAME:CET
TZOFFSETFROM:+0200
TZOFFSETTO:+0100
DTSTART:19161001T010000
RDATE:19421102T030000
RDATE:19431004T030000
RDATE:19441002T030000
RDATE:19451118T030000
RDATE:19461007T030000
END:STANDARD
BEGIN:DAYLIGHT
TZNAME:CEST
TZOFFSETFROM:+0100
TZOFFSETTO:+0200
DTSTART:19170416T020000
RRULE:FREQ=YEARLY;UNTIL=19180415T010000Z;BYMONTH=4;BYDAY=3MO
END:DAYLIGHT
BEGIN:STANDARD
TZNAME:CET
TZOFFSETFROM:+0200
TZOFFSETTO:+0100
DTSTART:19170917T030000
RRULE:FREQ=YEARLY;UNTIL=19180916T010000Z;BYMONTH=9;BYDAY=3MO
END:STANDARD
BEGIN:DAYLIGHT
TZNAME:CEST
TZOFFSETFROM:+0100
TZOFFSETTO:+0200
DTSTART:19440403T020000
RRULE:FREQ=YEARLY;UNTIL=19450402T010000Z;BYMONTH=4;BYDAY=1MO
END:DAYLIGHT
BEGIN:DAYLIGHT
TZNAME:CEMT
TZOFFSETFROM:+0200
TZOFFSETTO:+0300
DTSTART:19450524T020000
RDATE:19470511T030000
END:DAYLIGHT
BEGIN:DAYLIGHT
TZNAME:CEST
TZOFFSETFROM:+0300
TZOFFSETTO:+0200
DTSTART:19450924T030000
RDATE:19470629T030000
END:DAYLIGHT
BEGIN:STANDARD
TZNAME:CET
TZOFFSETFROM:+0100
TZOFFSETTO:+0100
DTSTART:19460101T000000
RDATE:19800101T000000
END:STANDARD
BEGIN:STANDARD
TZNAME:CET
TZOFFSETFROM:+0200
TZOFFSETTO:+0100
DTSTART:19471005T030000
RRULE:FREQ=YEARLY;UNTIL=19491002T010000Z;BYMONTH=10;BYDAY=1SU
END:STANDARD
BEGIN:STANDARD
TZNAME:CET
TZOFFSETFROM:+0200
TZOFFSETTO:+0100
DTSTART:19800928T030000
RRULE:FREQ=YEARLY;UNTIL=19950924T010000Z;BYMONTH=9;BYDAY=-1SU
END:STANDARD
BEGIN:DAYLIGHT
TZNAME:CEST
TZOFFSETFROM:+0100
TZOFFSETTO:+0200
DTSTART:19810329T020000
RRULE:FREQ=YEARLY;BYMONTH=3;BYDAY=-1SU
END:DAYLIGHT
BEGIN:STANDARD
TZNAME:CET
TZOFFSETFROM:+0200
TZOFFSETTO:+0100
DTSTART:19961027T030000
RRULE:FREQ=YEARLY;BYMONTH=10;BYDAY=-1SU
END:STANDARD
END:VTIMEZONE
BEGIN:VEVENT
DTSTAMP:20260424T115012Z
DTSTART;TZID=Europe/Berlin:20251216T194500
DTEND;TZID=Europe/Berlin:20251216T224500
SUMMARY:O40 3. Liga Gr. 2 Regio Moossee II vs Aarberg II (26)
UID:1f16442c-396d-42cc-ae8c-fdb42e9acb34
STATUS:CONFIRMED
LAST-MODIFIED:20251217T100814Z
DESCRIPTION:3. Liga O40 Gruppe 2\nBegegnungs-Nr: 26\nHeim: Regio Moossee II\nGast: Aarberg II\n\nAdresse: Schulhausstrasse 23-25\, 3302 Moosseedorf\n
LOCATION:Schulhausstrasse 23-25\, 3302 Moosseedorf
CATEGORIES:Saison 2025/26
END:VEVENT
BEGIN:VEVENT
DTSTAMP:20260424T115012Z
DTSTART;TZID=Europe/Berlin:20251125T194500
DTEND;TZID=Europe/Berlin:20251125T224500
SUMMARY:O40 3. Liga Gr. 2 Regio Moossee II vs Port III (21)
UID:29f577ea-c101-43ac-a34a-7cf61a46ef88
STATUS:CONFIRMED
LAST-MODIFIED:20251207T182538Z
DESCRIPTION:3. Liga O40 Gruppe 2\nBegegnungs-Nr: 21\nHeim: Regio Moossee II\nGast: Port III\n\nAdresse: Schulhausstrasse 23-25\, 3302 Moosseedorf\n
LOCATION:Schulhausstrasse 23-25\, 3302 Moosseedorf
CATEGORIES:Saison 2025/26
END:VEVENT
BEGIN:VEVENT
DTSTAMP:20260424T115012Z
DTSTART;TZID=Europe/Berlin:20251014T194500
DTEND;TZID=Europe/Berlin:20251014T224500
SUMMARY:O40 3. Liga Gr. 2 Regio Moossee II vs Grauholz (11)
UID:72bc6304-376a-4cf7-92a3-526bd523f5ca
STATUS:CONFIRMED
LAST-MODIFIED:20251016T191032Z
DESCRIPTION:3. Liga O40 Gruppe 2\nBegegnungs-Nr: 11\nHeim: Regio Moossee II\nGast: Grauholz\n\nAdresse: Schulhausstrasse 23-25\, 3302 Moosseedorf\n
LOCATION:Schulhausstrasse 23-25\, 3302 Moosseedorf
CATEGORIES:Saison 2025/26
END:VEVENT
BEGIN:VEVENT
DTSTAMP:20260424T115012Z
DTSTART;TZID=Europe/Berlin:20250826T194500
DTEND;TZID=Europe/Berlin:20250826T224500
SUMMARY:O40 3. Liga Gr. 2 Regio Moossee II vs Kirchberg (3)
UID:8f3abc10-74a5-446e-a846-9de2cf16faaf
STATUS:CONFIRMED
LAST-MODIFIED:20250828T192650Z
DESCRIPTION:3. Liga O40 Gruppe 2\nBegegnungs-Nr: 3\nHeim: Regio Moossee II\nGast: Kirchberg\n\nAdresse: Schulhausstrasse 23-25\, 3302 Moosseedorf\n
LOCATION:Schulhausstrasse 23-25\, 3302 Moosseedorf
CATEGORIES:Saison 2025/26
END:VEVENT
BEGIN:VEVENT
DTSTAMP:20260424T115012Z
DTSTART;TZID=Europe/Berlin:20260127T194500
DTEND;TZID=Europe/Berlin:20260127T224500
SUMMARY:O40 3. Liga Gr. 2 Regio Moossee II vs Herzogenbuchsee (7)
UID:6b42d7a3-14ff-4389-a629-e0009fd42fb1
STATUS:CONFIRMED
LAST-MODIFIED:20260217T213715Z
DESCRIPTION:3. Liga O40 Gruppe 2\nBegegnungs-Nr: 7\nHeim: Regio Moossee II\nGast: Herzogenbuchsee\n\nAdresse: Schulhausstrasse 23-25\, 3302 Moosseedorf\n
LOCATION:Schulhausstrasse 23-25\, 3302 Moosseedorf
CATEGORIES:Saison 2025/26
END:VEVENT
BEGIN:VEVENT
DTSTAMP:20260424T115012Z
DTSTART;TZID=Europe/Berlin:20260324T194500
DTEND;TZID=Europe/Berlin:20260324T224500
SUMMARY:O40 3. Liga Gr. 2 Regio Moossee II vs Huttwil (18)
UID:0f53ed5a-dbad-40cd-8a3b-6a4b65337588
STATUS:CONFIRMED
LAST-MODIFIED:20260409T122731Z
DESCRIPTION:3. Liga O40 Gruppe 2\nBegegnungs-Nr: 18\nHeim: Regio Moossee II\nGast: Huttwil\n\nAdresse: Schulhausstrasse 23-25\, 3302 Moosseedorf\n
LOCATION:Schulhausstrasse 23-25\, 3302 Moosseedorf
CATEGORIES:Saison 2025/26
END:VEVENT
BEGIN:VEVENT
DTSTAMP:20260424T115012Z
DTSTART;TZID=Europe/Berlin:20260224T194500
DTEND;TZID=Europe/Berlin:20260224T224500
SUMMARY:O40 3. Liga Gr. 2 Regio Moossee II vs Lyss (15)
UID:3b994082-193b-4859-b222-58c17892c33e
STATUS:CONFIRMED
LAST-MODIFIED:20260302T145040Z
DESCRIPTION:3. Liga O40 Gruppe 2\nBegegnungs-Nr: 15\nHeim: Regio Moossee II\nGast: Lyss\n\nAdresse: Schulhausstrasse 23-25\, 3302 Moosseedorf\n
LOCATION:Schulhausstrasse 23-25\, 3302 Moosseedorf
CATEGORIES:Saison 2025/26
END:VEVENT
BEGIN:VEVENT
DTSTAMP:20260424T115012Z
DTSTART;TZID=Europe/Berlin:20251117T200000
DTEND;TZID=Europe/Berlin:20251117T230000
SUMMARY:O40 3. Liga Gr. 2 Huttwil vs Regio Moossee II (18)
UID:1fa821c7-2ba2-41c1-8e2b-c52c43f3b759
STATUS:CONFIRMED
LAST-MODIFIED:20251122T091145Z
DESCRIPTION:3. Liga O40 Gruppe 2\nBegegnungs-Nr: 18\nHeim: Huttwil\nGast: Regio Moossee II\n\nAdresse: Dornackerweg 2 (untere Halle)\, 4950 Huttwil\n
LOCATION:Dornackerweg 2 (untere Halle)\, 4950 Huttwil
CATEGORIES:Saison 2025/26
END:VEVENT
BEGIN:VEVENT
DTSTAMP:20260424T115012Z
DTSTART;TZID=Europe/Berlin:20251106T200000
DTEND;TZID=Europe/Berlin:20251106T230000
SUMMARY:O40 3. Liga Gr. 2 Lyss vs Regio Moossee II (15)
UID:b00c47ac-3b20-4888-9e5f-256e31deef80
STATUS:CONFIRMED
LAST-MODIFIED:20251115T170953Z
DESCRIPTION:3. Liga O40 Gruppe 2\nBegegnungs-Nr: 15\nHeim: Lyss\nGast: Regio Moossee II\n\nAdresse: Stegmattweg 15-17\, 3250 Lyss\n
LOCATION:Stegmattweg 15-17\, 3250 Lyss
CATEGORIES:Saison 2025/26
END:VEVENT
BEGIN:VEVENT
DTSTAMP:20260424T115012Z
DTSTART;TZID=Europe/Berlin:20250926T200000
DTEND;TZID=Europe/Berlin:20250926T230000
SUMMARY:O40 3. Liga Gr. 2 Herzogenbuchsee vs Regio Moossee II (7)
UID:4e8f8936-c58d-44fd-88b9-9a0f2cd06b56
STATUS:CONFIRMED
LAST-MODIFIED:20251003T172724Z
DESCRIPTION:3. Liga O40 Gruppe 2\nBegegnungs-Nr: 7\nHeim: Herzogenbuchsee\nGast: Regio Moossee II\n\nAdresse: Ringstrasse 10\, 3360 Herzogenbuchsee\n
LOCATION:Ringstrasse 10\, 3360 Herzogenbuchsee
CATEGORIES:Saison 2025/26
END:VEVENT
BEGIN:VEVENT
DTSTAMP:20260424T115012Z
DTSTART;TZID=Europe/Berlin:20260113T200000
DTEND;TZID=Europe/Berlin:20260113T230000
SUMMARY:O40 3. Liga Gr. 2 Kirchberg vs Regio Moossee II (3)
UID:951d448f-a4c1-4cc9-aab2-2f3399c0e2ff
STATUS:CONFIRMED
LAST-MODIFIED:20260125T001056Z
DESCRIPTION:3. Liga O40 Gruppe 2\nBegegnungs-Nr: 3\nHeim: Kirchberg\nGast: Regio Moossee II\n\nAdresse: Reinhardweg\, 3422 Kirchberg\n
LOCATION:Reinhardweg\, 3422 Kirchberg
CATEGORIES:Saison 2025/26
END:VEVENT
BEGIN:VEVENT
DTSTAMP:20260424T115012Z
DTSTART;TZID=Europe/Berlin:20260206T200000
DTEND;TZID=Europe/Berlin:20260206T230000
SUMMARY:O40 3. Liga Gr. 2 Grauholz vs Regio Moossee II (11)
UID:f6fd7aba-df73-4a90-bb28-e61bff8b0a7d
STATUS:CONFIRMED
LAST-MODIFIED:20260217T213744Z
DESCRIPTION:3. Liga O40 Gruppe 2\nBegegnungs-Nr: 11\nHeim: Grauholz\nGast: Regio Moossee II\n\nAdresse: Schulhausweg 8\, 3324 Hindelbank\n
LOCATION:Schulhausweg 8\, 3324 Hindelbank
CATEGORIES:Saison 2025/26
END:VEVENT
BEGIN:VEVENT
DTSTAMP:20260424T115012Z
DTSTART;TZID=Europe/Berlin:20260318T201500
DTEND;TZID=Europe/Berlin:20260318T231500
SUMMARY:O40 3. Liga Gr. 2 Aarberg II vs Regio Moossee II (26)
UID:f31d59c1-244e-4856-8cea-a1429ff245da
STATUS:CONFIRMED
LAST-MODIFIED:20260327T144246Z
DESCRIPTION:3. Liga O40 Gruppe 2\nBegegnungs-Nr: 26\nHeim: Aarberg II\nGast: Regio Moossee II\n\nAdresse: Nidaustrasse 7\, 3270 Aarberg\n
LOCATION:Nidaustrasse 7\, 3270 Aarberg
CATEGORIES:Saison 2025/26
END:VEVENT
BEGIN:VEVENT
DTSTAMP:20260424T115012Z
DTSTART;TZID=Europe/Berlin:20260310T194500
DTEND;TZID=Europe/Berlin:20260310T224500
SUMMARY:O40 3. Liga Gr. 2 Port III vs Regio Moossee II (21)
UID:4e42c216-ea7d-443a-b0ff-9992c4065462
STATUS:CONFIRMED
LAST-MODIFIED:20260315T230651Z
DESCRIPTION:3. Liga O40 Gruppe 2\nBegegnungs-Nr: 21\nHeim: Port III\nGast: Regio Moossee II\n\nAdresse: Allmendstrasse 23\, 2562 Port\n
LOCATION:Allmendstrasse 23\, 2562 Port
CATEGORIES:Saison 2025/26
END:VEVENT
END:VCALENDAR
