BEGIN:VCALENDAR
PRODID:-//nuDatenautomaten//framework iCal4j //DE
VERSION:2.0
CALSCALE:GREGORIAN
BEGIN:VTIMEZONE
TZID:Europe/Berlin
LAST-MODIFIED:20260306T231828Z
TZURL:https://www.tzurl.org/zoneinfo/Europe/Berlin
X-LIC-LOCATION:Europe/Berlin
X-PROLEPTIC-TZNAME:LMT
BEGIN:STANDARD
TZNAME:CET
TZOFFSETFROM:+005328
TZOFFSETTO:+0100
DTSTART:18930401T000000
END:STANDARD
BEGIN:DAYLIGHT
TZNAME:CEST
TZOFFSETFROM:+0100
TZOFFSETTO:+0200
DTSTART:19160430T230000
RDATE:19400401T020000
RDATE:19430329T020000
RDATE:19460414T020000
RDATE:19470406T030000
RDATE:19480418T020000
RDATE:19490410T020000
RDATE:19800406T020000
END:DAYLIGHT
BEGIN:STANDARD
TZNAME:CET
TZOFFSETFROM:+0200
TZOFFSETTO:+0100
DTSTART:19161001T010000
RDATE:19421102T030000
RDATE:19431004T030000
RDATE:19441002T030000
RDATE:19451118T030000
RDATE:19461007T030000
END:STANDARD
BEGIN:DAYLIGHT
TZNAME:CEST
TZOFFSETFROM:+0100
TZOFFSETTO:+0200
DTSTART:19170416T020000
RRULE:FREQ=YEARLY;UNTIL=19180415T010000Z;BYMONTH=4;BYDAY=3MO
END:DAYLIGHT
BEGIN:STANDARD
TZNAME:CET
TZOFFSETFROM:+0200
TZOFFSETTO:+0100
DTSTART:19170917T030000
RRULE:FREQ=YEARLY;UNTIL=19180916T010000Z;BYMONTH=9;BYDAY=3MO
END:STANDARD
BEGIN:DAYLIGHT
TZNAME:CEST
TZOFFSETFROM:+0100
TZOFFSETTO:+0200
DTSTART:19440403T020000
RRULE:FREQ=YEARLY;UNTIL=19450402T010000Z;BYMONTH=4;BYDAY=1MO
END:DAYLIGHT
BEGIN:DAYLIGHT
TZNAME:CEMT
TZOFFSETFROM:+0200
TZOFFSETTO:+0300
DTSTART:19450524T020000
RDATE:19470511T030000
END:DAYLIGHT
BEGIN:DAYLIGHT
TZNAME:CEST
TZOFFSETFROM:+0300
TZOFFSETTO:+0200
DTSTART:19450924T030000
RDATE:19470629T030000
END:DAYLIGHT
BEGIN:STANDARD
TZNAME:CET
TZOFFSETFROM:+0100
TZOFFSETTO:+0100
DTSTART:19460101T000000
RDATE:19800101T000000
END:STANDARD
BEGIN:STANDARD
TZNAME:CET
TZOFFSETFROM:+0200
TZOFFSETTO:+0100
DTSTART:19471005T030000
RRULE:FREQ=YEARLY;UNTIL=19491002T010000Z;BYMONTH=10;BYDAY=1SU
END:STANDARD
BEGIN:STANDARD
TZNAME:CET
TZOFFSETFROM:+0200
TZOFFSETTO:+0100
DTSTART:19800928T030000
RRULE:FREQ=YEARLY;UNTIL=19950924T010000Z;BYMONTH=9;BYDAY=-1SU
END:STANDARD
BEGIN:DAYLIGHT
TZNAME:CEST
TZOFFSETFROM:+0100
TZOFFSETTO:+0200
DTSTART:19810329T020000
RRULE:FREQ=YEARLY;BYMONTH=3;BYDAY=-1SU
END:DAYLIGHT
BEGIN:STANDARD
TZNAME:CET
TZOFFSETFROM:+0200
TZOFFSETTO:+0100
DTSTART:19961027T030000
RRULE:FREQ=YEARLY;BYMONTH=10;BYDAY=-1SU
END:STANDARD
END:VTIMEZONE
BEGIN:VEVENT
DTSTAMP:20260424T135746Z
DTSTART;TZID=Europe/Berlin:20260124T100000
DTEND;TZID=Europe/Berlin:20260124T130000
SUMMARY:HE 6. Liga Gr. 3 Schlatt III vs Weinfelden VI (0)
UID:e6024411-4787-4b68-bfae-20f9b7cf6ce0
STATUS:CONFIRMED
LAST-MODIFIED:20260130T102851Z
DESCRIPTION:6. Liga Herren Gruppe 3\nBegegnungs-Nr: 0\nHeim: Schlatt III\nGast: Weinfelden VI\n\nAdresse: Waltersteinerstrasse 79\, 8418 Schlatt ZH\n
LOCATION:Waltersteinerstrasse 79\, 8418 Schlatt ZH
CATEGORIES:Saison 2025/26
END:VEVENT
BEGIN:VEVENT
DTSTAMP:20260424T135746Z
DTSTART;TZID=Europe/Berlin:20260307T100000
DTEND;TZID=Europe/Berlin:20260307T130000
SUMMARY:HE 6. Liga Gr. 3 Schlatt III vs Wuppenau III (0)
UID:553454a5-d257-4980-a3b4-791224941a81
STATUS:CONFIRMED
LAST-MODIFIED:20260313T132608Z
DESCRIPTION:6. Liga Herren Gruppe 3\nBegegnungs-Nr: 0\nHeim: Schlatt III\nGast: Wuppenau III\n\nAdresse: Waltersteinerstrasse 79\, 8418 Schlatt ZH\n
LOCATION:Waltersteinerstrasse 79\, 8418 Schlatt ZH
CATEGORIES:Saison 2025/26
END:VEVENT
BEGIN:VEVENT
DTSTAMP:20260424T135746Z
DTSTART;TZID=Europe/Berlin:20260328T100000
DTEND;TZID=Europe/Berlin:20260328T130000
SUMMARY:HE 6. Liga Gr. 3 Schlatt III vs Steckborn-Homburg VI (0)
UID:f5a6fac3-4a64-4cb6-9f03-551152a30ccf
STATUS:CONFIRMED
LAST-MODIFIED:20260401T130144Z
DESCRIPTION:6. Liga Herren Gruppe 3\nBegegnungs-Nr: 0\nHeim: Schlatt III\nGast: Steckborn-Homburg VI\n\nAdresse: Waltersteinerstrasse 79\, 8418 Schlatt ZH\n
LOCATION:Waltersteinerstrasse 79\, 8418 Schlatt ZH
CATEGORIES:Saison 2025/26
END:VEVENT
BEGIN:VEVENT
DTSTAMP:20260424T135746Z
DTSTART;TZID=Europe/Berlin:20250830T100000
DTEND;TZID=Europe/Berlin:20250830T130000
SUMMARY:HE 6. Liga Gr. 3 Schlatt III vs Bronschhofen IV (0)
UID:de6e4dd9-5325-4437-81e6-4a6dd5758dc6
STATUS:CONFIRMED
LAST-MODIFIED:20250902T093153Z
DESCRIPTION:6. Liga Herren Gruppe 3\nBegegnungs-Nr: 0\nHeim: Schlatt III\nGast: Bronschhofen IV\n\nAdresse: Waltersteinerstrasse 79\, 8418 Schlatt ZH\n
LOCATION:Waltersteinerstrasse 79\, 8418 Schlatt ZH
CATEGORIES:Saison 2025/26
END:VEVENT
BEGIN:VEVENT
DTSTAMP:20260424T135746Z
DTSTART;TZID=Europe/Berlin:20250920T100000
DTEND;TZID=Europe/Berlin:20250920T130000
SUMMARY:HE 6. Liga Gr. 3 Schlatt III vs Wallenwil IV (0)
UID:d295c4d1-03f5-40e0-8717-a46ee4761e46
STATUS:CONFIRMED
LAST-MODIFIED:20251007T060316Z
DESCRIPTION:6. Liga Herren Gruppe 3\nBegegnungs-Nr: 0\nHeim: Schlatt III\nGast: Wallenwil IV\n\nAdresse: Waltersteinerstrasse 79\, 8418 Schlatt ZH\n
LOCATION:Waltersteinerstrasse 79\, 8418 Schlatt ZH
CATEGORIES:Saison 2025/26
END:VEVENT
BEGIN:VEVENT
DTSTAMP:20260424T135746Z
DTSTART;TZID=Europe/Berlin:20251112T200000
DTEND;TZID=Europe/Berlin:20251112T230000
SUMMARY:HE 6. Liga Gr. 3 Schlatt III vs Neuhausen VII (0)
UID:05a84270-f15d-4f17-a8d3-50cc0d5f5e26
STATUS:CONFIRMED
LAST-MODIFIED:20251114T142620Z
DESCRIPTION:6. Liga Herren Gruppe 3\nBegegnungs-Nr: 0\nHeim: Schlatt III\nGast: Neuhausen VII\nHalle: Tischtenniszentrum Ebnat\, Ebnatstrasse 35\, 8200 Schaffhausen\nAdresse: Waltersteinerstrasse 79\, 8418 Schlatt ZH\n
LOCATION:Tischtenniszentrum Ebnat\, Ebnatstrasse 35\, 8200 Schaffhausen Waltersteinerstrasse 79\, 8418 Schlatt ZH
CATEGORIES:Saison 2025/26
END:VEVENT
BEGIN:VEVENT
DTSTAMP:20260424T135746Z
DTSTART;TZID=Europe/Berlin:20251206T100000
DTEND;TZID=Europe/Berlin:20251206T130000
SUMMARY:HE 6. Liga Gr. 3 Schlatt III vs Imperial Winterthur III (0)
UID:910c4a9b-82dd-4bea-b71b-7bd205bbd81b
STATUS:CONFIRMED
LAST-MODIFIED:20251210T093215Z
DESCRIPTION:6. Liga Herren Gruppe 3\nBegegnungs-Nr: 0\nHeim: Schlatt III\nGast: Imperial Winterthur III\n\nAdresse: Waltersteinerstrasse 79\, 8418 Schlatt ZH\n
LOCATION:Waltersteinerstrasse 79\, 8418 Schlatt ZH
CATEGORIES:Saison 2025/26
END:VEVENT
BEGIN:VEVENT
DTSTAMP:20260424T135746Z
DTSTART;TZID=Europe/Berlin:20260105T200000
DTEND;TZID=Europe/Berlin:20260105T230000
SUMMARY:HE 6. Liga Gr. 3 Bronschhofen IV vs Schlatt III (0)
UID:c4a21458-128b-4ea6-9213-0e686006ed76
STATUS:CONFIRMED
LAST-MODIFIED:20260112T100244Z
DESCRIPTION:6. Liga Herren Gruppe 3\nBegegnungs-Nr: 0\nHeim: Bronschhofen IV\nGast: Schlatt III\n\nAdresse: Schulstrasse 6\, 9552 Bronschhofen\n
LOCATION:Schulstrasse 6\, 9552 Bronschhofen
CATEGORIES:Saison 2025/26
END:VEVENT
BEGIN:VEVENT
DTSTAMP:20260424T135746Z
DTSTART;TZID=Europe/Berlin:20260119T201500
DTEND;TZID=Europe/Berlin:20260119T231500
SUMMARY:HE 6. Liga Gr. 3 Wallenwil IV vs Schlatt III (0)
UID:dcdcd2db-9146-445e-bbbc-6af46216179a
STATUS:CONFIRMED
LAST-MODIFIED:20260120T153723Z
DESCRIPTION:6. Liga Herren Gruppe 3\nBegegnungs-Nr: 0\nHeim: Wallenwil IV\nGast: Schlatt III\n\nAdresse: Stationsstrasse 29\, 8360 Wallenwil\n
LOCATION:Stationsstrasse 29\, 8360 Wallenwil
CATEGORIES:Saison 2025/26
END:VEVENT
BEGIN:VEVENT
DTSTAMP:20260424T135746Z
DTSTART;TZID=Europe/Berlin:20260311T200000
DTEND;TZID=Europe/Berlin:20260311T230000
SUMMARY:HE 6. Liga Gr. 3 Neuhausen VII vs Schlatt III (0)
UID:66049bf8-c3a0-46fa-b504-ea6ec77e7a7e
STATUS:CONFIRMED
LAST-MODIFIED:20260313T132626Z
DESCRIPTION:6. Liga Herren Gruppe 3\nBegegnungs-Nr: 0\nHeim: Neuhausen VII\nGast: Schlatt III\n\nAdresse: Ebnatstrasse 35\, 8200 Schaffhausen\n
LOCATION:Ebnatstrasse 35\, 8200 Schaffhausen
CATEGORIES:Saison 2025/26
END:VEVENT
BEGIN:VEVENT
DTSTAMP:20260424T135746Z
DTSTART;TZID=Europe/Berlin:20260316T200000
DTEND;TZID=Europe/Berlin:20260316T230000
SUMMARY:HE 6. Liga Gr. 3 Imperial Winterthur III vs Schlatt III (0)
UID:4c4c8328-b388-4b26-b77e-cb1325a8bdf9
STATUS:CONFIRMED
LAST-MODIFIED:20260317T145005Z
DESCRIPTION:6. Liga Herren Gruppe 3\nBegegnungs-Nr: 0\nHeim: Imperial Winterthur III\nGast: Schlatt III\n\nAdresse: Büelhofstrasse 25a\, 8405 Winterthur\n
LOCATION:Büelhofstrasse 25a\, 8405 Winterthur
CATEGORIES:Saison 2025/26
END:VEVENT
BEGIN:VEVENT
DTSTAMP:20260424T135746Z
DTSTART;TZID=Europe/Berlin:20250904T201500
DTEND;TZID=Europe/Berlin:20250904T231500
SUMMARY:HE 6. Liga Gr. 3 Weinfelden VI vs Schlatt III (0)
UID:ba4067e1-8406-4397-b681-2ad9e2075ae5
STATUS:CONFIRMED
LAST-MODIFIED:20250905T124556Z
DESCRIPTION:6. Liga Herren Gruppe 3\nBegegnungs-Nr: 0\nHeim: Weinfelden VI\nGast: Schlatt III\n\nAdresse: Bleichestrasse 3 (neben Hallenbad)\, 8570 Weinfelden\n
LOCATION:Bleichestrasse 3 (neben Hallenbad)\, 8570 Weinfelden
CATEGORIES:Saison 2025/26
END:VEVENT
BEGIN:VEVENT
DTSTAMP:20260424T135746Z
DTSTART;TZID=Europe/Berlin:20250926T200000
DTEND;TZID=Europe/Berlin:20250926T230000
SUMMARY:HE 6. Liga Gr. 3 Wuppenau III vs Schlatt III (0)
UID:c7add7f9-4c9f-4398-ac76-de817dd0d06e
STATUS:CONFIRMED
LAST-MODIFIED:20251007T060341Z
DESCRIPTION:6. Liga Herren Gruppe 3\nBegegnungs-Nr: 0\nHeim: Wuppenau III\nGast: Schlatt III\n\nAdresse: Nollenstrasse\, 9514 Wuppenau\n
LOCATION:Nollenstrasse\, 9514 Wuppenau
CATEGORIES:Saison 2025/26
END:VEVENT
BEGIN:VEVENT
DTSTAMP:20260424T135746Z
DTSTART;TZID=Europe/Berlin:20251107T194500
DTEND;TZID=Europe/Berlin:20251107T224500
SUMMARY:HE 6. Liga Gr. 3 Steckborn-Homburg VI vs Schlatt III (0)
UID:9a93234f-8f50-4454-9226-a4de26f65503
STATUS:CONFIRMED
LAST-MODIFIED:20251114T142612Z
DESCRIPTION:6. Liga Herren Gruppe 3\nBegegnungs-Nr: 0\nHeim: Steckborn-Homburg VI\nGast: Schlatt III\n\nAdresse: Schulstrasse 4\, 8508 Unterhörstetten\n
LOCATION:Schulstrasse 4\, 8508 Unterhörstetten
CATEGORIES:Saison 2025/26
END:VEVENT
END:VCALENDAR
