BEGIN:VCALENDAR
PRODID:-//nuDatenautomaten//framework iCal4j //DE
VERSION:2.0
CALSCALE:GREGORIAN
BEGIN:VTIMEZONE
TZID:Europe/Berlin
LAST-MODIFIED:20260306T231828Z
TZURL:https://www.tzurl.org/zoneinfo/Europe/Berlin
X-LIC-LOCATION:Europe/Berlin
X-PROLEPTIC-TZNAME:LMT
BEGIN:STANDARD
TZNAME:CET
TZOFFSETFROM:+005328
TZOFFSETTO:+0100
DTSTART:18930401T000000
END:STANDARD
BEGIN:DAYLIGHT
TZNAME:CEST
TZOFFSETFROM:+0100
TZOFFSETTO:+0200
DTSTART:19160430T230000
RDATE:19400401T020000
RDATE:19430329T020000
RDATE:19460414T020000
RDATE:19470406T030000
RDATE:19480418T020000
RDATE:19490410T020000
RDATE:19800406T020000
END:DAYLIGHT
BEGIN:STANDARD
TZNAME:CET
TZOFFSETFROM:+0200
TZOFFSETTO:+0100
DTSTART:19161001T010000
RDATE:19421102T030000
RDATE:19431004T030000
RDATE:19441002T030000
RDATE:19451118T030000
RDATE:19461007T030000
END:STANDARD
BEGIN:DAYLIGHT
TZNAME:CEST
TZOFFSETFROM:+0100
TZOFFSETTO:+0200
DTSTART:19170416T020000
RRULE:FREQ=YEARLY;UNTIL=19180415T010000Z;BYMONTH=4;BYDAY=3MO
END:DAYLIGHT
BEGIN:STANDARD
TZNAME:CET
TZOFFSETFROM:+0200
TZOFFSETTO:+0100
DTSTART:19170917T030000
RRULE:FREQ=YEARLY;UNTIL=19180916T010000Z;BYMONTH=9;BYDAY=3MO
END:STANDARD
BEGIN:DAYLIGHT
TZNAME:CEST
TZOFFSETFROM:+0100
TZOFFSETTO:+0200
DTSTART:19440403T020000
RRULE:FREQ=YEARLY;UNTIL=19450402T010000Z;BYMONTH=4;BYDAY=1MO
END:DAYLIGHT
BEGIN:DAYLIGHT
TZNAME:CEMT
TZOFFSETFROM:+0200
TZOFFSETTO:+0300
DTSTART:19450524T020000
RDATE:19470511T030000
END:DAYLIGHT
BEGIN:DAYLIGHT
TZNAME:CEST
TZOFFSETFROM:+0300
TZOFFSETTO:+0200
DTSTART:19450924T030000
RDATE:19470629T030000
END:DAYLIGHT
BEGIN:STANDARD
TZNAME:CET
TZOFFSETFROM:+0100
TZOFFSETTO:+0100
DTSTART:19460101T000000
RDATE:19800101T000000
END:STANDARD
BEGIN:STANDARD
TZNAME:CET
TZOFFSETFROM:+0200
TZOFFSETTO:+0100
DTSTART:19471005T030000
RRULE:FREQ=YEARLY;UNTIL=19491002T010000Z;BYMONTH=10;BYDAY=1SU
END:STANDARD
BEGIN:STANDARD
TZNAME:CET
TZOFFSETFROM:+0200
TZOFFSETTO:+0100
DTSTART:19800928T030000
RRULE:FREQ=YEARLY;UNTIL=19950924T010000Z;BYMONTH=9;BYDAY=-1SU
END:STANDARD
BEGIN:DAYLIGHT
TZNAME:CEST
TZOFFSETFROM:+0100
TZOFFSETTO:+0200
DTSTART:19810329T020000
RRULE:FREQ=YEARLY;BYMONTH=3;BYDAY=-1SU
END:DAYLIGHT
BEGIN:STANDARD
TZNAME:CET
TZOFFSETFROM:+0200
TZOFFSETTO:+0100
DTSTART:19961027T030000
RRULE:FREQ=YEARLY;BYMONTH=10;BYDAY=-1SU
END:STANDARD
END:VTIMEZONE
BEGIN:VEVENT
DTSTAMP:20260424T151709Z
DTSTART;TZID=Europe/Berlin:20260206T200000
DTEND;TZID=Europe/Berlin:20260206T230000
SUMMARY:HE 6. Liga Gr. 6 Young Stars ZH IX vs Buchs Zürich IV (0)
UID:5e37d456-4509-482a-a7d7-6f4caaea94e0
STATUS:CONFIRMED
LAST-MODIFIED:20260209T135403Z
DESCRIPTION:6. Liga Herren Gruppe 6\nBegegnungs-Nr: 0\nHeim: Young Stars ZH IX\nGast: Buchs Zürich IV\n\nAdresse: Balgriststrasse 55\, 8008 Zürich\n
LOCATION:Balgriststrasse 55\, 8008 Zürich
CATEGORIES:Saison 2025/26
END:VEVENT
BEGIN:VEVENT
DTSTAMP:20260424T151709Z
DTSTART;TZID=Europe/Berlin:20260130T200000
DTEND;TZID=Europe/Berlin:20260130T230000
SUMMARY:HE 6. Liga Gr. 6 Young Stars ZH IX vs Libera Zürich II (0)
UID:93492605-103c-402c-8c88-a79bea294019
STATUS:CONFIRMED
LAST-MODIFIED:20260204T085836Z
DESCRIPTION:6. Liga Herren Gruppe 6\nBegegnungs-Nr: 0\nHeim: Young Stars ZH IX\nGast: Libera Zürich II\n\nAdresse: Balgriststrasse 55\, 8008 Zürich\n
LOCATION:Balgriststrasse 55\, 8008 Zürich
CATEGORIES:Saison 2025/26
END:VEVENT
BEGIN:VEVENT
DTSTAMP:20260424T151709Z
DTSTART;TZID=Europe/Berlin:20260313T200000
DTEND;TZID=Europe/Berlin:20260313T230000
SUMMARY:HE 6. Liga Gr. 6 Young Stars ZH IX vs Zürich-Affoltern IX (0)
UID:9817c96a-9dd8-4961-b478-f36514746aa6
STATUS:CONFIRMED
LAST-MODIFIED:20260317T145531Z
DESCRIPTION:6. Liga Herren Gruppe 6\nBegegnungs-Nr: 0\nHeim: Young Stars ZH IX\nGast: Zürich-Affoltern IX\n\nAdresse: Balgriststrasse 55\, 8008 Zürich\n
LOCATION:Balgriststrasse 55\, 8008 Zürich
CATEGORIES:Saison 2025/26
END:VEVENT
BEGIN:VEVENT
DTSTAMP:20260424T151709Z
DTSTART;TZID=Europe/Berlin:20251114T200000
DTEND;TZID=Europe/Berlin:20251114T230000
SUMMARY:HE 6. Liga Gr. 6 Young Stars ZH IX vs Seebach-Kügeliloo IV (0)
UID:493983de-db33-4084-8588-1b89b1f3531c
STATUS:CONFIRMED
LAST-MODIFIED:20251118T113350Z
DESCRIPTION:6. Liga Herren Gruppe 6\nBegegnungs-Nr: 0\nHeim: Young Stars ZH IX\nGast: Seebach-Kügeliloo IV\n\nAdresse: Balgriststrasse 55\, 8008 Zürich\n
LOCATION:Balgriststrasse 55\, 8008 Zürich
CATEGORIES:Saison 2025/26
END:VEVENT
BEGIN:VEVENT
DTSTAMP:20260424T151709Z
DTSTART;TZID=Europe/Berlin:20250926T200000
DTEND;TZID=Europe/Berlin:20250926T230000
SUMMARY:HE 6. Liga Gr. 6 Young Stars ZH IX vs Pinguin Zürich VI (0)
UID:e8280722-d8c0-44ba-b56e-e5909fa64e8e
STATUS:CONFIRMED
LAST-MODIFIED:20250930T124631Z
DESCRIPTION:6. Liga Herren Gruppe 6\nBegegnungs-Nr: 0\nHeim: Young Stars ZH IX\nGast: Pinguin Zürich VI\n\nAdresse: Balgriststrasse 55\, 8008 Zürich\n
LOCATION:Balgriststrasse 55\, 8008 Zürich
CATEGORIES:Saison 2025/26
END:VEVENT
BEGIN:VEVENT
DTSTAMP:20260424T151709Z
DTSTART;TZID=Europe/Berlin:20251107T200000
DTEND;TZID=Europe/Berlin:20251107T230000
SUMMARY:HE 6. Liga Gr. 6 Young Stars ZH IX vs Thalwil VI (0)
UID:cf222d8e-a230-40d4-a635-a27b47044cf8
STATUS:CONFIRMED
LAST-MODIFIED:20251114T142715Z
DESCRIPTION:6. Liga Herren Gruppe 6\nBegegnungs-Nr: 0\nHeim: Young Stars ZH IX\nGast: Thalwil VI\n\nAdresse: Balgriststrasse 55\, 8008 Zürich\n
LOCATION:Balgriststrasse 55\, 8008 Zürich
CATEGORIES:Saison 2025/26
END:VEVENT
BEGIN:VEVENT
DTSTAMP:20260424T151709Z
DTSTART;TZID=Europe/Berlin:20251205T200000
DTEND;TZID=Europe/Berlin:20251205T230000
SUMMARY:HE 6. Liga Gr. 6 Young Stars ZH IX vs Höngg IV (0)
UID:b97c30a0-35e1-4be1-b1dc-67f57a442846
STATUS:CONFIRMED
LAST-MODIFIED:20251210T093742Z
DESCRIPTION:6. Liga Herren Gruppe 6\nBegegnungs-Nr: 0\nHeim: Young Stars ZH IX\nGast: Höngg IV\n\nAdresse: Balgriststrasse 55\, 8008 Zürich\n
LOCATION:Balgriststrasse 55\, 8008 Zürich
CATEGORIES:Saison 2025/26
END:VEVENT
BEGIN:VEVENT
DTSTAMP:20260424T151709Z
DTSTART;TZID=Europe/Berlin:20260327T193000
DTEND;TZID=Europe/Berlin:20260327T223000
SUMMARY:HE 6. Liga Gr. 6 Thalwil VI vs Young Stars ZH IX (0)
UID:e21dc773-08a5-4458-a789-a67a3e25fbdc
STATUS:CONFIRMED
LAST-MODIFIED:20260401T130856Z
DESCRIPTION:6. Liga Herren Gruppe 6\nBegegnungs-Nr: 0\nHeim: Thalwil VI\nGast: Young Stars ZH IX\n\nAdresse: Bergstrasse 2\, 8800 Thalwil\n
LOCATION:Bergstrasse 2\, 8800 Thalwil
CATEGORIES:Saison 2025/26
END:VEVENT
BEGIN:VEVENT
DTSTAMP:20260424T151709Z
DTSTART;TZID=Europe/Berlin:20260415T200000
DTEND;TZID=Europe/Berlin:20260415T230000
SUMMARY:HE 6. Liga Gr. 6 Höngg IV vs Young Stars ZH IX (0)
UID:03784ae3-9f47-4503-8acc-ca2e1b7042e7
STATUS:CONFIRMED
LAST-MODIFIED:20260416T104049Z
DESCRIPTION:6. Liga Herren Gruppe 6\nBegegnungs-Nr: 0\nHeim: Höngg IV\nGast: Young Stars ZH IX\n\nAdresse: Bläsistrasse 2\, 8049 Zürich\n
LOCATION:Bläsistrasse 2\, 8049 Zürich
CATEGORIES:Saison 2025/26
END:VEVENT
BEGIN:VEVENT
DTSTAMP:20260424T151709Z
DTSTART;TZID=Europe/Berlin:20260113T200000
DTEND;TZID=Europe/Berlin:20260113T230000
SUMMARY:HE 6. Liga Gr. 6 Seebach-Kügeliloo IV vs Young Stars ZH IX (0)
UID:71eca45e-c11e-41b0-be73-b008e7a75ce2
STATUS:CONFIRMED
LAST-MODIFIED:20260115T093630Z
DESCRIPTION:6. Liga Herren Gruppe 6\nBegegnungs-Nr: 0\nHeim: Seebach-Kügeliloo IV\nGast: Young Stars ZH IX\n\nAdresse: Sperletweg 71\, 8052 Zürich\n
LOCATION:Sperletweg 71\, 8052 Zürich
CATEGORIES:Saison 2025/26
END:VEVENT
BEGIN:VEVENT
DTSTAMP:20260424T151709Z
DTSTART;TZID=Europe/Berlin:20260306T193000
DTEND;TZID=Europe/Berlin:20260306T223000
SUMMARY:HE 6. Liga Gr. 6 Pinguin Zürich VI vs Young Stars ZH IX (0)
UID:1b0f6163-a982-48f3-ac36-4bdf553ee7c1
STATUS:CONFIRMED
LAST-MODIFIED:20260317T145513Z
DESCRIPTION:6. Liga Herren Gruppe 6\nBegegnungs-Nr: 0\nHeim: Pinguin Zürich VI\nGast: Young Stars ZH IX\n\nAdresse: Basteiplatz\, 8001 Zürich\n
LOCATION:Basteiplatz\, 8001 Zürich
CATEGORIES:Saison 2025/26
END:VEVENT
BEGIN:VEVENT
DTSTAMP:20260424T151709Z
DTSTART;TZID=Europe/Berlin:20250829T201500
DTEND;TZID=Europe/Berlin:20250829T231500
SUMMARY:HE 6. Liga Gr. 6 Buchs Zürich IV vs Young Stars ZH IX (0)
UID:478235cd-fcb0-4e4f-b16b-048f07085358
STATUS:CONFIRMED
LAST-MODIFIED:20250902T093401Z
DESCRIPTION:6. Liga Herren Gruppe 6\nBegegnungs-Nr: 0\nHeim: Buchs Zürich IV\nGast: Young Stars ZH IX\n\nAdresse: Drisglerstrasse 3\, 8107 Buchs ZH\n
LOCATION:Drisglerstrasse 3\, 8107 Buchs ZH
CATEGORIES:Saison 2025/26
END:VEVENT
BEGIN:VEVENT
DTSTAMP:20260424T151709Z
DTSTART;TZID=Europe/Berlin:20250918T200000
DTEND;TZID=Europe/Berlin:20250918T230000
SUMMARY:HE 6. Liga Gr. 6 Libera Zürich II vs Young Stars ZH IX (0)
UID:f4ef41be-c23a-42a4-8f64-a297e0ad41fa
STATUS:CONFIRMED
LAST-MODIFIED:20250926T133946Z
DESCRIPTION:6. Liga Herren Gruppe 6\nBegegnungs-Nr: 0\nHeim: Libera Zürich II\nGast: Young Stars ZH IX\n\nAdresse: Sperletweg 71\, 8052 Zürich\n
LOCATION:Sperletweg 71\, 8052 Zürich
CATEGORIES:Saison 2025/26
END:VEVENT
BEGIN:VEVENT
DTSTAMP:20260424T151709Z
DTSTART;TZID=Europe/Berlin:20251029T201500
DTEND;TZID=Europe/Berlin:20251029T231500
SUMMARY:HE 6. Liga Gr. 6 Zürich-Affoltern IX vs Young Stars ZH IX (0)
UID:21f05040-d35a-4ba8-9e5d-020ea4030dc1
STATUS:CONFIRMED
LAST-MODIFIED:20251031T144527Z
DESCRIPTION:6. Liga Herren Gruppe 6\nBegegnungs-Nr: 0\nHeim: Zürich-Affoltern IX\nGast: Young Stars ZH IX\n\nAdresse: Rümlangstr. 89\, 8052 Zürich\n
LOCATION:Rümlangstr. 89\, 8052 Zürich
CATEGORIES:Saison 2025/26
END:VEVENT
END:VCALENDAR
