BEGIN:VCALENDAR
PRODID:-//nuDatenautomaten//framework iCal4j //DE
VERSION:2.0
CALSCALE:GREGORIAN
BEGIN:VTIMEZONE
TZID:Europe/Berlin
LAST-MODIFIED:20260306T231828Z
TZURL:https://www.tzurl.org/zoneinfo/Europe/Berlin
X-LIC-LOCATION:Europe/Berlin
X-PROLEPTIC-TZNAME:LMT
BEGIN:STANDARD
TZNAME:CET
TZOFFSETFROM:+005328
TZOFFSETTO:+0100
DTSTART:18930401T000000
END:STANDARD
BEGIN:DAYLIGHT
TZNAME:CEST
TZOFFSETFROM:+0100
TZOFFSETTO:+0200
DTSTART:19160430T230000
RDATE:19400401T020000
RDATE:19430329T020000
RDATE:19460414T020000
RDATE:19470406T030000
RDATE:19480418T020000
RDATE:19490410T020000
RDATE:19800406T020000
END:DAYLIGHT
BEGIN:STANDARD
TZNAME:CET
TZOFFSETFROM:+0200
TZOFFSETTO:+0100
DTSTART:19161001T010000
RDATE:19421102T030000
RDATE:19431004T030000
RDATE:19441002T030000
RDATE:19451118T030000
RDATE:19461007T030000
END:STANDARD
BEGIN:DAYLIGHT
TZNAME:CEST
TZOFFSETFROM:+0100
TZOFFSETTO:+0200
DTSTART:19170416T020000
RRULE:FREQ=YEARLY;UNTIL=19180415T010000Z;BYMONTH=4;BYDAY=3MO
END:DAYLIGHT
BEGIN:STANDARD
TZNAME:CET
TZOFFSETFROM:+0200
TZOFFSETTO:+0100
DTSTART:19170917T030000
RRULE:FREQ=YEARLY;UNTIL=19180916T010000Z;BYMONTH=9;BYDAY=3MO
END:STANDARD
BEGIN:DAYLIGHT
TZNAME:CEST
TZOFFSETFROM:+0100
TZOFFSETTO:+0200
DTSTART:19440403T020000
RRULE:FREQ=YEARLY;UNTIL=19450402T010000Z;BYMONTH=4;BYDAY=1MO
END:DAYLIGHT
BEGIN:DAYLIGHT
TZNAME:CEMT
TZOFFSETFROM:+0200
TZOFFSETTO:+0300
DTSTART:19450524T020000
RDATE:19470511T030000
END:DAYLIGHT
BEGIN:DAYLIGHT
TZNAME:CEST
TZOFFSETFROM:+0300
TZOFFSETTO:+0200
DTSTART:19450924T030000
RDATE:19470629T030000
END:DAYLIGHT
BEGIN:STANDARD
TZNAME:CET
TZOFFSETFROM:+0100
TZOFFSETTO:+0100
DTSTART:19460101T000000
RDATE:19800101T000000
END:STANDARD
BEGIN:STANDARD
TZNAME:CET
TZOFFSETFROM:+0200
TZOFFSETTO:+0100
DTSTART:19471005T030000
RRULE:FREQ=YEARLY;UNTIL=19491002T010000Z;BYMONTH=10;BYDAY=1SU
END:STANDARD
BEGIN:STANDARD
TZNAME:CET
TZOFFSETFROM:+0200
TZOFFSETTO:+0100
DTSTART:19800928T030000
RRULE:FREQ=YEARLY;UNTIL=19950924T010000Z;BYMONTH=9;BYDAY=-1SU
END:STANDARD
BEGIN:DAYLIGHT
TZNAME:CEST
TZOFFSETFROM:+0100
TZOFFSETTO:+0200
DTSTART:19810329T020000
RRULE:FREQ=YEARLY;BYMONTH=3;BYDAY=-1SU
END:DAYLIGHT
BEGIN:STANDARD
TZNAME:CET
TZOFFSETFROM:+0200
TZOFFSETTO:+0100
DTSTART:19961027T030000
RRULE:FREQ=YEARLY;BYMONTH=10;BYDAY=-1SU
END:STANDARD
END:VTIMEZONE
BEGIN:VEVENT
DTSTAMP:20260424T135849Z
DTSTART;TZID=Europe/Berlin:20260307T150000
DTEND;TZID=Europe/Berlin:20260307T180000
SUMMARY:O40 G1 Val-de-Ruz II vs Delémont (0)
UID:bbb3af2e-9c58-4418-a8c1-752e996c6754
STATUS:CONFIRMED
LAST-MODIFIED:20260312T051903Z
DESCRIPTION:Seniors O40\nBegegnungs-Nr: 0\nHeim: Val-de-Ruz II\nGast: Delémont\n\nAdresse: Rue de Chasseral 3\, 2053 Cernier\n
LOCATION:Rue de Chasseral 3\, 2053 Cernier
CATEGORIES:Saison 2025/26
END:VEVENT
BEGIN:VEVENT
DTSTAMP:20260424T135849Z
DTSTART;TZID=Europe/Berlin:20260307T173000
DTEND;TZID=Europe/Berlin:20260307T203000
SUMMARY:O40 G1 Val-de-Ruz II vs Tramelan (0)
UID:e62376ad-6988-4e38-84e4-d841ea72127d
STATUS:CONFIRMED
LAST-MODIFIED:20260312T052134Z
DESCRIPTION:Seniors O40\nBegegnungs-Nr: 0\nHeim: Val-de-Ruz II\nGast: Tramelan\n\nAdresse: Rue de Chasseral 3\, 2053 Cernier\n
LOCATION:Rue de Chasseral 3\, 2053 Cernier
CATEGORIES:Saison 2025/26
END:VEVENT
BEGIN:VEVENT
DTSTAMP:20260424T135849Z
DTSTART;TZID=Europe/Berlin:20260325T193000
DTEND;TZID=Europe/Berlin:20260325T223000
SUMMARY:O40 G1 Val-de-Ruz II vs La Chaux-de-Fonds (0)
UID:9e97237e-4a08-453b-887f-386ea9f06732
STATUS:CONFIRMED
LAST-MODIFIED:20260331T150619Z
DESCRIPTION:Seniors O40\nBegegnungs-Nr: 0\nHeim: Val-de-Ruz II\nGast: La Chaux-de-Fonds\n\nAdresse: Rue de Chasseral 3\, 2053 Cernier\n
LOCATION:Rue de Chasseral 3\, 2053 Cernier
CATEGORIES:Saison 2025/26
END:VEVENT
BEGIN:VEVENT
DTSTAMP:20260424T135849Z
DTSTART;TZID=Europe/Berlin:20250701T000000
DTEND;TZID=Europe/Berlin:20250701T030000
SUMMARY:O40 G1 spielfrei vs Val-de-Ruz II (0)
UID:5d725a7f-83e3-4bf7-8d55-73dbc5559a91
STATUS:CONFIRMED
DESCRIPTION:Seniors O40\nBegegnungs-Nr: 0\nHeim: spielfrei\nGast: Val-de-Ruz II\n
LOCATION:
CATEGORIES:Saison 2025/26
END:VEVENT
BEGIN:VEVENT
DTSTAMP:20260424T135849Z
DTSTART;TZID=Europe/Berlin:20260225T200000
DTEND;TZID=Europe/Berlin:20260225T230000
SUMMARY:O40 G1 Entente Pongiste Neuchâteloise II vs Val-de-Ruz II (0)
UID:666f153b-215b-4b81-9c12-bf04821ad54b
STATUS:CONFIRMED
LAST-MODIFIED:20260312T051827Z
DESCRIPTION:Seniors O40\nBegegnungs-Nr: 0\nHeim: Entente Pongiste Neuchâteloise II\nGast: Val-de-Ruz II\n\nAdresse: Allée du 700e\, 2525 Le Landeron\n
LOCATION:Allée du 700e\, 2525 Le Landeron
CATEGORIES:Saison 2025/26
END:VEVENT
END:VCALENDAR
