BEGIN:VCALENDAR
PRODID:-//nuDatenautomaten//framework iCal4j //DE
VERSION:2.0
CALSCALE:GREGORIAN
BEGIN:VTIMEZONE
TZID:Europe/Berlin
LAST-MODIFIED:20260306T231828Z
TZURL:https://www.tzurl.org/zoneinfo/Europe/Berlin
X-LIC-LOCATION:Europe/Berlin
X-PROLEPTIC-TZNAME:LMT
BEGIN:STANDARD
TZNAME:CET
TZOFFSETFROM:+005328
TZOFFSETTO:+0100
DTSTART:18930401T000000
END:STANDARD
BEGIN:DAYLIGHT
TZNAME:CEST
TZOFFSETFROM:+0100
TZOFFSETTO:+0200
DTSTART:19160430T230000
RDATE:19400401T020000
RDATE:19430329T020000
RDATE:19460414T020000
RDATE:19470406T030000
RDATE:19480418T020000
RDATE:19490410T020000
RDATE:19800406T020000
END:DAYLIGHT
BEGIN:STANDARD
TZNAME:CET
TZOFFSETFROM:+0200
TZOFFSETTO:+0100
DTSTART:19161001T010000
RDATE:19421102T030000
RDATE:19431004T030000
RDATE:19441002T030000
RDATE:19451118T030000
RDATE:19461007T030000
END:STANDARD
BEGIN:DAYLIGHT
TZNAME:CEST
TZOFFSETFROM:+0100
TZOFFSETTO:+0200
DTSTART:19170416T020000
RRULE:FREQ=YEARLY;UNTIL=19180415T010000Z;BYMONTH=4;BYDAY=3MO
END:DAYLIGHT
BEGIN:STANDARD
TZNAME:CET
TZOFFSETFROM:+0200
TZOFFSETTO:+0100
DTSTART:19170917T030000
RRULE:FREQ=YEARLY;UNTIL=19180916T010000Z;BYMONTH=9;BYDAY=3MO
END:STANDARD
BEGIN:DAYLIGHT
TZNAME:CEST
TZOFFSETFROM:+0100
TZOFFSETTO:+0200
DTSTART:19440403T020000
RRULE:FREQ=YEARLY;UNTIL=19450402T010000Z;BYMONTH=4;BYDAY=1MO
END:DAYLIGHT
BEGIN:DAYLIGHT
TZNAME:CEMT
TZOFFSETFROM:+0200
TZOFFSETTO:+0300
DTSTART:19450524T020000
RDATE:19470511T030000
END:DAYLIGHT
BEGIN:DAYLIGHT
TZNAME:CEST
TZOFFSETFROM:+0300
TZOFFSETTO:+0200
DTSTART:19450924T030000
RDATE:19470629T030000
END:DAYLIGHT
BEGIN:STANDARD
TZNAME:CET
TZOFFSETFROM:+0100
TZOFFSETTO:+0100
DTSTART:19460101T000000
RDATE:19800101T000000
END:STANDARD
BEGIN:STANDARD
TZNAME:CET
TZOFFSETFROM:+0200
TZOFFSETTO:+0100
DTSTART:19471005T030000
RRULE:FREQ=YEARLY;UNTIL=19491002T010000Z;BYMONTH=10;BYDAY=1SU
END:STANDARD
BEGIN:STANDARD
TZNAME:CET
TZOFFSETFROM:+0200
TZOFFSETTO:+0100
DTSTART:19800928T030000
RRULE:FREQ=YEARLY;UNTIL=19950924T010000Z;BYMONTH=9;BYDAY=-1SU
END:STANDARD
BEGIN:DAYLIGHT
TZNAME:CEST
TZOFFSETFROM:+0100
TZOFFSETTO:+0200
DTSTART:19810329T020000
RRULE:FREQ=YEARLY;BYMONTH=3;BYDAY=-1SU
END:DAYLIGHT
BEGIN:STANDARD
TZNAME:CET
TZOFFSETFROM:+0200
TZOFFSETTO:+0100
DTSTART:19961027T030000
RRULE:FREQ=YEARLY;BYMONTH=10;BYDAY=-1SU
END:STANDARD
END:VTIMEZONE
BEGIN:VEVENT
DTSTAMP:20260424T005441Z
DTSTART;TZID=Europe/Berlin:20251007T193000
DTEND;TZID=Europe/Berlin:20251007T223000
SUMMARY:HE 5. Liga Gr. 2 Ostermundigen X vs Bern XII (9)
UID:044a8682-0326-4ed6-a061-531e12b3adba
STATUS:CONFIRMED
LAST-MODIFIED:20251009T193608Z
DESCRIPTION:5. Liga Herren Gruppe 2\nBegegnungs-Nr: 9\nHeim: Ostermundigen X\nGast: Bern XII\n\nAdresse: Dennigkofenweg 169\, 3072 Ostermundigen\n
LOCATION:Dennigkofenweg 169\, 3072 Ostermundigen
CATEGORIES:Saison 2025/26
END:VEVENT
BEGIN:VEVENT
DTSTAMP:20260424T005441Z
DTSTART;TZID=Europe/Berlin:20260331T193000
DTEND;TZID=Europe/Berlin:20260331T223000
SUMMARY:HE 5. Liga Gr. 2 Ostermundigen X vs Langnau IV (19)
UID:5728fcff-14e6-4f83-ae8f-7f4ac2e3a2c1
STATUS:CONFIRMED
LAST-MODIFIED:20260409T123133Z
DESCRIPTION:5. Liga Herren Gruppe 2\nBegegnungs-Nr: 19\nHeim: Ostermundigen X\nGast: Langnau IV\n\nAdresse: Dennigkofenweg 169\, 3072 Ostermundigen\n
LOCATION:Dennigkofenweg 169\, 3072 Ostermundigen
CATEGORIES:Saison 2025/26
END:VEVENT
BEGIN:VEVENT
DTSTAMP:20260424T005441Z
DTSTART;TZID=Europe/Berlin:20260303T193000
DTEND;TZID=Europe/Berlin:20260303T223000
SUMMARY:HE 5. Liga Gr. 2 Ostermundigen X vs Düdingen III (13)
UID:f24c6200-ee19-4ae7-b3d5-c6ebf0b81fc8
STATUS:CONFIRMED
LAST-MODIFIED:20260308T174042Z
DESCRIPTION:5. Liga Herren Gruppe 2\nBegegnungs-Nr: 13\nHeim: Ostermundigen X\nGast: Düdingen III\n\nAdresse: Dennigkofenweg 169\, 3072 Ostermundigen\n
LOCATION:Dennigkofenweg 169\, 3072 Ostermundigen
CATEGORIES:Saison 2025/26
END:VEVENT
BEGIN:VEVENT
DTSTAMP:20260424T005441Z
DTSTART;TZID=Europe/Berlin:20260225T194500
DTEND;TZID=Europe/Berlin:20260225T224500
SUMMARY:HE 5. Liga Gr. 2 Ostermundigen X vs Tiefenau II (12)
UID:5bff3ee2-0872-4820-a2cd-89f4890bc624
STATUS:CONFIRMED
LAST-MODIFIED:20260302T144833Z
DESCRIPTION:5. Liga Herren Gruppe 2\nBegegnungs-Nr: 12\nHeim: Ostermundigen X\nGast: Tiefenau II\n\nAdresse: Dennigkofenweg 169\, 3072 Ostermundigen\n
LOCATION:Dennigkofenweg 169\, 3072 Ostermundigen
CATEGORIES:Saison 2025/26
END:VEVENT
BEGIN:VEVENT
DTSTAMP:20260424T005441Z
DTSTART;TZID=Europe/Berlin:20260121T194500
DTEND;TZID=Europe/Berlin:20260121T224500
SUMMARY:HE 5. Liga Gr. 2 Ostermundigen X vs Regio Moossee III (6)
UID:b7112cde-92ed-43e5-aafa-1c656c310e2f
STATUS:CONFIRMED
LAST-MODIFIED:20260125T002330Z
DESCRIPTION:5. Liga Herren Gruppe 2\nBegegnungs-Nr: 6\nHeim: Ostermundigen X\nGast: Regio Moossee III\n\nAdresse: Dennigkofenweg 169\, 3072 Ostermundigen\n
LOCATION:Dennigkofenweg 169\, 3072 Ostermundigen
CATEGORIES:Saison 2025/26
END:VEVENT
BEGIN:VEVENT
DTSTAMP:20260424T005441Z
DTSTART;TZID=Europe/Berlin:20250903T194500
DTEND;TZID=Europe/Berlin:20250903T224500
SUMMARY:HE 5. Liga Gr. 2 Ostermundigen X vs Köniz IV (3)
UID:3a3c6aa5-d410-4aee-a495-92f6bdc97cc2
STATUS:CONFIRMED
LAST-MODIFIED:20250907T195502Z
DESCRIPTION:5. Liga Herren Gruppe 2\nBegegnungs-Nr: 3\nHeim: Ostermundigen X\nGast: Köniz IV\n\nAdresse: Dennigkofenweg 169\, 3072 Ostermundigen\n
LOCATION:Dennigkofenweg 169\, 3072 Ostermundigen
CATEGORIES:Saison 2025/26
END:VEVENT
BEGIN:VEVENT
DTSTAMP:20260424T005441Z
DTSTART;TZID=Europe/Berlin:20251215T200000
DTEND;TZID=Europe/Berlin:20251215T230000
SUMMARY:HE 5. Liga Gr. 2 Langnau IV vs Ostermundigen X (19)
UID:5bd8f66f-887a-4bf2-b133-2f7366682ffa
STATUS:CONFIRMED
LAST-MODIFIED:20251216T120828Z
DESCRIPTION:5. Liga Herren Gruppe 2\nBegegnungs-Nr: 19\nHeim: Langnau IV\nGast: Ostermundigen X\n\nAdresse: Bleicheweg 11\, 3550 Langnau\n
LOCATION:Bleicheweg 11\, 3550 Langnau
CATEGORIES:Saison 2025/26
END:VEVENT
BEGIN:VEVENT
DTSTAMP:20260424T005441Z
DTSTART;TZID=Europe/Berlin:20251110T200000
DTEND;TZID=Europe/Berlin:20251110T230000
SUMMARY:HE 5. Liga Gr. 2 Düdingen III vs Ostermundigen X (13)
UID:787505ea-da52-4088-ab8e-7c1b2f5d3a38
STATUS:CONFIRMED
LAST-MODIFIED:20251115T170905Z
DESCRIPTION:5. Liga Herren Gruppe 2\nBegegnungs-Nr: 13\nHeim: Düdingen III\nGast: Ostermundigen X\n\nAdresse: Alfons-Aeby-Strasse\, 3186 Düdingen\n
LOCATION:Alfons-Aeby-Strasse\, 3186 Düdingen
CATEGORIES:Saison 2025/26
END:VEVENT
BEGIN:VEVENT
DTSTAMP:20260424T005441Z
DTSTART;TZID=Europe/Berlin:20251030T194500
DTEND;TZID=Europe/Berlin:20251030T224500
SUMMARY:HE 5. Liga Gr. 2 Tiefenau II vs Ostermundigen X (12)
UID:58c54aec-48e1-4051-837a-3d3e216a2bf4
STATUS:CONFIRMED
LAST-MODIFIED:20251101T151152Z
DESCRIPTION:5. Liga Herren Gruppe 2\nBegegnungs-Nr: 12\nHeim: Tiefenau II\nGast: Ostermundigen X\n\nAdresse: Studerstrasse 56\, 3004 Bern\n
LOCATION:Studerstrasse 56\, 3004 Bern
CATEGORIES:Saison 2025/26
END:VEVENT
BEGIN:VEVENT
DTSTAMP:20260424T005441Z
DTSTART;TZID=Europe/Berlin:20260205T200000
DTEND;TZID=Europe/Berlin:20260205T230000
SUMMARY:HE 5. Liga Gr. 2 Bern XII vs Ostermundigen X (9)
UID:31a25dce-df70-4169-bbb4-3f89cbfaf194
STATUS:CONFIRMED
LAST-MODIFIED:20260217T212531Z
DESCRIPTION:5. Liga Herren Gruppe 2\nBegegnungs-Nr: 9\nHeim: Bern XII\nGast: Ostermundigen X\n\nAdresse: Mädergutstrasse 58\, 3018 Bern\n
LOCATION:Mädergutstrasse 58\, 3018 Bern
CATEGORIES:Saison 2025/26
END:VEVENT
BEGIN:VEVENT
DTSTAMP:20260424T005441Z
DTSTART;TZID=Europe/Berlin:20260116T200000
DTEND;TZID=Europe/Berlin:20260116T230000
SUMMARY:HE 5. Liga Gr. 2 Köniz IV vs Ostermundigen X (3)
UID:1cbc88bd-ce3b-435a-bd54-b1476fa8b756
STATUS:CONFIRMED
LAST-MODIFIED:20260125T002308Z
DESCRIPTION:5. Liga Herren Gruppe 2\nBegegnungs-Nr: 3\nHeim: Köniz IV\nGast: Ostermundigen X\n\nAdresse: Kirchstrasse 72-76\, 3084 Wabern\n
LOCATION:Kirchstrasse 72-76\, 3084 Wabern
CATEGORIES:Saison 2025/26
END:VEVENT
BEGIN:VEVENT
DTSTAMP:20260424T005441Z
DTSTART;TZID=Europe/Berlin:20250916T194500
DTEND;TZID=Europe/Berlin:20250916T224500
SUMMARY:HE 5. Liga Gr. 2 Regio Moossee III vs Ostermundigen X (6)
UID:4431deb3-4ad4-425c-827b-b31916920960
STATUS:CONFIRMED
LAST-MODIFIED:20250918T140543Z
DESCRIPTION:5. Liga Herren Gruppe 2\nBegegnungs-Nr: 6\nHeim: Regio Moossee III\nGast: Ostermundigen X\n\nAdresse: Schulhausstrasse 23-25\, 3302 Moosseedorf\n
LOCATION:Schulhausstrasse 23-25\, 3302 Moosseedorf
CATEGORIES:Saison 2025/26
END:VEVENT
END:VCALENDAR
