BEGIN:VCALENDAR
PRODID:-//nuDatenautomaten//framework iCal4j //DE
VERSION:2.0
CALSCALE:GREGORIAN
BEGIN:VTIMEZONE
TZID:Europe/Berlin
LAST-MODIFIED:20260306T231828Z
TZURL:https://www.tzurl.org/zoneinfo/Europe/Berlin
X-LIC-LOCATION:Europe/Berlin
X-PROLEPTIC-TZNAME:LMT
BEGIN:STANDARD
TZNAME:CET
TZOFFSETFROM:+005328
TZOFFSETTO:+0100
DTSTART:18930401T000000
END:STANDARD
BEGIN:DAYLIGHT
TZNAME:CEST
TZOFFSETFROM:+0100
TZOFFSETTO:+0200
DTSTART:19160430T230000
RDATE:19400401T020000
RDATE:19430329T020000
RDATE:19460414T020000
RDATE:19470406T030000
RDATE:19480418T020000
RDATE:19490410T020000
RDATE:19800406T020000
END:DAYLIGHT
BEGIN:STANDARD
TZNAME:CET
TZOFFSETFROM:+0200
TZOFFSETTO:+0100
DTSTART:19161001T010000
RDATE:19421102T030000
RDATE:19431004T030000
RDATE:19441002T030000
RDATE:19451118T030000
RDATE:19461007T030000
END:STANDARD
BEGIN:DAYLIGHT
TZNAME:CEST
TZOFFSETFROM:+0100
TZOFFSETTO:+0200
DTSTART:19170416T020000
RRULE:FREQ=YEARLY;UNTIL=19180415T010000Z;BYMONTH=4;BYDAY=3MO
END:DAYLIGHT
BEGIN:STANDARD
TZNAME:CET
TZOFFSETFROM:+0200
TZOFFSETTO:+0100
DTSTART:19170917T030000
RRULE:FREQ=YEARLY;UNTIL=19180916T010000Z;BYMONTH=9;BYDAY=3MO
END:STANDARD
BEGIN:DAYLIGHT
TZNAME:CEST
TZOFFSETFROM:+0100
TZOFFSETTO:+0200
DTSTART:19440403T020000
RRULE:FREQ=YEARLY;UNTIL=19450402T010000Z;BYMONTH=4;BYDAY=1MO
END:DAYLIGHT
BEGIN:DAYLIGHT
TZNAME:CEMT
TZOFFSETFROM:+0200
TZOFFSETTO:+0300
DTSTART:19450524T020000
RDATE:19470511T030000
END:DAYLIGHT
BEGIN:DAYLIGHT
TZNAME:CEST
TZOFFSETFROM:+0300
TZOFFSETTO:+0200
DTSTART:19450924T030000
RDATE:19470629T030000
END:DAYLIGHT
BEGIN:STANDARD
TZNAME:CET
TZOFFSETFROM:+0100
TZOFFSETTO:+0100
DTSTART:19460101T000000
RDATE:19800101T000000
END:STANDARD
BEGIN:STANDARD
TZNAME:CET
TZOFFSETFROM:+0200
TZOFFSETTO:+0100
DTSTART:19471005T030000
RRULE:FREQ=YEARLY;UNTIL=19491002T010000Z;BYMONTH=10;BYDAY=1SU
END:STANDARD
BEGIN:STANDARD
TZNAME:CET
TZOFFSETFROM:+0200
TZOFFSETTO:+0100
DTSTART:19800928T030000
RRULE:FREQ=YEARLY;UNTIL=19950924T010000Z;BYMONTH=9;BYDAY=-1SU
END:STANDARD
BEGIN:DAYLIGHT
TZNAME:CEST
TZOFFSETFROM:+0100
TZOFFSETTO:+0200
DTSTART:19810329T020000
RRULE:FREQ=YEARLY;BYMONTH=3;BYDAY=-1SU
END:DAYLIGHT
BEGIN:STANDARD
TZNAME:CET
TZOFFSETFROM:+0200
TZOFFSETTO:+0100
DTSTART:19961027T030000
RRULE:FREQ=YEARLY;BYMONTH=10;BYDAY=-1SU
END:STANDARD
END:VTIMEZONE
BEGIN:VEVENT
DTSTAMP:20260424T134203Z
DTSTART;TZID=Europe/Berlin:20250904T200000
DTEND;TZID=Europe/Berlin:20250904T230000
SUMMARY:ME L6 Gr 3\, Tours 1&2 Blonay IV vs Romont-Villaz IV (0)
UID:b71f2126-aa81-4cc3-9435-a3c8d5a2e2ac
STATUS:CONFIRMED
LAST-MODIFIED:20250904T215737Z
DESCRIPTION:6ème ligue Hommes Groupe 3\, Tours 1&2\nBegegnungs-Nr: 0\nHeim: Blonay IV\nGast: Romont-Villaz IV\n\nAdresse: Route de Prélaz 2\, 1807 Blonay\n
LOCATION:Route de Prélaz 2\, 1807 Blonay
CATEGORIES:Saison 2025/26
END:VEVENT
BEGIN:VEVENT
DTSTAMP:20260424T134203Z
DTSTART;TZID=Europe/Berlin:20250918T200000
DTEND;TZID=Europe/Berlin:20250918T230000
SUMMARY:ME L6 Gr 3\, Tours 1&2 Blonay IV vs Chexbres IV (0)
UID:ebd32f1c-4154-4ef5-86ce-8f2691fdb42f
STATUS:CONFIRMED
LAST-MODIFIED:20250919T205230Z
DESCRIPTION:6ème ligue Hommes Groupe 3\, Tours 1&2\nBegegnungs-Nr: 0\nHeim: Blonay IV\nGast: Chexbres IV\n\nAdresse: Route de Prélaz 2\, 1807 Blonay\n
LOCATION:Route de Prélaz 2\, 1807 Blonay
CATEGORIES:Saison 2025/26
END:VEVENT
BEGIN:VEVENT
DTSTAMP:20260424T134203Z
DTSTART;TZID=Europe/Berlin:20251106T200000
DTEND;TZID=Europe/Berlin:20251106T230000
SUMMARY:ME L6 Gr 3\, Tours 1&2 Blonay IV vs Bulle VII (0)
UID:29a34460-5662-42db-be80-070f894c958b
STATUS:CONFIRMED
LAST-MODIFIED:20251109T122836Z
DESCRIPTION:6ème ligue Hommes Groupe 3\, Tours 1&2\nBegegnungs-Nr: 0\nHeim: Blonay IV\nGast: Bulle VII\n\nAdresse: Route de Prélaz 2\, 1807 Blonay\n
LOCATION:Route de Prélaz 2\, 1807 Blonay
CATEGORIES:Saison 2025/26
END:VEVENT
BEGIN:VEVENT
DTSTAMP:20260424T134203Z
DTSTART;TZID=Europe/Berlin:20250827T200000
DTEND;TZID=Europe/Berlin:20250827T230000
SUMMARY:ME L6 Gr 3\, Tours 1&2 Blonay IV vs Vevey III (0)
UID:417a3f40-b7b7-4142-a5e5-f35f0929ac84
STATUS:CONFIRMED
LAST-MODIFIED:20250828T195846Z
DESCRIPTION:6ème ligue Hommes Groupe 3\, Tours 1&2\nBegegnungs-Nr: 0\nHeim: Blonay IV\nGast: Vevey III\n\nAdresse: Route de Prélaz 2\, 1807 Blonay\n
LOCATION:Route de Prélaz 2\, 1807 Blonay
CATEGORIES:Saison 2025/26
END:VEVENT
BEGIN:VEVENT
DTSTAMP:20260424T134203Z
DTSTART;TZID=Europe/Berlin:20251211T200000
DTEND;TZID=Europe/Berlin:20251211T230000
SUMMARY:ME L6 Gr 3\, Tours 1&2 Blonay IV vs Château d'Oex (0)
UID:5bea4dcc-6242-4ce9-ac6f-e799851cae27
STATUS:CONFIRMED
LAST-MODIFIED:20251213T095157Z
DESCRIPTION:6ème ligue Hommes Groupe 3\, Tours 1&2\nBegegnungs-Nr: 0\nHeim: Blonay IV\nGast: Château d'Oex\n\nAdresse: Route de Prélaz 2\, 1807 Blonay\n
LOCATION:Route de Prélaz 2\, 1807 Blonay
CATEGORIES:Saison 2025/26
END:VEVENT
BEGIN:VEVENT
DTSTAMP:20260424T134203Z
DTSTART;TZID=Europe/Berlin:20260430T200000
DTEND;TZID=Europe/Berlin:20260430T230000
SUMMARY:ME L6 Gr 6\, Tours 3&4 Blonay IV vs Pully II (0)
UID:cb35a507-bac5-465e-8411-91915ed3da37
STATUS:CONFIRMED
LAST-MODIFIED:20260105T173030Z
DESCRIPTION:6ème ligue Hommes Groupe 6\, Tours 3&4\nBegegnungs-Nr: 0\nHeim: Blonay IV\nGast: Pully II\n\nAdresse: Route de Prélaz 2\, 1807 Blonay\n
LOCATION:Route de Prélaz 2\, 1807 Blonay
CATEGORIES:Saison 2025/26
END:VEVENT
BEGIN:VEVENT
DTSTAMP:20260424T134203Z
DTSTART;TZID=Europe/Berlin:20260326T200000
DTEND;TZID=Europe/Berlin:20260326T230000
SUMMARY:ME L6 Gr 6\, Tours 3&4 Blonay IV vs Chexbres IV (0)
UID:9544970e-9462-4f32-8865-74fd722af761
STATUS:CONFIRMED
LAST-MODIFIED:20260327T193418Z
DESCRIPTION:6ème ligue Hommes Groupe 6\, Tours 3&4\nBegegnungs-Nr: 0\nHeim: Blonay IV\nGast: Chexbres IV\n\nAdresse: Route de Prélaz 2\, 1807 Blonay\n
LOCATION:Route de Prélaz 2\, 1807 Blonay
CATEGORIES:Saison 2025/26
END:VEVENT
BEGIN:VEVENT
DTSTAMP:20260424T134203Z
DTSTART;TZID=Europe/Berlin:20260115T200000
DTEND;TZID=Europe/Berlin:20260115T230000
SUMMARY:ME L6 Gr 6\, Tours 3&4 Blonay IV vs Romanel V (0)
UID:35a180cb-e961-4cd7-80f8-c5da3458e27c
STATUS:CONFIRMED
LAST-MODIFIED:20260116T194258Z
DESCRIPTION:6ème ligue Hommes Groupe 6\, Tours 3&4\nBegegnungs-Nr: 0\nHeim: Blonay IV\nGast: Romanel V\n\nAdresse: Route de Prélaz 2\, 1807 Blonay\n
LOCATION:Route de Prélaz 2\, 1807 Blonay
CATEGORIES:Saison 2025/26
END:VEVENT
BEGIN:VEVENT
DTSTAMP:20260424T134203Z
DTSTART;TZID=Europe/Berlin:20260219T200000
DTEND;TZID=Europe/Berlin:20260219T230000
SUMMARY:ME L6 Gr 6\, Tours 3&4 Blonay IV vs Lausanne XV (0)
UID:920885fc-9605-4a9e-a27f-baf371338796
STATUS:CONFIRMED
LAST-MODIFIED:20260220T155205Z
DESCRIPTION:6ème ligue Hommes Groupe 6\, Tours 3&4\nBegegnungs-Nr: 0\nHeim: Blonay IV\nGast: Lausanne XV\n\nAdresse: Route de Prélaz 2\, 1807 Blonay\n
LOCATION:Route de Prélaz 2\, 1807 Blonay
CATEGORIES:Saison 2025/26
END:VEVENT
BEGIN:VEVENT
DTSTAMP:20260424T134203Z
DTSTART;TZID=Europe/Berlin:20260319T200000
DTEND;TZID=Europe/Berlin:20260319T230000
SUMMARY:ME L6 Gr 6\, Tours 3&4 Blonay IV vs Lausanne XVI (0)
UID:65eb783a-c59c-4c98-a557-f3c9120e0ac6
STATUS:CONFIRMED
LAST-MODIFIED:20260321T102842Z
DESCRIPTION:6ème ligue Hommes Groupe 6\, Tours 3&4\nBegegnungs-Nr: 0\nHeim: Blonay IV\nGast: Lausanne XVI\n\nAdresse: Route de Prélaz 2\, 1807 Blonay\n
LOCATION:Route de Prélaz 2\, 1807 Blonay
CATEGORIES:Saison 2025/26
END:VEVENT
BEGIN:VEVENT
DTSTAMP:20260424T134203Z
DTSTART;TZID=Europe/Berlin:20250912T200000
DTEND;TZID=Europe/Berlin:20250912T230000
SUMMARY:ME L6 Gr 3\, Tours 1&2 Bulle VII vs Blonay IV (0)
UID:1d687dc5-02b2-43a1-b4fe-973aefbe579c
STATUS:CONFIRMED
LAST-MODIFIED:20250914T140458Z
DESCRIPTION:6ème ligue Hommes Groupe 3\, Tours 1&2\nBegegnungs-Nr: 0\nHeim: Bulle VII\nGast: Blonay IV\n\nAdresse: Rue du Stade 50\, 1630 Bulle\n
LOCATION:Rue du Stade 50\, 1630 Bulle
CATEGORIES:Saison 2025/26
END:VEVENT
BEGIN:VEVENT
DTSTAMP:20260424T134203Z
DTSTART;TZID=Europe/Berlin:20250929T200000
DTEND;TZID=Europe/Berlin:20250929T230000
SUMMARY:ME L6 Gr 3\, Tours 1&2 Vevey III vs Blonay IV (0)
UID:0a289994-1e9e-408b-89f3-195d72e1b49f
STATUS:CONFIRMED
LAST-MODIFIED:20251001T172657Z
DESCRIPTION:6ème ligue Hommes Groupe 3\, Tours 1&2\nBegegnungs-Nr: 0\nHeim: Vevey III\nGast: Blonay IV\n\nAdresse: Rue Louis-Meyer\, 1800 Vevey\n
LOCATION:Rue Louis-Meyer\, 1800 Vevey
CATEGORIES:Saison 2025/26
END:VEVENT
BEGIN:VEVENT
DTSTAMP:20260424T134203Z
DTSTART;TZID=Europe/Berlin:20251009T194500
DTEND;TZID=Europe/Berlin:20251009T224500
SUMMARY:ME L6 Gr 3\, Tours 1&2 Château d'Oex vs Blonay IV (0)
UID:69a9f712-feab-4e44-a505-68c07b50d754
STATUS:CONFIRMED
LAST-MODIFIED:20251011T112428Z
DESCRIPTION:6ème ligue Hommes Groupe 3\, Tours 1&2\nBegegnungs-Nr: 0\nHeim: Château d'Oex\nGast: Blonay IV\n\nAdresse: rte du Périsset 7\, 1660 Château d'Oex\n
LOCATION:rte du Périsset 7\, 1660 Château d'Oex
CATEGORIES:Saison 2025/26
END:VEVENT
BEGIN:VEVENT
DTSTAMP:20260424T134203Z
DTSTART;TZID=Europe/Berlin:20251028T193000
DTEND;TZID=Europe/Berlin:20251028T223000
SUMMARY:ME L6 Gr 3\, Tours 1&2 Romont-Villaz IV vs Blonay IV (0)
UID:161ae8e2-accb-4dd5-b812-0cab9ff23ed2
STATUS:CONFIRMED
LAST-MODIFIED:20251030T105955Z
DESCRIPTION:6ème ligue Hommes Groupe 3\, Tours 1&2\nBegegnungs-Nr: 0\nHeim: Romont-Villaz IV\nGast: Blonay IV\n\nAdresse: Route de la Gare 5\, 1690 Villaz-St-Pierre\n
LOCATION:Route de la Gare 5\, 1690 Villaz-St-Pierre
CATEGORIES:Saison 2025/26
END:VEVENT
BEGIN:VEVENT
DTSTAMP:20260424T134203Z
DTSTART;TZID=Europe/Berlin:20251117T193000
DTEND;TZID=Europe/Berlin:20251117T223000
SUMMARY:ME L6 Gr 3\, Tours 1&2 Chexbres IV vs Blonay IV (0)
UID:3cdc3f68-338d-42d2-a030-b8edcf47b0a6
STATUS:CONFIRMED
LAST-MODIFIED:20251119T171544Z
DESCRIPTION:6ème ligue Hommes Groupe 3\, Tours 1&2\nBegegnungs-Nr: 0\nHeim: Chexbres IV\nGast: Blonay IV\n\nAdresse: Entre Deux Villes\, 1814 La Tour-de-Peilz\n
LOCATION:Entre Deux Villes\, 1814 La Tour-de-Peilz
CATEGORIES:Saison 2025/26
END:VEVENT
BEGIN:VEVENT
DTSTAMP:20260424T134203Z
DTSTART;TZID=Europe/Berlin:20260425T110000
DTEND;TZID=Europe/Berlin:20260425T140000
SUMMARY:ME L6 Gr 6\, Tours 3&4 Lausanne XV vs Blonay IV (0)
UID:d618c238-a3da-4fa2-9c7b-3352c4c0b4ab
STATUS:CONFIRMED
DESCRIPTION:6ème ligue Hommes Groupe 6\, Tours 3&4\nBegegnungs-Nr: 0\nHeim: Lausanne XV\nGast: Blonay IV\n\nAdresse: Vaudoise Aréna\, Ch. du Viaduc 14\, 1008 Prilly\n
LOCATION:Vaudoise Aréna\, Ch. du Viaduc 14\, 1008 Prilly
CATEGORIES:Saison 2025/26
END:VEVENT
BEGIN:VEVENT
DTSTAMP:20260424T134203Z
DTSTART;TZID=Europe/Berlin:20260123T193000
DTEND;TZID=Europe/Berlin:20260123T223000
SUMMARY:ME L6 Gr 6\, Tours 3&4 Lausanne XVI vs Blonay IV (0)
UID:84667cb0-2689-49c3-ae8a-0757f081c8c8
STATUS:CONFIRMED
LAST-MODIFIED:20260128T205508Z
DESCRIPTION:6ème ligue Hommes Groupe 6\, Tours 3&4\nBegegnungs-Nr: 0\nHeim: Lausanne XVI\nGast: Blonay IV\n\nAdresse: Vaudoise Aréna\, Ch. du Viaduc 14\, 1008 Prilly\n
LOCATION:Vaudoise Aréna\, Ch. du Viaduc 14\, 1008 Prilly
CATEGORIES:Saison 2025/26
END:VEVENT
BEGIN:VEVENT
DTSTAMP:20260424T134203Z
DTSTART;TZID=Europe/Berlin:20260202T193000
DTEND;TZID=Europe/Berlin:20260202T223000
SUMMARY:ME L6 Gr 6\, Tours 3&4 Chexbres IV vs Blonay IV (0)
UID:257b024f-f611-4d70-8da7-ec1253c40b91
STATUS:CONFIRMED
LAST-MODIFIED:20260203T175444Z
DESCRIPTION:6ème ligue Hommes Groupe 6\, Tours 3&4\nBegegnungs-Nr: 0\nHeim: Chexbres IV\nGast: Blonay IV\n\nAdresse: Entre Deux Villes\, 1814 La Tour-de-Peilz\n
LOCATION:Entre Deux Villes\, 1814 La Tour-de-Peilz
CATEGORIES:Saison 2025/26
END:VEVENT
BEGIN:VEVENT
DTSTAMP:20260424T134203Z
DTSTART;TZID=Europe/Berlin:20260129T193000
DTEND;TZID=Europe/Berlin:20260129T223000
SUMMARY:ME L6 Gr 6\, Tours 3&4 Pully II vs Blonay IV (0)
UID:84a5e91e-4ed3-432f-93d4-2af14fbaf1c5
STATUS:CONFIRMED
LAST-MODIFIED:20260130T173049Z
DESCRIPTION:6ème ligue Hommes Groupe 6\, Tours 3&4\nBegegnungs-Nr: 0\nHeim: Pully II\nGast: Blonay IV\n\nAdresse: Av. de Belmont 4\, 1009 Pully\n
LOCATION:Av. de Belmont 4\, 1009 Pully
CATEGORIES:Saison 2025/26
END:VEVENT
BEGIN:VEVENT
DTSTAMP:20260424T134203Z
DTSTART;TZID=Europe/Berlin:20260303T193000
DTEND;TZID=Europe/Berlin:20260303T223000
SUMMARY:ME L6 Gr 6\, Tours 3&4 Romanel V vs Blonay IV (0)
UID:faf5e563-b165-4da5-8c5c-324fb642e0a9
STATUS:CONFIRMED
LAST-MODIFIED:20260304T081651Z
DESCRIPTION:6ème ligue Hommes Groupe 6\, Tours 3&4\nBegegnungs-Nr: 0\nHeim: Romanel V\nGast: Blonay IV\n\nAdresse: Ch des Epinettes 1\, 1032 Romanel-sur-Lausanne\n
LOCATION:Ch des Epinettes 1\, 1032 Romanel-sur-Lausanne
CATEGORIES:Saison 2025/26
END:VEVENT
END:VCALENDAR
