BEGIN:VCALENDAR
PRODID:-//nuDatenautomaten//framework iCal4j //DE
VERSION:2.0
CALSCALE:GREGORIAN
BEGIN:VTIMEZONE
TZID:Europe/Berlin
LAST-MODIFIED:20260306T231828Z
TZURL:https://www.tzurl.org/zoneinfo/Europe/Berlin
X-LIC-LOCATION:Europe/Berlin
X-PROLEPTIC-TZNAME:LMT
BEGIN:STANDARD
TZNAME:CET
TZOFFSETFROM:+005328
TZOFFSETTO:+0100
DTSTART:18930401T000000
END:STANDARD
BEGIN:DAYLIGHT
TZNAME:CEST
TZOFFSETFROM:+0100
TZOFFSETTO:+0200
DTSTART:19160430T230000
RDATE:19400401T020000
RDATE:19430329T020000
RDATE:19460414T020000
RDATE:19470406T030000
RDATE:19480418T020000
RDATE:19490410T020000
RDATE:19800406T020000
END:DAYLIGHT
BEGIN:STANDARD
TZNAME:CET
TZOFFSETFROM:+0200
TZOFFSETTO:+0100
DTSTART:19161001T010000
RDATE:19421102T030000
RDATE:19431004T030000
RDATE:19441002T030000
RDATE:19451118T030000
RDATE:19461007T030000
END:STANDARD
BEGIN:DAYLIGHT
TZNAME:CEST
TZOFFSETFROM:+0100
TZOFFSETTO:+0200
DTSTART:19170416T020000
RRULE:FREQ=YEARLY;UNTIL=19180415T010000Z;BYMONTH=4;BYDAY=3MO
END:DAYLIGHT
BEGIN:STANDARD
TZNAME:CET
TZOFFSETFROM:+0200
TZOFFSETTO:+0100
DTSTART:19170917T030000
RRULE:FREQ=YEARLY;UNTIL=19180916T010000Z;BYMONTH=9;BYDAY=3MO
END:STANDARD
BEGIN:DAYLIGHT
TZNAME:CEST
TZOFFSETFROM:+0100
TZOFFSETTO:+0200
DTSTART:19440403T020000
RRULE:FREQ=YEARLY;UNTIL=19450402T010000Z;BYMONTH=4;BYDAY=1MO
END:DAYLIGHT
BEGIN:DAYLIGHT
TZNAME:CEMT
TZOFFSETFROM:+0200
TZOFFSETTO:+0300
DTSTART:19450524T020000
RDATE:19470511T030000
END:DAYLIGHT
BEGIN:DAYLIGHT
TZNAME:CEST
TZOFFSETFROM:+0300
TZOFFSETTO:+0200
DTSTART:19450924T030000
RDATE:19470629T030000
END:DAYLIGHT
BEGIN:STANDARD
TZNAME:CET
TZOFFSETFROM:+0100
TZOFFSETTO:+0100
DTSTART:19460101T000000
RDATE:19800101T000000
END:STANDARD
BEGIN:STANDARD
TZNAME:CET
TZOFFSETFROM:+0200
TZOFFSETTO:+0100
DTSTART:19471005T030000
RRULE:FREQ=YEARLY;UNTIL=19491002T010000Z;BYMONTH=10;BYDAY=1SU
END:STANDARD
BEGIN:STANDARD
TZNAME:CET
TZOFFSETFROM:+0200
TZOFFSETTO:+0100
DTSTART:19800928T030000
RRULE:FREQ=YEARLY;UNTIL=19950924T010000Z;BYMONTH=9;BYDAY=-1SU
END:STANDARD
BEGIN:DAYLIGHT
TZNAME:CEST
TZOFFSETFROM:+0100
TZOFFSETTO:+0200
DTSTART:19810329T020000
RRULE:FREQ=YEARLY;BYMONTH=3;BYDAY=-1SU
END:DAYLIGHT
BEGIN:STANDARD
TZNAME:CET
TZOFFSETFROM:+0200
TZOFFSETTO:+0100
DTSTART:19961027T030000
RRULE:FREQ=YEARLY;BYMONTH=10;BYDAY=-1SU
END:STANDARD
END:VTIMEZONE
BEGIN:VEVENT
DTSTAMP:20260424T043559Z
DTSTART;TZID=Europe/Berlin:20250908T200000
DTEND;TZID=Europe/Berlin:20250908T230000
SUMMARY:ME L6 Gr 6\, Tours 1&2 Matran III vs Avry-Rosé V (0)
UID:6772e5ce-7fa5-47fa-95d0-533617b12df6
STATUS:CONFIRMED
LAST-MODIFIED:20250910T231247Z
DESCRIPTION:6ème ligue Hommes Groupe 6\, Tours 1&2\nBegegnungs-Nr: 0\nHeim: Matran III\nGast: Avry-Rosé V\n\nAdresse: Route de l'Ecole\, 1753 Matran\n
LOCATION:Route de l'Ecole\, 1753 Matran
CATEGORIES:Saison 2025/26
END:VEVENT
BEGIN:VEVENT
DTSTAMP:20260424T043559Z
DTSTART;TZID=Europe/Berlin:20250915T200000
DTEND;TZID=Europe/Berlin:20250915T230000
SUMMARY:ME L6 Gr 6\, Tours 1&2 Matran III vs Marly III (0)
UID:bdb7bd53-0af3-4ec7-b88c-51be0bf9e101
STATUS:CONFIRMED
LAST-MODIFIED:20250916T220936Z
DESCRIPTION:6ème ligue Hommes Groupe 6\, Tours 1&2\nBegegnungs-Nr: 0\nHeim: Matran III\nGast: Marly III\n\nAdresse: Route de l'Ecole\, 1753 Matran\n
LOCATION:Route de l'Ecole\, 1753 Matran
CATEGORIES:Saison 2025/26
END:VEVENT
BEGIN:VEVENT
DTSTAMP:20260424T043559Z
DTSTART;TZID=Europe/Berlin:20251027T200000
DTEND;TZID=Europe/Berlin:20251027T230000
SUMMARY:ME L6 Gr 6\, Tours 1&2 Matran III vs Rossens VI (0)
UID:5d36644a-dace-4e1c-9dac-0e9a15321d99
STATUS:CONFIRMED
LAST-MODIFIED:20251030T110005Z
DESCRIPTION:6ème ligue Hommes Groupe 6\, Tours 1&2\nBegegnungs-Nr: 0\nHeim: Matran III\nGast: Rossens VI\n\nAdresse: Route de l'Ecole\, 1753 Matran\n
LOCATION:Route de l'Ecole\, 1753 Matran
CATEGORIES:Saison 2025/26
END:VEVENT
BEGIN:VEVENT
DTSTAMP:20260424T043559Z
DTSTART;TZID=Europe/Berlin:20251124T200000
DTEND;TZID=Europe/Berlin:20251124T230000
SUMMARY:ME L6 Gr 6\, Tours 1&2 Matran III vs Avry-Rosé VII (0)
UID:868c34cc-ca9e-40ba-8e0b-320af5d55040
STATUS:CONFIRMED
LAST-MODIFIED:20251125T150639Z
DESCRIPTION:6ème ligue Hommes Groupe 6\, Tours 1&2\nBegegnungs-Nr: 0\nHeim: Matran III\nGast: Avry-Rosé VII\n\nAdresse: Route de l'Ecole\, 1753 Matran\n
LOCATION:Route de l'Ecole\, 1753 Matran
CATEGORIES:Saison 2025/26
END:VEVENT
BEGIN:VEVENT
DTSTAMP:20260424T043559Z
DTSTART;TZID=Europe/Berlin:20251110T200000
DTEND;TZID=Europe/Berlin:20251110T230000
SUMMARY:ME L6 Gr 6\, Tours 1&2 Matran III vs Fribourg X (0)
UID:f82b3f40-ed31-4e14-b041-e7181ebd3117
STATUS:CONFIRMED
LAST-MODIFIED:20251112T220354Z
DESCRIPTION:6ème ligue Hommes Groupe 6\, Tours 1&2\nBegegnungs-Nr: 0\nHeim: Matran III\nGast: Fribourg X\n\nAdresse: Route de l'Ecole\, 1753 Matran\n
LOCATION:Route de l'Ecole\, 1753 Matran
CATEGORIES:Saison 2025/26
END:VEVENT
BEGIN:VEVENT
DTSTAMP:20260424T043559Z
DTSTART;TZID=Europe/Berlin:20260316T200000
DTEND;TZID=Europe/Berlin:20260316T230000
SUMMARY:ME L6 Gr 5\, Tours 3&4 Matran III vs Fribourg X (0)
UID:692cca56-dc70-4139-9163-a748d32d00ad
STATUS:CONFIRMED
LAST-MODIFIED:20260317T111422Z
DESCRIPTION:6ème ligue Hommes Groupe 5\, Tours 3&4\nBegegnungs-Nr: 0\nHeim: Matran III\nGast: Fribourg X\n\nAdresse: Route de l'Ecole\, 1753 Matran\n
LOCATION:Route de l'Ecole\, 1753 Matran
CATEGORIES:Saison 2025/26
END:VEVENT
BEGIN:VEVENT
DTSTAMP:20260424T043559Z
DTSTART;TZID=Europe/Berlin:20260423T200000
DTEND;TZID=Europe/Berlin:20260423T230000
SUMMARY:ME L6 Gr 5\, Tours 3&4 Matran III vs Marly (0)
UID:b6d6fba7-d637-4d4a-9978-5f7897b939b9
STATUS:CONFIRMED
LAST-MODIFIED:20260417T202401Z
DESCRIPTION:6ème ligue Hommes Groupe 5\, Tours 3&4\nBegegnungs-Nr: 0\nHeim: Matran III\nGast: Marly\n\nAdresse: Route de l'Ecole\, 1753 Matran\n
LOCATION:Route de l'Ecole\, 1753 Matran
CATEGORIES:Saison 2025/26
END:VEVENT
BEGIN:VEVENT
DTSTAMP:20260424T043559Z
DTSTART;TZID=Europe/Berlin:20260112T200000
DTEND;TZID=Europe/Berlin:20260112T230000
SUMMARY:ME L6 Gr 5\, Tours 3&4 Matran III vs Avry-Rosé VII (0)
UID:99f198d8-367f-49e8-9129-bd054aa9cea6
STATUS:CONFIRMED
LAST-MODIFIED:20260113T095119Z
DESCRIPTION:6ème ligue Hommes Groupe 5\, Tours 3&4\nBegegnungs-Nr: 0\nHeim: Matran III\nGast: Avry-Rosé VII\n\nAdresse: Route de l'Ecole\, 1753 Matran\n
LOCATION:Route de l'Ecole\, 1753 Matran
CATEGORIES:Saison 2025/26
END:VEVENT
BEGIN:VEVENT
DTSTAMP:20260424T043559Z
DTSTART;TZID=Europe/Berlin:20260202T200000
DTEND;TZID=Europe/Berlin:20260202T230000
SUMMARY:ME L6 Gr 5\, Tours 3&4 Matran III vs Fribourg XI (0)
UID:23008b28-12eb-4590-9203-c3f79d840a09
STATUS:CONFIRMED
LAST-MODIFIED:20260203T175436Z
DESCRIPTION:6ème ligue Hommes Groupe 5\, Tours 3&4\nBegegnungs-Nr: 0\nHeim: Matran III\nGast: Fribourg XI\n\nAdresse: Route de l'Ecole\, 1753 Matran\n
LOCATION:Route de l'Ecole\, 1753 Matran
CATEGORIES:Saison 2025/26
END:VEVENT
BEGIN:VEVENT
DTSTAMP:20260424T043559Z
DTSTART;TZID=Europe/Berlin:20260223T200000
DTEND;TZID=Europe/Berlin:20260223T230000
SUMMARY:ME L6 Gr 5\, Tours 3&4 Matran III vs Marly III (0)
UID:6740e234-a123-40b8-83a4-64b9650e03f4
STATUS:CONFIRMED
LAST-MODIFIED:20260225T225052Z
DESCRIPTION:6ème ligue Hommes Groupe 5\, Tours 3&4\nBegegnungs-Nr: 0\nHeim: Matran III\nGast: Marly III\n\nAdresse: Route de l'Ecole\, 1753 Matran\n
LOCATION:Route de l'Ecole\, 1753 Matran
CATEGORIES:Saison 2025/26
END:VEVENT
BEGIN:VEVENT
DTSTAMP:20260424T043559Z
DTSTART;TZID=Europe/Berlin:20250902T200000
DTEND;TZID=Europe/Berlin:20250902T230000
SUMMARY:ME L6 Gr 6\, Tours 1&2 Rossens VI vs Matran III (0)
UID:58617c47-a017-47c0-99bc-5b991eec1f77
STATUS:CONFIRMED
LAST-MODIFIED:20250903T213237Z
DESCRIPTION:6ème ligue Hommes Groupe 6\, Tours 1&2\nBegegnungs-Nr: 0\nHeim: Rossens VI\nGast: Matran III\n\nAdresse: Route du Jordil 14\, 1728 Rossens\n
LOCATION:Route du Jordil 14\, 1728 Rossens
CATEGORIES:Saison 2025/26
END:VEVENT
BEGIN:VEVENT
DTSTAMP:20260424T043559Z
DTSTART;TZID=Europe/Berlin:20251003T193000
DTEND;TZID=Europe/Berlin:20251003T223000
SUMMARY:ME L6 Gr 6\, Tours 1&2 Avry-Rosé VII vs Matran III (0)
UID:ffab5cf9-bf65-46e6-b1bc-865a80b49ca5
STATUS:CONFIRMED
LAST-MODIFIED:20251013T195306Z
DESCRIPTION:6ème ligue Hommes Groupe 6\, Tours 1&2\nBegegnungs-Nr: 0\nHeim: Avry-Rosé VII\nGast: Matran III\n\nAdresse: Route du Château 15\, 1754 Avry-sur-Matran\n
LOCATION:Route du Château 15\, 1754 Avry-sur-Matran
CATEGORIES:Saison 2025/26
END:VEVENT
BEGIN:VEVENT
DTSTAMP:20260424T043559Z
DTSTART;TZID=Europe/Berlin:20251010T191500
DTEND;TZID=Europe/Berlin:20251010T221500
SUMMARY:ME L6 Gr 6\, Tours 1&2 Fribourg X vs Matran III (0)
UID:8db4fe08-8c34-48bf-a329-75216e8d5408
STATUS:CONFIRMED
LAST-MODIFIED:20251013T194926Z
DESCRIPTION:6ème ligue Hommes Groupe 6\, Tours 1&2\nBegegnungs-Nr: 0\nHeim: Fribourg X\nGast: Matran III\n\nAdresse: Avenue Général Guisan 61\, 1700 Fribourg\n
LOCATION:Avenue Général Guisan 61\, 1700 Fribourg
CATEGORIES:Saison 2025/26
END:VEVENT
BEGIN:VEVENT
DTSTAMP:20260424T043559Z
DTSTART;TZID=Europe/Berlin:20251104T200000
DTEND;TZID=Europe/Berlin:20251104T230000
SUMMARY:ME L6 Gr 6\, Tours 1&2 Avry-Rosé V vs Matran III (0)
UID:eccca01f-ecab-471e-a095-6ccbd35fae8f
STATUS:CONFIRMED
LAST-MODIFIED:20251104T233648Z
DESCRIPTION:6ème ligue Hommes Groupe 6\, Tours 1&2\nBegegnungs-Nr: 0\nHeim: Avry-Rosé V\nGast: Matran III\n\nAdresse: Route du Château 15\, 1754 Avry-sur-Matran\n
LOCATION:Route du Château 15\, 1754 Avry-sur-Matran
CATEGORIES:Saison 2025/26
END:VEVENT
BEGIN:VEVENT
DTSTAMP:20260424T043559Z
DTSTART;TZID=Europe/Berlin:20251118T193000
DTEND;TZID=Europe/Berlin:20251118T223000
SUMMARY:ME L6 Gr 6\, Tours 1&2 Marly III vs Matran III (0)
UID:c0b065fc-250f-4374-873d-638af31ab943
STATUS:CONFIRMED
LAST-MODIFIED:20251119T171355Z
DESCRIPTION:6ème ligue Hommes Groupe 6\, Tours 1&2\nBegegnungs-Nr: 0\nHeim: Marly III\nGast: Matran III\n\nAdresse: Grand Pré - Rte des Ecoles\, 1723 Marly\n
LOCATION:Grand Pré - Rte des Ecoles\, 1723 Marly
CATEGORIES:Saison 2025/26
END:VEVENT
BEGIN:VEVENT
DTSTAMP:20260424T043559Z
DTSTART;TZID=Europe/Berlin:20260312T193000
DTEND;TZID=Europe/Berlin:20260312T223000
SUMMARY:ME L6 Gr 5\, Tours 3&4 Avry-Rosé VII vs Matran III (0)
UID:064b70af-e219-4138-9168-60676d546b59
STATUS:CONFIRMED
LAST-MODIFIED:20260315T145105Z
DESCRIPTION:6ème ligue Hommes Groupe 5\, Tours 3&4\nBegegnungs-Nr: 0\nHeim: Avry-Rosé VII\nGast: Matran III\n\nAdresse: Route du Château 15\, 1754 Avry-sur-Matran\n
LOCATION:Route du Château 15\, 1754 Avry-sur-Matran
CATEGORIES:Saison 2025/26
END:VEVENT
BEGIN:VEVENT
DTSTAMP:20260424T043559Z
DTSTART;TZID=Europe/Berlin:20260326T193000
DTEND;TZID=Europe/Berlin:20260326T223000
SUMMARY:ME L6 Gr 5\, Tours 3&4 Fribourg XI vs Matran III (0)
UID:dac263a4-be04-470a-bbf8-d602e46fd153
STATUS:CONFIRMED
LAST-MODIFIED:20260330T184751Z
DESCRIPTION:6ème ligue Hommes Groupe 5\, Tours 3&4\nBegegnungs-Nr: 0\nHeim: Fribourg XI\nGast: Matran III\n\nAdresse: Avenue Général Guisan 61\, 1700 Fribourg\n
LOCATION:Avenue Général Guisan 61\, 1700 Fribourg
CATEGORIES:Saison 2025/26
END:VEVENT
BEGIN:VEVENT
DTSTAMP:20260424T043559Z
DTSTART;TZID=Europe/Berlin:20260428T193000
DTEND;TZID=Europe/Berlin:20260428T223000
SUMMARY:ME L6 Gr 5\, Tours 3&4 Marly III vs Matran III (0)
UID:95748adf-9c46-4c68-8156-3ba925f59b63
STATUS:CONFIRMED
DESCRIPTION:6ème ligue Hommes Groupe 5\, Tours 3&4\nBegegnungs-Nr: 0\nHeim: Marly III\nGast: Matran III\n\nAdresse: Grand Pré - Rte des Ecoles\, 1723 Marly\n
LOCATION:Grand Pré - Rte des Ecoles\, 1723 Marly
CATEGORIES:Saison 2025/26
END:VEVENT
BEGIN:VEVENT
DTSTAMP:20260424T043559Z
DTSTART;TZID=Europe/Berlin:20260130T191500
DTEND;TZID=Europe/Berlin:20260130T221500
SUMMARY:ME L6 Gr 5\, Tours 3&4 Fribourg X vs Matran III (0)
UID:276c6630-7c87-433a-b2d0-014abb50d0e5
STATUS:CONFIRMED
LAST-MODIFIED:20260212T124535Z
DESCRIPTION:6ème ligue Hommes Groupe 5\, Tours 3&4\nBegegnungs-Nr: 0\nHeim: Fribourg X\nGast: Matran III\n\nAdresse: Avenue Général Guisan 61\, 1700 Fribourg\n
LOCATION:Avenue Général Guisan 61\, 1700 Fribourg
CATEGORIES:Saison 2025/26
END:VEVENT
BEGIN:VEVENT
DTSTAMP:20260424T043559Z
DTSTART;TZID=Europe/Berlin:20260224T193000
DTEND;TZID=Europe/Berlin:20260224T223000
SUMMARY:ME L6 Gr 5\, Tours 3&4 Marly vs Matran III (0)
UID:eeb99507-c2fd-4457-859a-f75b466b8009
STATUS:CONFIRMED
LAST-MODIFIED:20260225T225101Z
DESCRIPTION:6ème ligue Hommes Groupe 5\, Tours 3&4\nBegegnungs-Nr: 0\nHeim: Marly\nGast: Matran III\n\nAdresse: Grand Pré - Rte des Ecoles\, 1723 Marly\n
LOCATION:Grand Pré - Rte des Ecoles\, 1723 Marly
CATEGORIES:Saison 2025/26
END:VEVENT
END:VCALENDAR
