BEGIN:VCALENDAR
PRODID:-//nuDatenautomaten//framework iCal4j //DE
VERSION:2.0
CALSCALE:GREGORIAN
BEGIN:VTIMEZONE
TZID:Europe/Berlin
LAST-MODIFIED:20260306T231828Z
TZURL:https://www.tzurl.org/zoneinfo/Europe/Berlin
X-LIC-LOCATION:Europe/Berlin
X-PROLEPTIC-TZNAME:LMT
BEGIN:STANDARD
TZNAME:CET
TZOFFSETFROM:+005328
TZOFFSETTO:+0100
DTSTART:18930401T000000
END:STANDARD
BEGIN:DAYLIGHT
TZNAME:CEST
TZOFFSETFROM:+0100
TZOFFSETTO:+0200
DTSTART:19160430T230000
RDATE:19400401T020000
RDATE:19430329T020000
RDATE:19460414T020000
RDATE:19470406T030000
RDATE:19480418T020000
RDATE:19490410T020000
RDATE:19800406T020000
END:DAYLIGHT
BEGIN:STANDARD
TZNAME:CET
TZOFFSETFROM:+0200
TZOFFSETTO:+0100
DTSTART:19161001T010000
RDATE:19421102T030000
RDATE:19431004T030000
RDATE:19441002T030000
RDATE:19451118T030000
RDATE:19461007T030000
END:STANDARD
BEGIN:DAYLIGHT
TZNAME:CEST
TZOFFSETFROM:+0100
TZOFFSETTO:+0200
DTSTART:19170416T020000
RRULE:FREQ=YEARLY;UNTIL=19180415T010000Z;BYMONTH=4;BYDAY=3MO
END:DAYLIGHT
BEGIN:STANDARD
TZNAME:CET
TZOFFSETFROM:+0200
TZOFFSETTO:+0100
DTSTART:19170917T030000
RRULE:FREQ=YEARLY;UNTIL=19180916T010000Z;BYMONTH=9;BYDAY=3MO
END:STANDARD
BEGIN:DAYLIGHT
TZNAME:CEST
TZOFFSETFROM:+0100
TZOFFSETTO:+0200
DTSTART:19440403T020000
RRULE:FREQ=YEARLY;UNTIL=19450402T010000Z;BYMONTH=4;BYDAY=1MO
END:DAYLIGHT
BEGIN:DAYLIGHT
TZNAME:CEMT
TZOFFSETFROM:+0200
TZOFFSETTO:+0300
DTSTART:19450524T020000
RDATE:19470511T030000
END:DAYLIGHT
BEGIN:DAYLIGHT
TZNAME:CEST
TZOFFSETFROM:+0300
TZOFFSETTO:+0200
DTSTART:19450924T030000
RDATE:19470629T030000
END:DAYLIGHT
BEGIN:STANDARD
TZNAME:CET
TZOFFSETFROM:+0100
TZOFFSETTO:+0100
DTSTART:19460101T000000
RDATE:19800101T000000
END:STANDARD
BEGIN:STANDARD
TZNAME:CET
TZOFFSETFROM:+0200
TZOFFSETTO:+0100
DTSTART:19471005T030000
RRULE:FREQ=YEARLY;UNTIL=19491002T010000Z;BYMONTH=10;BYDAY=1SU
END:STANDARD
BEGIN:STANDARD
TZNAME:CET
TZOFFSETFROM:+0200
TZOFFSETTO:+0100
DTSTART:19800928T030000
RRULE:FREQ=YEARLY;UNTIL=19950924T010000Z;BYMONTH=9;BYDAY=-1SU
END:STANDARD
BEGIN:DAYLIGHT
TZNAME:CEST
TZOFFSETFROM:+0100
TZOFFSETTO:+0200
DTSTART:19810329T020000
RRULE:FREQ=YEARLY;BYMONTH=3;BYDAY=-1SU
END:DAYLIGHT
BEGIN:STANDARD
TZNAME:CET
TZOFFSETFROM:+0200
TZOFFSETTO:+0100
DTSTART:19961027T030000
RRULE:FREQ=YEARLY;BYMONTH=10;BYDAY=-1SU
END:STANDARD
END:VTIMEZONE
BEGIN:VEVENT
DTSTAMP:20260424T115005Z
DTSTART;TZID=Europe/Berlin:20250908T193000
DTEND;TZID=Europe/Berlin:20250908T223000
SUMMARY:ME L6 Gr 2\, Tours 1&2 Collombey/Muraz V vs Aigle II (0)
UID:e5480c7d-6da5-49d5-b969-2d6387271f64
STATUS:CONFIRMED
LAST-MODIFIED:20250910T233650Z
DESCRIPTION:6ème ligue Hommes Groupe 2\, Tours 1&2\nBegegnungs-Nr: 0\nHeim: Collombey/Muraz V\nGast: Aigle II\n\nAdresse: Route du Montagnier 81\, 1868 Collombey\n
LOCATION:Route du Montagnier 81\, 1868 Collombey
CATEGORIES:Saison 2025/26
END:VEVENT
BEGIN:VEVENT
DTSTAMP:20260424T115005Z
DTSTART;TZID=Europe/Berlin:20250929T193000
DTEND;TZID=Europe/Berlin:20250929T223000
SUMMARY:ME L6 Gr 2\, Tours 1&2 Collombey/Muraz V vs Yvorne II (0)
UID:e80e79e7-deef-4ccd-9f08-c394182b9bd6
STATUS:CONFIRMED
LAST-MODIFIED:20250930T095850Z
DESCRIPTION:6ème ligue Hommes Groupe 2\, Tours 1&2\nBegegnungs-Nr: 0\nHeim: Collombey/Muraz V\nGast: Yvorne II\n\nAdresse: Route du Montagnier 81\, 1868 Collombey\n
LOCATION:Route du Montagnier 81\, 1868 Collombey
CATEGORIES:Saison 2025/26
END:VEVENT
BEGIN:VEVENT
DTSTAMP:20260424T115005Z
DTSTART;TZID=Europe/Berlin:20251006T193000
DTEND;TZID=Europe/Berlin:20251006T223000
SUMMARY:ME L6 Gr 2\, Tours 1&2 Collombey/Muraz V vs Aigle III (0)
UID:7df29ef8-66e3-49f1-a55d-3e596c9fbae1
STATUS:CONFIRMED
LAST-MODIFIED:20251007T094851Z
DESCRIPTION:6ème ligue Hommes Groupe 2\, Tours 1&2\nBegegnungs-Nr: 0\nHeim: Collombey/Muraz V\nGast: Aigle III\n\nAdresse: Route du Montagnier 81\, 1868 Collombey\n
LOCATION:Route du Montagnier 81\, 1868 Collombey
CATEGORIES:Saison 2025/26
END:VEVENT
BEGIN:VEVENT
DTSTAMP:20260424T115005Z
DTSTART;TZID=Europe/Berlin:20251027T191500
DTEND;TZID=Europe/Berlin:20251027T221500
SUMMARY:ME L6 Gr 2\, Tours 1&2 Collombey/Muraz V vs Martigny VI (0)
UID:04afd183-fe6a-4b70-9914-e6797cdea7b8
STATUS:CONFIRMED
LAST-MODIFIED:20251028T113428Z
DESCRIPTION:6ème ligue Hommes Groupe 2\, Tours 1&2\nBegegnungs-Nr: 0\nHeim: Collombey/Muraz V\nGast: Martigny VI\n\nAdresse: Route du Montagnier 81\, 1868 Collombey\n
LOCATION:Route du Montagnier 81\, 1868 Collombey
CATEGORIES:Saison 2025/26
END:VEVENT
BEGIN:VEVENT
DTSTAMP:20260424T115005Z
DTSTART;TZID=Europe/Berlin:20251117T194500
DTEND;TZID=Europe/Berlin:20251117T224500
SUMMARY:ME L6 Gr 2\, Tours 1&2 Collombey/Muraz V vs Montreux-Riviera II (0)
UID:19098d44-6e73-4995-8d7f-59e82317d0a8
STATUS:CONFIRMED
LAST-MODIFIED:20251119T171533Z
DESCRIPTION:6ème ligue Hommes Groupe 2\, Tours 1&2\nBegegnungs-Nr: 0\nHeim: Collombey/Muraz V\nGast: Montreux-Riviera II\n\nAdresse: Route du Montagnier 81\, 1868 Collombey\n
LOCATION:Route du Montagnier 81\, 1868 Collombey
CATEGORIES:Saison 2025/26
END:VEVENT
BEGIN:VEVENT
DTSTAMP:20260424T115005Z
DTSTART;TZID=Europe/Berlin:20260119T193000
DTEND;TZID=Europe/Berlin:20260119T223000
SUMMARY:ME L5 Gr 2\, Tours 3&4 Collombey/Muraz V vs Bulle IV (0)
UID:1fa4d616-3c20-4202-8ef8-8bde380ec77e
STATUS:CONFIRMED
LAST-MODIFIED:20260119T233420Z
DESCRIPTION:5ème ligue Hommes Groupe 2\, Tours 3&4\nBegegnungs-Nr: 0\nHeim: Collombey/Muraz V\nGast: Bulle IV\n\nAdresse: Route du Montagnier 81\, 1868 Collombey\n
LOCATION:Route du Montagnier 81\, 1868 Collombey
CATEGORIES:Saison 2025/26
END:VEVENT
BEGIN:VEVENT
DTSTAMP:20260424T115005Z
DTSTART;TZID=Europe/Berlin:20260209T193000
DTEND;TZID=Europe/Berlin:20260209T223000
SUMMARY:ME L5 Gr 2\, Tours 3&4 Collombey/Muraz V vs Blonay III (0)
UID:f2e276cd-98b9-4307-a274-1da45f43c3bb
STATUS:CONFIRMED
LAST-MODIFIED:20260210T011055Z
DESCRIPTION:5ème ligue Hommes Groupe 2\, Tours 3&4\nBegegnungs-Nr: 0\nHeim: Collombey/Muraz V\nGast: Blonay III\n\nAdresse: Route du Montagnier 81\, 1868 Collombey\n
LOCATION:Route du Montagnier 81\, 1868 Collombey
CATEGORIES:Saison 2025/26
END:VEVENT
BEGIN:VEVENT
DTSTAMP:20260424T115005Z
DTSTART;TZID=Europe/Berlin:20260223T193000
DTEND;TZID=Europe/Berlin:20260223T223000
SUMMARY:ME L5 Gr 2\, Tours 3&4 Collombey/Muraz V vs Vevey III (0)
UID:fd066406-218b-4666-884f-fcbb56ec1ecd
STATUS:CONFIRMED
LAST-MODIFIED:20260225T225214Z
DESCRIPTION:5ème ligue Hommes Groupe 2\, Tours 3&4\nBegegnungs-Nr: 0\nHeim: Collombey/Muraz V\nGast: Vevey III\n\nAdresse: Route du Montagnier 81\, 1868 Collombey\n
LOCATION:Route du Montagnier 81\, 1868 Collombey
CATEGORIES:Saison 2025/26
END:VEVENT
BEGIN:VEVENT
DTSTAMP:20260424T115005Z
DTSTART;TZID=Europe/Berlin:20260309T193000
DTEND;TZID=Europe/Berlin:20260309T223000
SUMMARY:ME L5 Gr 2\, Tours 3&4 Collombey/Muraz V vs Collombey/Muraz IV (0)
UID:1e5a3826-88d4-4ed0-b966-c0845a2dbc08
STATUS:CONFIRMED
LAST-MODIFIED:20260311T161932Z
DESCRIPTION:5ème ligue Hommes Groupe 2\, Tours 3&4\nBegegnungs-Nr: 0\nHeim: Collombey/Muraz V\nGast: Collombey/Muraz IV\n\nAdresse: Route du Montagnier 81\, 1868 Collombey\n
LOCATION:Route du Montagnier 81\, 1868 Collombey
CATEGORIES:Saison 2025/26
END:VEVENT
BEGIN:VEVENT
DTSTAMP:20260424T115005Z
DTSTART;TZID=Europe/Berlin:20260330T193000
DTEND;TZID=Europe/Berlin:20260330T223000
SUMMARY:ME L5 Gr 2\, Tours 3&4 Collombey/Muraz V vs Montreux-Riviera (0)
UID:36df1808-94c9-4377-9371-1096659873ff
STATUS:CONFIRMED
LAST-MODIFIED:20260401T092428Z
DESCRIPTION:5ème ligue Hommes Groupe 2\, Tours 3&4\nBegegnungs-Nr: 0\nHeim: Collombey/Muraz V\nGast: Montreux-Riviera\n\nAdresse: Route du Montagnier 81\, 1868 Collombey\n
LOCATION:Route du Montagnier 81\, 1868 Collombey
CATEGORIES:Saison 2025/26
END:VEVENT
BEGIN:VEVENT
DTSTAMP:20260424T115005Z
DTSTART;TZID=Europe/Berlin:20250918T200000
DTEND;TZID=Europe/Berlin:20250918T230000
SUMMARY:ME L6 Gr 2\, Tours 1&2 Montreux-Riviera II vs Collombey/Muraz V (0)
UID:d0875dfe-b3c1-42bf-861f-a6f64b5b8ffe
STATUS:CONFIRMED
LAST-MODIFIED:20250923T100527Z
DESCRIPTION:6ème ligue Hommes Groupe 2\, Tours 1&2\nBegegnungs-Nr: 0\nHeim: Montreux-Riviera II\nGast: Collombey/Muraz V\n\nAdresse: Rue de la Gare 33\, 1820 Montreux\n
LOCATION:Rue de la Gare 33\, 1820 Montreux
CATEGORIES:Saison 2025/26
END:VEVENT
BEGIN:VEVENT
DTSTAMP:20260424T115005Z
DTSTART;TZID=Europe/Berlin:20251105T200000
DTEND;TZID=Europe/Berlin:20251105T230000
SUMMARY:ME L6 Gr 2\, Tours 1&2 Aigle II vs Collombey/Muraz V (0)
UID:eb2f3b6d-bd7e-4289-a6b3-e1a2fa95859c
STATUS:CONFIRMED
LAST-MODIFIED:20251110T194830Z
DESCRIPTION:6ème ligue Hommes Groupe 2\, Tours 1&2\nBegegnungs-Nr: 0\nHeim: Aigle II\nGast: Collombey/Muraz V\n\nAdresse: Rue du Collège 12\, 1860 Aigle\n
LOCATION:Rue du Collège 12\, 1860 Aigle
CATEGORIES:Saison 2025/26
END:VEVENT
BEGIN:VEVENT
DTSTAMP:20260424T115005Z
DTSTART;TZID=Europe/Berlin:20251126T194500
DTEND;TZID=Europe/Berlin:20251126T224500
SUMMARY:ME L6 Gr 2\, Tours 1&2 Yvorne II vs Collombey/Muraz V (0)
UID:1d0e4620-1784-40d2-ab56-7d911adb6151
STATUS:CONFIRMED
LAST-MODIFIED:20251129T115903Z
DESCRIPTION:6ème ligue Hommes Groupe 2\, Tours 1&2\nBegegnungs-Nr: 0\nHeim: Yvorne II\nGast: Collombey/Muraz V\n\nAdresse: Les Maisons Neuves 38\, 1853 Yvorne\n
LOCATION:Les Maisons Neuves 38\, 1853 Yvorne
CATEGORIES:Saison 2025/26
END:VEVENT
BEGIN:VEVENT
DTSTAMP:20260424T115005Z
DTSTART;TZID=Europe/Berlin:20251212T200000
DTEND;TZID=Europe/Berlin:20251212T230000
SUMMARY:ME L6 Gr 2\, Tours 1&2 Aigle III vs Collombey/Muraz V (0)
UID:9ebfdbc8-2071-4e22-b362-d0d7b39eac35
STATUS:CONFIRMED
LAST-MODIFIED:20251213T181415Z
DESCRIPTION:6ème ligue Hommes Groupe 2\, Tours 1&2\nBegegnungs-Nr: 0\nHeim: Aigle III\nGast: Collombey/Muraz V\n\nAdresse: Rue du Collège 12\, 1860 Aigle\n
LOCATION:Rue du Collège 12\, 1860 Aigle
CATEGORIES:Saison 2025/26
END:VEVENT
BEGIN:VEVENT
DTSTAMP:20260424T115005Z
DTSTART;TZID=Europe/Berlin:20250905T193000
DTEND;TZID=Europe/Berlin:20250905T223000
SUMMARY:ME L6 Gr 2\, Tours 1&2 Martigny VI vs Collombey/Muraz V (0)
UID:6b2620cf-6dae-41e2-b68b-84aa41d0f9c8
STATUS:CONFIRMED
LAST-MODIFIED:20250906T155127Z
DESCRIPTION:6ème ligue Hommes Groupe 2\, Tours 1&2\nBegegnungs-Nr: 0\nHeim: Martigny VI\nGast: Collombey/Muraz V\n\nAdresse: Rue des Ecoles 9\, 1920 Martigny\n
LOCATION:Rue des Ecoles 9\, 1920 Martigny
CATEGORIES:Saison 2025/26
END:VEVENT
BEGIN:VEVENT
DTSTAMP:20260424T115005Z
DTSTART;TZID=Europe/Berlin:20260114T193000
DTEND;TZID=Europe/Berlin:20260114T223000
SUMMARY:ME L5 Gr 2\, Tours 3&4 Collombey/Muraz IV vs Collombey/Muraz V (0)
UID:36c3e6eb-9ba9-4f33-93c0-91cd99eb822c
STATUS:CONFIRMED
LAST-MODIFIED:20260115T101958Z
DESCRIPTION:5ème ligue Hommes Groupe 2\, Tours 3&4\nBegegnungs-Nr: 0\nHeim: Collombey/Muraz IV\nGast: Collombey/Muraz V\n\nAdresse: Route du Montagnier 81\, 1868 Collombey\n
LOCATION:Route du Montagnier 81\, 1868 Collombey
CATEGORIES:Saison 2025/26
END:VEVENT
BEGIN:VEVENT
DTSTAMP:20260424T115005Z
DTSTART;TZID=Europe/Berlin:20260202T200000
DTEND;TZID=Europe/Berlin:20260202T230000
SUMMARY:ME L5 Gr 2\, Tours 3&4 Montreux-Riviera vs Collombey/Muraz V (0)
UID:ef9ebfdc-d9fd-4736-a875-fa7cb5f5c9fd
STATUS:CONFIRMED
LAST-MODIFIED:20260203T175344Z
DESCRIPTION:5ème ligue Hommes Groupe 2\, Tours 3&4\nBegegnungs-Nr: 0\nHeim: Montreux-Riviera\nGast: Collombey/Muraz V\n\nAdresse: Rue de la Gare 33\, 1820 Montreux\n
LOCATION:Rue de la Gare 33\, 1820 Montreux
CATEGORIES:Saison 2025/26
END:VEVENT
BEGIN:VEVENT
DTSTAMP:20260424T115005Z
DTSTART;TZID=Europe/Berlin:20260318T200000
DTEND;TZID=Europe/Berlin:20260318T230000
SUMMARY:ME L5 Gr 2\, Tours 3&4 Bulle IV vs Collombey/Muraz V (0)
UID:c9b3b9ea-c5c3-46b4-bea3-4c41c424ddb2
STATUS:CONFIRMED
LAST-MODIFIED:20260321T102712Z
DESCRIPTION:5ème ligue Hommes Groupe 2\, Tours 3&4\nBegegnungs-Nr: 0\nHeim: Bulle IV\nGast: Collombey/Muraz V\n\nAdresse: Rue du Stade 50\, 1630 Bulle\n
LOCATION:Rue du Stade 50\, 1630 Bulle
CATEGORIES:Saison 2025/26
END:VEVENT
BEGIN:VEVENT
DTSTAMP:20260424T115005Z
DTSTART;TZID=Europe/Berlin:20260424T200000
DTEND;TZID=Europe/Berlin:20260424T230000
SUMMARY:ME L5 Gr 2\, Tours 3&4 Blonay III vs Collombey/Muraz V (0)
UID:23e97956-4fa0-47ac-8bbb-d4c61889f28d
STATUS:CONFIRMED
DESCRIPTION:5ème ligue Hommes Groupe 2\, Tours 3&4\nBegegnungs-Nr: 0\nHeim: Blonay III\nGast: Collombey/Muraz V\n\nAdresse: Route de Prélaz 2\, 1807 Blonay\n
LOCATION:Route de Prélaz 2\, 1807 Blonay
CATEGORIES:Saison 2025/26
END:VEVENT
BEGIN:VEVENT
DTSTAMP:20260424T115005Z
DTSTART;TZID=Europe/Berlin:20260427T200000
DTEND;TZID=Europe/Berlin:20260427T230000
SUMMARY:ME L5 Gr 2\, Tours 3&4 Vevey III vs Collombey/Muraz V (0)
UID:1e87bc59-51a6-4185-8d9d-8ce1d9c642dc
STATUS:CONFIRMED
DESCRIPTION:5ème ligue Hommes Groupe 2\, Tours 3&4\nBegegnungs-Nr: 0\nHeim: Vevey III\nGast: Collombey/Muraz V\n\nAdresse: Rue Louis-Meyer\, 1800 Vevey\n
LOCATION:Rue Louis-Meyer\, 1800 Vevey
CATEGORIES:Saison 2025/26
END:VEVENT
END:VCALENDAR
