BEGIN:VCALENDAR
PRODID:-//nuDatenautomaten//framework iCal4j //DE
VERSION:2.0
CALSCALE:GREGORIAN
BEGIN:VTIMEZONE
TZID:Europe/Berlin
LAST-MODIFIED:20260306T231828Z
TZURL:https://www.tzurl.org/zoneinfo/Europe/Berlin
X-LIC-LOCATION:Europe/Berlin
X-PROLEPTIC-TZNAME:LMT
BEGIN:STANDARD
TZNAME:CET
TZOFFSETFROM:+005328
TZOFFSETTO:+0100
DTSTART:18930401T000000
END:STANDARD
BEGIN:DAYLIGHT
TZNAME:CEST
TZOFFSETFROM:+0100
TZOFFSETTO:+0200
DTSTART:19160430T230000
RDATE:19400401T020000
RDATE:19430329T020000
RDATE:19460414T020000
RDATE:19470406T030000
RDATE:19480418T020000
RDATE:19490410T020000
RDATE:19800406T020000
END:DAYLIGHT
BEGIN:STANDARD
TZNAME:CET
TZOFFSETFROM:+0200
TZOFFSETTO:+0100
DTSTART:19161001T010000
RDATE:19421102T030000
RDATE:19431004T030000
RDATE:19441002T030000
RDATE:19451118T030000
RDATE:19461007T030000
END:STANDARD
BEGIN:DAYLIGHT
TZNAME:CEST
TZOFFSETFROM:+0100
TZOFFSETTO:+0200
DTSTART:19170416T020000
RRULE:FREQ=YEARLY;UNTIL=19180415T010000Z;BYMONTH=4;BYDAY=3MO
END:DAYLIGHT
BEGIN:STANDARD
TZNAME:CET
TZOFFSETFROM:+0200
TZOFFSETTO:+0100
DTSTART:19170917T030000
RRULE:FREQ=YEARLY;UNTIL=19180916T010000Z;BYMONTH=9;BYDAY=3MO
END:STANDARD
BEGIN:DAYLIGHT
TZNAME:CEST
TZOFFSETFROM:+0100
TZOFFSETTO:+0200
DTSTART:19440403T020000
RRULE:FREQ=YEARLY;UNTIL=19450402T010000Z;BYMONTH=4;BYDAY=1MO
END:DAYLIGHT
BEGIN:DAYLIGHT
TZNAME:CEMT
TZOFFSETFROM:+0200
TZOFFSETTO:+0300
DTSTART:19450524T020000
RDATE:19470511T030000
END:DAYLIGHT
BEGIN:DAYLIGHT
TZNAME:CEST
TZOFFSETFROM:+0300
TZOFFSETTO:+0200
DTSTART:19450924T030000
RDATE:19470629T030000
END:DAYLIGHT
BEGIN:STANDARD
TZNAME:CET
TZOFFSETFROM:+0100
TZOFFSETTO:+0100
DTSTART:19460101T000000
RDATE:19800101T000000
END:STANDARD
BEGIN:STANDARD
TZNAME:CET
TZOFFSETFROM:+0200
TZOFFSETTO:+0100
DTSTART:19471005T030000
RRULE:FREQ=YEARLY;UNTIL=19491002T010000Z;BYMONTH=10;BYDAY=1SU
END:STANDARD
BEGIN:STANDARD
TZNAME:CET
TZOFFSETFROM:+0200
TZOFFSETTO:+0100
DTSTART:19800928T030000
RRULE:FREQ=YEARLY;UNTIL=19950924T010000Z;BYMONTH=9;BYDAY=-1SU
END:STANDARD
BEGIN:DAYLIGHT
TZNAME:CEST
TZOFFSETFROM:+0100
TZOFFSETTO:+0200
DTSTART:19810329T020000
RRULE:FREQ=YEARLY;BYMONTH=3;BYDAY=-1SU
END:DAYLIGHT
BEGIN:STANDARD
TZNAME:CET
TZOFFSETFROM:+0200
TZOFFSETTO:+0100
DTSTART:19961027T030000
RRULE:FREQ=YEARLY;BYMONTH=10;BYDAY=-1SU
END:STANDARD
END:VTIMEZONE
BEGIN:VEVENT
DTSTAMP:20260424T150431Z
DTSTART;TZID=Europe/Berlin:20251117T194500
DTEND;TZID=Europe/Berlin:20251117T224500
SUMMARY:Ligue 5 Gr.3 Ph.A Versoix VII vs Châtelaine VII (24)
UID:02449f03-68ef-4d41-ba3f-49926f21533b
STATUS:CONFIRMED
LAST-MODIFIED:20251118T081507Z
DESCRIPTION:5ème ligue Hommes Gr.3 Phase A\nBegegnungs-Nr: 24\nHeim: Versoix VII\nGast: Châtelaine VII\n
LOCATION:
CATEGORIES:Saison 2025/26
END:VEVENT
BEGIN:VEVENT
DTSTAMP:20260424T150431Z
DTSTART;TZID=Europe/Berlin:20251027T194500
DTEND;TZID=Europe/Berlin:20251027T224500
SUMMARY:Ligue 5 Gr.3 Ph.A Versoix VII vs Grand-Saconnex IV (16)
UID:b0c4be7b-117e-473c-8f83-b8ab85b4b3a8
STATUS:CONFIRMED
LAST-MODIFIED:20251028T093511Z
DESCRIPTION:5ème ligue Hommes Gr.3 Phase A\nBegegnungs-Nr: 16\nHeim: Versoix VII\nGast: Grand-Saconnex IV\n
LOCATION:
CATEGORIES:Saison 2025/26
END:VEVENT
BEGIN:VEVENT
DTSTAMP:20260424T150431Z
DTSTART;TZID=Europe/Berlin:20251201T194500
DTEND;TZID=Europe/Berlin:20251201T224500
SUMMARY:Ligue 5 Gr.3 Ph.A Versoix VII vs Veyrier IV (29)
UID:e9162ff9-59fa-441b-94ab-34d001841fce
STATUS:CONFIRMED
LAST-MODIFIED:20251202T174621Z
DESCRIPTION:5ème ligue Hommes Gr.3 Phase A\nBegegnungs-Nr: 29\nHeim: Versoix VII\nGast: Veyrier IV\n
LOCATION:
CATEGORIES:Saison 2025/26
END:VEVENT
BEGIN:VEVENT
DTSTAMP:20260424T150431Z
DTSTART;TZID=Europe/Berlin:20251006T194500
DTEND;TZID=Europe/Berlin:20251006T224500
SUMMARY:Ligue 5 Gr.3 Ph.A Versoix VII vs Collex-Bossy II (11)
UID:34e89da9-cea4-4155-89bb-8247883eb558
STATUS:CONFIRMED
LAST-MODIFIED:20251007T071449Z
DESCRIPTION:5ème ligue Hommes Gr.3 Phase A\nBegegnungs-Nr: 11\nHeim: Versoix VII\nGast: Collex-Bossy II\n
LOCATION:
CATEGORIES:Saison 2025/26
END:VEVENT
BEGIN:VEVENT
DTSTAMP:20260424T150431Z
DTSTART;TZID=Europe/Berlin:20250915T194500
DTEND;TZID=Europe/Berlin:20250915T224500
SUMMARY:Ligue 5 Gr.3 Ph.A Versoix VII vs ZZ-Lancy XI (5)
UID:ee8f6b7b-b8ba-43f9-9985-b95dba91d673
STATUS:CONFIRMED
LAST-MODIFIED:20250916T191812Z
DESCRIPTION:5ème ligue Hommes Gr.3 Phase A\nBegegnungs-Nr: 5\nHeim: Versoix VII\nGast: ZZ-Lancy XI\n
LOCATION:
CATEGORIES:Saison 2025/26
END:VEVENT
BEGIN:VEVENT
DTSTAMP:20260424T150431Z
DTSTART;TZID=Europe/Berlin:20260330T194500
DTEND;TZID=Europe/Berlin:20260330T224500
SUMMARY:Ligue 5 Gr.4 Ph.B Versoix VII vs Puplinge III (26)
UID:3293a0b1-6833-4507-aaf8-1c081654d383
STATUS:CONFIRMED
LAST-MODIFIED:20260331T164243Z
DESCRIPTION:5ème ligue Hommes Gr.4 Phase B\nBegegnungs-Nr: 26\nHeim: Versoix VII\nGast: Puplinge III\n
LOCATION:
CATEGORIES:Saison 2025/26
END:VEVENT
BEGIN:VEVENT
DTSTAMP:20260424T150431Z
DTSTART;TZID=Europe/Berlin:20260323T194500
DTEND;TZID=Europe/Berlin:20260323T224500
SUMMARY:Ligue 5 Gr.4 Ph.B Versoix VII vs Bernex VI (22)
UID:b50fa39e-a9c6-42c6-8676-59640d81730a
STATUS:CONFIRMED
LAST-MODIFIED:20260324T173909Z
DESCRIPTION:5ème ligue Hommes Gr.4 Phase B\nBegegnungs-Nr: 22\nHeim: Versoix VII\nGast: Bernex VI\n
LOCATION:
CATEGORIES:Saison 2025/26
END:VEVENT
BEGIN:VEVENT
DTSTAMP:20260424T150431Z
DTSTART;TZID=Europe/Berlin:20260309T194500
DTEND;TZID=Europe/Berlin:20260309T224500
SUMMARY:Ligue 5 Gr.4 Ph.B Versoix VII vs Veyrier V (17)
UID:f2ec879a-d453-4b16-af9b-e7f264877bf1
STATUS:CONFIRMED
LAST-MODIFIED:20260310T221443Z
DESCRIPTION:5ème ligue Hommes Gr.4 Phase B\nBegegnungs-Nr: 17\nHeim: Versoix VII\nGast: Veyrier V\n
LOCATION:
CATEGORIES:Saison 2025/26
END:VEVENT
BEGIN:VEVENT
DTSTAMP:20260424T150431Z
DTSTART;TZID=Europe/Berlin:20260119T194500
DTEND;TZID=Europe/Berlin:20260119T224500
SUMMARY:Ligue 5 Gr.4 Ph.B Versoix VII vs Châtelaine VIII (4)
UID:e6b6432f-d912-4478-814d-ae79bfdde765
STATUS:CONFIRMED
LAST-MODIFIED:20260120T121249Z
DESCRIPTION:5ème ligue Hommes Gr.4 Phase B\nBegegnungs-Nr: 4\nHeim: Versoix VII\nGast: Châtelaine VIII\n
LOCATION:
CATEGORIES:Saison 2025/26
END:VEVENT
BEGIN:VEVENT
DTSTAMP:20260424T150431Z
DTSTART;TZID=Europe/Berlin:20251110T194500
DTEND;TZID=Europe/Berlin:20251110T224500
SUMMARY:Ligue 5 Gr.3 Ph.A ZZ-Lancy XI vs Versoix VII (20)
UID:d5888655-a7ca-4b2c-9bf8-d576d344c4c2
STATUS:CONFIRMED
LAST-MODIFIED:20251112T133753Z
DESCRIPTION:5ème ligue Hommes Gr.3 Phase A\nBegegnungs-Nr: 20\nHeim: ZZ-Lancy XI\nGast: Versoix VII\n
LOCATION:
CATEGORIES:Saison 2025/26
END:VEVENT
BEGIN:VEVENT
DTSTAMP:20260424T150431Z
DTSTART;TZID=Europe/Berlin:20250901T194500
DTEND;TZID=Europe/Berlin:20250901T224500
SUMMARY:Ligue 5 Gr.3 Ph.A Grand-Saconnex IV vs Versoix VII (1)
UID:cfe6aab9-8313-41f4-befd-db1d1c1934de
STATUS:CONFIRMED
LAST-MODIFIED:20250917T111109Z
DESCRIPTION:5ème ligue Hommes Gr.3 Phase A\nBegegnungs-Nr: 1\nHeim: Grand-Saconnex IV\nGast: Versoix VII\n
LOCATION:
CATEGORIES:Saison 2025/26
END:VEVENT
BEGIN:VEVENT
DTSTAMP:20260424T150431Z
DTSTART;TZID=Europe/Berlin:20251124T194500
DTEND;TZID=Europe/Berlin:20251124T224500
SUMMARY:Ligue 5 Gr.3 Ph.A Collex-Bossy II vs Versoix VII (26)
UID:3abf8ef1-7f57-40cf-a805-18650edf20eb
STATUS:CONFIRMED
LAST-MODIFIED:20251125T075710Z
DESCRIPTION:5ème ligue Hommes Gr.3 Phase A\nBegegnungs-Nr: 26\nHeim: Collex-Bossy II\nGast: Versoix VII\n
LOCATION:
CATEGORIES:Saison 2025/26
END:VEVENT
BEGIN:VEVENT
DTSTAMP:20260424T150431Z
DTSTART;TZID=Europe/Berlin:20251013T194500
DTEND;TZID=Europe/Berlin:20251013T224500
SUMMARY:Ligue 5 Gr.3 Ph.A Veyrier IV vs Versoix VII (14)
UID:957df828-976a-405c-a3b5-af113d9f66ee
STATUS:CONFIRMED
LAST-MODIFIED:20251014T080835Z
DESCRIPTION:5ème ligue Hommes Gr.3 Phase A\nBegegnungs-Nr: 14\nHeim: Veyrier IV\nGast: Versoix VII\n\nAdresse: -\, 1255 Veyrier\n
LOCATION:-\, 1255 Veyrier
CATEGORIES:Saison 2025/26
END:VEVENT
BEGIN:VEVENT
DTSTAMP:20260424T150431Z
DTSTART;TZID=Europe/Berlin:20250924T194500
DTEND;TZID=Europe/Berlin:20250924T224500
SUMMARY:Ligue 5 Gr.3 Ph.A Châtelaine VII vs Versoix VII (9)
UID:d3fff1ec-e538-4792-a496-46ccc6fa9282
STATUS:CONFIRMED
LAST-MODIFIED:20250925T123726Z
DESCRIPTION:5ème ligue Hommes Gr.3 Phase A\nBegegnungs-Nr: 9\nHeim: Châtelaine VII\nGast: Versoix VII\n
LOCATION:
CATEGORIES:Saison 2025/26
END:VEVENT
BEGIN:VEVENT
DTSTAMP:20260424T150431Z
DTSTART;TZID=Europe/Berlin:20260319T200000
DTEND;TZID=Europe/Berlin:20260319T230000
SUMMARY:Ligue 5 Gr.4 Ph.B Châtelaine VIII vs Versoix VII (19)
UID:061127ef-3436-4f90-9abd-296a7f11f6ca
STATUS:CONFIRMED
LAST-MODIFIED:20260320T082230Z
DESCRIPTION:5ème ligue Hommes Gr.4 Phase B\nBegegnungs-Nr: 19\nHeim: Châtelaine VIII\nGast: Versoix VII\n
LOCATION:
CATEGORIES:Saison 2025/26
END:VEVENT
BEGIN:VEVENT
DTSTAMP:20260424T150431Z
DTSTART;TZID=Europe/Berlin:20260112T194500
DTEND;TZID=Europe/Berlin:20260112T224500
SUMMARY:Ligue 5 Gr.4 Ph.B Veyrier V vs Versoix VII (2)
UID:4b55a4fa-5975-4263-8cce-88818dd6a554
STATUS:CONFIRMED
LAST-MODIFIED:20260112T172834Z
DESCRIPTION:5ème ligue Hommes Gr.4 Phase B\nBegegnungs-Nr: 2\nHeim: Veyrier V\nGast: Versoix VII\n\nAdresse: -\, 1255 Veyrier\n
LOCATION:-\, 1255 Veyrier
CATEGORIES:Saison 2025/26
END:VEVENT
BEGIN:VEVENT
DTSTAMP:20260424T150431Z
DTSTART;TZID=Europe/Berlin:20260210T194500
DTEND;TZID=Europe/Berlin:20260210T224500
SUMMARY:Ligue 5 Gr.4 Ph.B Puplinge III vs Versoix VII (11)
UID:e8c38179-6b6a-4fbe-9ab4-e11619be20a3
STATUS:CONFIRMED
LAST-MODIFIED:20260216T080045Z
DESCRIPTION:5ème ligue Hommes Gr.4 Phase B\nBegegnungs-Nr: 11\nHeim: Puplinge III\nGast: Versoix VII\n\nAdresse: Chemin de la Brenaz\,  15\, 1241 Puplinge\n
LOCATION:Chemin de la Brenaz\,  15\, 1241 Puplinge
CATEGORIES:Saison 2025/26
END:VEVENT
BEGIN:VEVENT
DTSTAMP:20260424T150431Z
DTSTART;TZID=Europe/Berlin:20260126T194500
DTEND;TZID=Europe/Berlin:20260126T224500
SUMMARY:Ligue 5 Gr.4 Ph.B Bernex VI vs Versoix VII (7)
UID:3aaeb8a6-5b5d-4993-a5d0-0d9ccfeb71b8
STATUS:CONFIRMED
LAST-MODIFIED:20260126T232909Z
DESCRIPTION:5ème ligue Hommes Gr.4 Phase B\nBegegnungs-Nr: 7\nHeim: Bernex VI\nGast: Versoix VII\n
LOCATION:
CATEGORIES:Saison 2025/26
END:VEVENT
END:VCALENDAR
