BEGIN:VCALENDAR
PRODID:-//nuDatenautomaten//framework iCal4j //DE
VERSION:2.0
CALSCALE:GREGORIAN
BEGIN:VTIMEZONE
TZID:Europe/Berlin
LAST-MODIFIED:20260306T231828Z
TZURL:https://www.tzurl.org/zoneinfo/Europe/Berlin
X-LIC-LOCATION:Europe/Berlin
X-PROLEPTIC-TZNAME:LMT
BEGIN:STANDARD
TZNAME:CET
TZOFFSETFROM:+005328
TZOFFSETTO:+0100
DTSTART:18930401T000000
END:STANDARD
BEGIN:DAYLIGHT
TZNAME:CEST
TZOFFSETFROM:+0100
TZOFFSETTO:+0200
DTSTART:19160430T230000
RDATE:19400401T020000
RDATE:19430329T020000
RDATE:19460414T020000
RDATE:19470406T030000
RDATE:19480418T020000
RDATE:19490410T020000
RDATE:19800406T020000
END:DAYLIGHT
BEGIN:STANDARD
TZNAME:CET
TZOFFSETFROM:+0200
TZOFFSETTO:+0100
DTSTART:19161001T010000
RDATE:19421102T030000
RDATE:19431004T030000
RDATE:19441002T030000
RDATE:19451118T030000
RDATE:19461007T030000
END:STANDARD
BEGIN:DAYLIGHT
TZNAME:CEST
TZOFFSETFROM:+0100
TZOFFSETTO:+0200
DTSTART:19170416T020000
RRULE:FREQ=YEARLY;UNTIL=19180415T010000Z;BYMONTH=4;BYDAY=3MO
END:DAYLIGHT
BEGIN:STANDARD
TZNAME:CET
TZOFFSETFROM:+0200
TZOFFSETTO:+0100
DTSTART:19170917T030000
RRULE:FREQ=YEARLY;UNTIL=19180916T010000Z;BYMONTH=9;BYDAY=3MO
END:STANDARD
BEGIN:DAYLIGHT
TZNAME:CEST
TZOFFSETFROM:+0100
TZOFFSETTO:+0200
DTSTART:19440403T020000
RRULE:FREQ=YEARLY;UNTIL=19450402T010000Z;BYMONTH=4;BYDAY=1MO
END:DAYLIGHT
BEGIN:DAYLIGHT
TZNAME:CEMT
TZOFFSETFROM:+0200
TZOFFSETTO:+0300
DTSTART:19450524T020000
RDATE:19470511T030000
END:DAYLIGHT
BEGIN:DAYLIGHT
TZNAME:CEST
TZOFFSETFROM:+0300
TZOFFSETTO:+0200
DTSTART:19450924T030000
RDATE:19470629T030000
END:DAYLIGHT
BEGIN:STANDARD
TZNAME:CET
TZOFFSETFROM:+0100
TZOFFSETTO:+0100
DTSTART:19460101T000000
RDATE:19800101T000000
END:STANDARD
BEGIN:STANDARD
TZNAME:CET
TZOFFSETFROM:+0200
TZOFFSETTO:+0100
DTSTART:19471005T030000
RRULE:FREQ=YEARLY;UNTIL=19491002T010000Z;BYMONTH=10;BYDAY=1SU
END:STANDARD
BEGIN:STANDARD
TZNAME:CET
TZOFFSETFROM:+0200
TZOFFSETTO:+0100
DTSTART:19800928T030000
RRULE:FREQ=YEARLY;UNTIL=19950924T010000Z;BYMONTH=9;BYDAY=-1SU
END:STANDARD
BEGIN:DAYLIGHT
TZNAME:CEST
TZOFFSETFROM:+0100
TZOFFSETTO:+0200
DTSTART:19810329T020000
RRULE:FREQ=YEARLY;BYMONTH=3;BYDAY=-1SU
END:DAYLIGHT
BEGIN:STANDARD
TZNAME:CET
TZOFFSETFROM:+0200
TZOFFSETTO:+0100
DTSTART:19961027T030000
RRULE:FREQ=YEARLY;BYMONTH=10;BYDAY=-1SU
END:STANDARD
END:VTIMEZONE
BEGIN:VEVENT
DTSTAMP:20260424T103905Z
DTSTART;TZID=Europe/Berlin:20251022T200000
DTEND;TZID=Europe/Berlin:20251022T230000
SUMMARY:HE NLC Gr. 1 Versoix vs UGS-Chênois II (14)
UID:18fec5d6-aead-4eaa-b142-fab5db7a71af
STATUS:CONFIRMED
LAST-MODIFIED:20251023T085822Z
DESCRIPTION:Herren Nationalliga C Gruppe 1\nBegegnungs-Nr: 14\nHeim: Versoix\nGast: UGS-Chênois II\n\nAdresse: Chemin Ami-Argand 40\, 1290 Versoix\n
LOCATION:Chemin Ami-Argand 40\, 1290 Versoix
CATEGORIES:Saison 2025/26
END:VEVENT
BEGIN:VEVENT
DTSTAMP:20260424T103905Z
DTSTART;TZID=Europe/Berlin:20250927T170000
DTEND;TZID=Europe/Berlin:20250927T200000
SUMMARY:HE NLC Gr. 1 Versoix vs ZZ-Lancy II (7)
UID:f77faef4-7d1c-4243-848f-4f2e1600ca20
STATUS:CONFIRMED
LAST-MODIFIED:20251009T194427Z
DESCRIPTION:Herren Nationalliga C Gruppe 1\nBegegnungs-Nr: 7\nHeim: Versoix\nGast: ZZ-Lancy II\n\nAdresse: Chemin Ami-Argand 40\, 1290 Versoix\n
LOCATION:Chemin Ami-Argand 40\, 1290 Versoix
CATEGORIES:Saison 2025/26
END:VEVENT
BEGIN:VEVENT
DTSTAMP:20260424T103905Z
DTSTART;TZID=Europe/Berlin:20251122T170000
DTEND;TZID=Europe/Berlin:20251122T200000
SUMMARY:HE NLC Gr. 1 Versoix vs Cortaillod (23)
UID:e20922bf-eb88-4671-b99b-7a27ef71544c
STATUS:CONFIRMED
LAST-MODIFIED:20251126T101413Z
DESCRIPTION:Herren Nationalliga C Gruppe 1\nBegegnungs-Nr: 23\nHeim: Versoix\nGast: Cortaillod\n\nAdresse: Chemin Ami-Argand 40\, 1290 Versoix\n
LOCATION:Chemin Ami-Argand 40\, 1290 Versoix
CATEGORIES:Saison 2025/26
END:VEVENT
BEGIN:VEVENT
DTSTAMP:20260424T103905Z
DTSTART;TZID=Europe/Berlin:20251206T170000
DTEND;TZID=Europe/Berlin:20251206T200000
SUMMARY:HE NLC Gr. 1 Versoix vs Forward-Morges (25)
UID:dc2d1237-e7ac-47f9-85a9-27c2739c7526
STATUS:CONFIRMED
LAST-MODIFIED:20251209T094641Z
DESCRIPTION:Herren Nationalliga C Gruppe 1\nBegegnungs-Nr: 25\nHeim: Versoix\nGast: Forward-Morges\n\nAdresse: Chemin Ami-Argand 40\, 1290 Versoix\n
LOCATION:Chemin Ami-Argand 40\, 1290 Versoix
CATEGORIES:Saison 2025/26
END:VEVENT
BEGIN:VEVENT
DTSTAMP:20260424T103905Z
DTSTART;TZID=Europe/Berlin:20260110T170000
DTEND;TZID=Europe/Berlin:20260110T200000
SUMMARY:HE NLC Gr. 1 Versoix vs Meyrin (2)
UID:bdc90430-5eb6-44e3-a6f2-58b8a5b99e1c
STATUS:CONFIRMED
LAST-MODIFIED:20260112T203000Z
DESCRIPTION:Herren Nationalliga C Gruppe 1\nBegegnungs-Nr: 2\nHeim: Versoix\nGast: Meyrin\n\nAdresse: Chemin Ami-Argand 40\, 1290 Versoix\n
LOCATION:Chemin Ami-Argand 40\, 1290 Versoix
CATEGORIES:Saison 2025/26
END:VEVENT
BEGIN:VEVENT
DTSTAMP:20260424T103905Z
DTSTART;TZID=Europe/Berlin:20260221T170000
DTEND;TZID=Europe/Berlin:20260221T200000
SUMMARY:HE NLC Gr. 1 Versoix vs Bernex (12)
UID:18b7eb72-a9a2-463e-a144-fdfc49594947
STATUS:CONFIRMED
LAST-MODIFIED:20260223T153411Z
DESCRIPTION:Herren Nationalliga C Gruppe 1\nBegegnungs-Nr: 12\nHeim: Versoix\nGast: Bernex\n\nAdresse: Chemin Ami-Argand 40\, 1290 Versoix\n
LOCATION:Chemin Ami-Argand 40\, 1290 Versoix
CATEGORIES:Saison 2025/26
END:VEVENT
BEGIN:VEVENT
DTSTAMP:20260424T103905Z
DTSTART;TZID=Europe/Berlin:20260328T170000
DTEND;TZID=Europe/Berlin:20260328T200000
SUMMARY:HE NLC Gr. 1 Versoix vs Lausanne (19)
UID:d7d8182d-77e6-46e1-8508-d9fd79f5f675
STATUS:CONFIRMED
LAST-MODIFIED:20260330T075953Z
DESCRIPTION:Herren Nationalliga C Gruppe 1\nBegegnungs-Nr: 19\nHeim: Versoix\nGast: Lausanne\n\nAdresse: Chemin Ami-Argand 40\, 1290 Versoix\n
LOCATION:Chemin Ami-Argand 40\, 1290 Versoix
CATEGORIES:Saison 2025/26
END:VEVENT
BEGIN:VEVENT
DTSTAMP:20260424T103905Z
DTSTART;TZID=Europe/Berlin:20250914T143000
DTEND;TZID=Europe/Berlin:20250914T173000
SUMMARY:HE NLC Gr. 1 Meyrin vs Versoix (2)
UID:304073fe-f0a9-4522-938d-c54a2bec71f7
STATUS:CONFIRMED
LAST-MODIFIED:20250918T112308Z
DESCRIPTION:Herren Nationalliga C Gruppe 1\nBegegnungs-Nr: 2\nHeim: Meyrin\nGast: Versoix\n\nAdresse: Rue De-Livron 2\, 1217 Meyrin\n
LOCATION:Rue De-Livron 2\, 1217 Meyrin
CATEGORIES:Saison 2025/26
END:VEVENT
BEGIN:VEVENT
DTSTAMP:20260424T103905Z
DTSTART;TZID=Europe/Berlin:20251009T194500
DTEND;TZID=Europe/Berlin:20251009T224500
SUMMARY:HE NLC Gr. 1 Bernex vs Versoix (12)
UID:d8f45ddd-ecd0-42d7-951b-1822381fd95b
STATUS:CONFIRMED
LAST-MODIFIED:20251013T101238Z
DESCRIPTION:Herren Nationalliga C Gruppe 1\nBegegnungs-Nr: 12\nHeim: Bernex\nGast: Versoix\n\nAdresse: Chemin de Saule 120\, 1233 Bernex\n
LOCATION:Chemin de Saule 120\, 1233 Bernex
CATEGORIES:Saison 2025/26
END:VEVENT
BEGIN:VEVENT
DTSTAMP:20260424T103905Z
DTSTART;TZID=Europe/Berlin:20251108T160000
DTEND;TZID=Europe/Berlin:20251108T190000
SUMMARY:HE NLC Gr. 1 Lausanne vs Versoix (19)
UID:a773591d-3327-43af-bc6f-dfbcd669127d
STATUS:CONFIRMED
LAST-MODIFIED:20251110T072717Z
DESCRIPTION:Herren Nationalliga C Gruppe 1\nBegegnungs-Nr: 19\nHeim: Lausanne\nGast: Versoix\n\nAdresse: Vaudoise Aréna\, Ch. du Viaduc 14\, 1008 Prilly\n
LOCATION:Vaudoise Aréna\, Ch. du Viaduc 14\, 1008 Prilly
CATEGORIES:Saison 2025/26
END:VEVENT
BEGIN:VEVENT
DTSTAMP:20260424T103905Z
DTSTART;TZID=Europe/Berlin:20260228T150000
DTEND;TZID=Europe/Berlin:20260228T180000
SUMMARY:HE NLC Gr. 1 UGS-Chênois II vs Versoix (14)
UID:ac2f5a62-3d07-416d-bc7e-d560dbc443d6
STATUS:CONFIRMED
LAST-MODIFIED:20260302T214721Z
DESCRIPTION:Herren Nationalliga C Gruppe 1\nBegegnungs-Nr: 14\nHeim: UGS-Chênois II\nGast: Versoix\n\nAdresse: Route de Frontenex 68\, 1208 Genève\n
LOCATION:Route de Frontenex 68\, 1208 Genève
CATEGORIES:Saison 2025/26
END:VEVENT
BEGIN:VEVENT
DTSTAMP:20260424T103905Z
DTSTART;TZID=Europe/Berlin:20260131T150000
DTEND;TZID=Europe/Berlin:20260131T180000
SUMMARY:HE NLC Gr. 1 ZZ-Lancy II vs Versoix (7)
UID:8a9ea114-7d6e-40d2-83f7-e9172302f199
STATUS:CONFIRMED
LAST-MODIFIED:20260203T081250Z
DESCRIPTION:Herren Nationalliga C Gruppe 1\nBegegnungs-Nr: 7\nHeim: ZZ-Lancy II\nGast: Versoix\n\nAdresse: Avenue du Curé-Baud 40\, 1212 Grand-Lancy\n
LOCATION:Avenue du Curé-Baud 40\, 1212 Grand-Lancy
CATEGORIES:Saison 2025/26
END:VEVENT
BEGIN:VEVENT
DTSTAMP:20260424T103905Z
DTSTART;TZID=Europe/Berlin:20260418T170000
DTEND;TZID=Europe/Berlin:20260418T200000
SUMMARY:HE NLC Gr. 1 Cortaillod vs Versoix (23)
UID:cf60fbf5-728c-4d36-9f99-2945a810b3e3
STATUS:CONFIRMED
LAST-MODIFIED:20260420T082445Z
DESCRIPTION:Herren Nationalliga C Gruppe 1\nBegegnungs-Nr: 23\nHeim: Cortaillod\nGast: Versoix\n\nAdresse: Coteaux 1\, 2016 Cortaillod\n
LOCATION:Coteaux 1\, 2016 Cortaillod
CATEGORIES:Saison 2025/26
END:VEVENT
BEGIN:VEVENT
DTSTAMP:20260424T103905Z
DTSTART;TZID=Europe/Berlin:20260419T150000
DTEND;TZID=Europe/Berlin:20260419T180000
SUMMARY:HE NLC Gr. 1 Forward-Morges vs Versoix (25)
UID:ca0b899d-c2e2-4456-98d5-9cc57917843f
STATUS:CONFIRMED
LAST-MODIFIED:20260420T082720Z
DESCRIPTION:Herren Nationalliga C Gruppe 1\nBegegnungs-Nr: 25\nHeim: Forward-Morges\nGast: Versoix\n\nAdresse: Chemin de Tolochenaz\, 1110 Morges\n
LOCATION:Chemin de Tolochenaz\, 1110 Morges
CATEGORIES:Saison 2025/26
END:VEVENT
END:VCALENDAR
