BEGIN:VCALENDAR
PRODID:-//nuDatenautomaten//framework iCal4j //DE
VERSION:2.0
CALSCALE:GREGORIAN
BEGIN:VTIMEZONE
TZID:Europe/Berlin
LAST-MODIFIED:20260306T231828Z
TZURL:https://www.tzurl.org/zoneinfo/Europe/Berlin
X-LIC-LOCATION:Europe/Berlin
X-PROLEPTIC-TZNAME:LMT
BEGIN:STANDARD
TZNAME:CET
TZOFFSETFROM:+005328
TZOFFSETTO:+0100
DTSTART:18930401T000000
END:STANDARD
BEGIN:DAYLIGHT
TZNAME:CEST
TZOFFSETFROM:+0100
TZOFFSETTO:+0200
DTSTART:19160430T230000
RDATE:19400401T020000
RDATE:19430329T020000
RDATE:19460414T020000
RDATE:19470406T030000
RDATE:19480418T020000
RDATE:19490410T020000
RDATE:19800406T020000
END:DAYLIGHT
BEGIN:STANDARD
TZNAME:CET
TZOFFSETFROM:+0200
TZOFFSETTO:+0100
DTSTART:19161001T010000
RDATE:19421102T030000
RDATE:19431004T030000
RDATE:19441002T030000
RDATE:19451118T030000
RDATE:19461007T030000
END:STANDARD
BEGIN:DAYLIGHT
TZNAME:CEST
TZOFFSETFROM:+0100
TZOFFSETTO:+0200
DTSTART:19170416T020000
RRULE:FREQ=YEARLY;UNTIL=19180415T010000Z;BYMONTH=4;BYDAY=3MO
END:DAYLIGHT
BEGIN:STANDARD
TZNAME:CET
TZOFFSETFROM:+0200
TZOFFSETTO:+0100
DTSTART:19170917T030000
RRULE:FREQ=YEARLY;UNTIL=19180916T010000Z;BYMONTH=9;BYDAY=3MO
END:STANDARD
BEGIN:DAYLIGHT
TZNAME:CEST
TZOFFSETFROM:+0100
TZOFFSETTO:+0200
DTSTART:19440403T020000
RRULE:FREQ=YEARLY;UNTIL=19450402T010000Z;BYMONTH=4;BYDAY=1MO
END:DAYLIGHT
BEGIN:DAYLIGHT
TZNAME:CEMT
TZOFFSETFROM:+0200
TZOFFSETTO:+0300
DTSTART:19450524T020000
RDATE:19470511T030000
END:DAYLIGHT
BEGIN:DAYLIGHT
TZNAME:CEST
TZOFFSETFROM:+0300
TZOFFSETTO:+0200
DTSTART:19450924T030000
RDATE:19470629T030000
END:DAYLIGHT
BEGIN:STANDARD
TZNAME:CET
TZOFFSETFROM:+0100
TZOFFSETTO:+0100
DTSTART:19460101T000000
RDATE:19800101T000000
END:STANDARD
BEGIN:STANDARD
TZNAME:CET
TZOFFSETFROM:+0200
TZOFFSETTO:+0100
DTSTART:19471005T030000
RRULE:FREQ=YEARLY;UNTIL=19491002T010000Z;BYMONTH=10;BYDAY=1SU
END:STANDARD
BEGIN:STANDARD
TZNAME:CET
TZOFFSETFROM:+0200
TZOFFSETTO:+0100
DTSTART:19800928T030000
RRULE:FREQ=YEARLY;UNTIL=19950924T010000Z;BYMONTH=9;BYDAY=-1SU
END:STANDARD
BEGIN:DAYLIGHT
TZNAME:CEST
TZOFFSETFROM:+0100
TZOFFSETTO:+0200
DTSTART:19810329T020000
RRULE:FREQ=YEARLY;BYMONTH=3;BYDAY=-1SU
END:DAYLIGHT
BEGIN:STANDARD
TZNAME:CET
TZOFFSETFROM:+0200
TZOFFSETTO:+0100
DTSTART:19961027T030000
RRULE:FREQ=YEARLY;BYMONTH=10;BYDAY=-1SU
END:STANDARD
END:VTIMEZONE
BEGIN:VEVENT
DTSTAMP:20260424T044355Z
DTSTART;TZID=Europe/Berlin:20251025T170000
DTEND;TZID=Europe/Berlin:20251025T200000
SUMMARY:DA NLB Gr. 1 Martigny vs Rapid Luzern (9)
UID:27661d90-d153-4c8e-a458-dcc18adea33c
STATUS:CONFIRMED
LAST-MODIFIED:20251029T082127Z
DESCRIPTION:Damen Nationalliga B Gruppe 1\nBegegnungs-Nr: 9\nHeim: Martigny\nGast: Rapid Luzern\n\nAdresse: Rue des Ecoles 9\, 1920 Martigny\n
LOCATION:Rue des Ecoles 9\, 1920 Martigny
CATEGORIES:Saison 2025/26
END:VEVENT
BEGIN:VEVENT
DTSTAMP:20260424T044355Z
DTSTART;TZID=Europe/Berlin:20251108T150000
DTEND;TZID=Europe/Berlin:20251108T180000
SUMMARY:DA NLB Gr. 1 Martigny vs Châtelaine (12)
UID:7b2c265e-9234-4ca6-85eb-10da9d443cf5
STATUS:CONFIRMED
LAST-MODIFIED:20251110T080842Z
DESCRIPTION:Damen Nationalliga B Gruppe 1\nBegegnungs-Nr: 12\nHeim: Martigny\nGast: Châtelaine\n\nAdresse: Rue des Ecoles 9\, 1920 Martigny\n
LOCATION:Rue des Ecoles 9\, 1920 Martigny
CATEGORIES:Saison 2025/26
END:VEVENT
BEGIN:VEVENT
DTSTAMP:20260424T044355Z
DTSTART;TZID=Europe/Berlin:20260308T150000
DTEND;TZID=Europe/Berlin:20260308T180000
SUMMARY:DA NLB Gr. 1 Martigny vs ZZ-Lancy II (15)
UID:9238670d-648d-4f3e-abf2-53d52db00d00
STATUS:CONFIRMED
LAST-MODIFIED:20260310T065154Z
DESCRIPTION:Damen Nationalliga B Gruppe 1\nBegegnungs-Nr: 15\nHeim: Martigny\nGast: ZZ-Lancy II\n\nAdresse: Rue des Ecoles 9\, 1920 Martigny\n
LOCATION:Rue des Ecoles 9\, 1920 Martigny
CATEGORIES:Saison 2025/26
END:VEVENT
BEGIN:VEVENT
DTSTAMP:20260424T044355Z
DTSTART;TZID=Europe/Berlin:20260110T150000
DTEND;TZID=Europe/Berlin:20260110T180000
SUMMARY:DA NLB Gr. 1 Martigny vs Lausanne (1)
UID:d094b804-414d-408e-abe9-6dec9ba2ce18
STATUS:CONFIRMED
LAST-MODIFIED:20260113T064514Z
DESCRIPTION:Damen Nationalliga B Gruppe 1\nBegegnungs-Nr: 1\nHeim: Martigny\nGast: Lausanne\n\nAdresse: Rue des Ecoles 9\, 1920 Martigny\n
LOCATION:Rue des Ecoles 9\, 1920 Martigny
CATEGORIES:Saison 2025/26
END:VEVENT
BEGIN:VEVENT
DTSTAMP:20260424T044355Z
DTSTART;TZID=Europe/Berlin:20260131T150000
DTEND;TZID=Europe/Berlin:20260131T180000
SUMMARY:DA NLB Gr. 1 Martigny vs Thun (5)
UID:69ca2572-c82a-4338-983d-8ec0475b8347
STATUS:CONFIRMED
LAST-MODIFIED:20260203T081942Z
DESCRIPTION:Damen Nationalliga B Gruppe 1\nBegegnungs-Nr: 5\nHeim: Martigny\nGast: Thun\n\nAdresse: Rue des Ecoles 9\, 1920 Martigny\n
LOCATION:Rue des Ecoles 9\, 1920 Martigny
CATEGORIES:Saison 2025/26
END:VEVENT
BEGIN:VEVENT
DTSTAMP:20260424T044355Z
DTSTART;TZID=Europe/Berlin:20260328T143000
DTEND;TZID=Europe/Berlin:20260328T173000
SUMMARY:DA NLB Play-Off 1/2-Final Martigny vs Wädenswil (1)
UID:90b33d2c-31be-4151-b273-b3fc902da971
STATUS:CONFIRMED
LAST-MODIFIED:20260329T190527Z
DESCRIPTION:Damen Nationalliga B Play-Off 1/2-Final \nBegegnungs-Nr: 1\nHeim: Martigny\nGast: Wädenswil\n\nAdresse: Rue des Ecoles 9\, 1920 Martigny\n
LOCATION:Rue des Ecoles 9\, 1920 Martigny
CATEGORIES:Saison 2025/26
END:VEVENT
BEGIN:VEVENT
DTSTAMP:20260424T044355Z
DTSTART;TZID=Europe/Berlin:20251205T194500
DTEND;TZID=Europe/Berlin:20251205T224500
SUMMARY:DA NLB Gr. 1 ZZ-Lancy II vs Martigny (15)
UID:02246a96-3528-492f-9117-41e3751a9e04
STATUS:CONFIRMED
LAST-MODIFIED:20251209T094950Z
DESCRIPTION:Damen Nationalliga B Gruppe 1\nBegegnungs-Nr: 15\nHeim: ZZ-Lancy II\nGast: Martigny\n\nAdresse: Avenue du Curé-Baud 40\, 1212 Grand-Lancy\n
LOCATION:Avenue du Curé-Baud 40\, 1212 Grand-Lancy
CATEGORIES:Saison 2025/26
END:VEVENT
BEGIN:VEVENT
DTSTAMP:20260424T044355Z
DTSTART;TZID=Europe/Berlin:20250920T160000
DTEND;TZID=Europe/Berlin:20250920T190000
SUMMARY:DA NLB Gr. 1 Thun vs Martigny (5)
UID:36ced176-7f24-4bad-b373-f6266e8003ef
STATUS:CONFIRMED
LAST-MODIFIED:20250922T073744Z
DESCRIPTION:Damen Nationalliga B Gruppe 1\nBegegnungs-Nr: 5\nHeim: Thun\nGast: Martigny\n\nAdresse: Hallerstrasse 28\, 3604 Thun\n
LOCATION:Hallerstrasse 28\, 3604 Thun
CATEGORIES:Saison 2025/26
END:VEVENT
BEGIN:VEVENT
DTSTAMP:20260424T044355Z
DTSTART;TZID=Europe/Berlin:20250914T120000
DTEND;TZID=Europe/Berlin:20250914T150000
SUMMARY:DA NLB Gr. 1 Lausanne vs Martigny (1)
UID:5b1cd013-7ad2-4efa-87f2-d67821674169
STATUS:CONFIRMED
LAST-MODIFIED:20250918T112022Z
DESCRIPTION:Damen Nationalliga B Gruppe 1\nBegegnungs-Nr: 1\nHeim: Lausanne\nGast: Martigny\n\nAdresse: Vaudoise Aréna\, Ch. du Viaduc 14\, 1008 Prilly\n
LOCATION:Vaudoise Aréna\, Ch. du Viaduc 14\, 1008 Prilly
CATEGORIES:Saison 2025/26
END:VEVENT
BEGIN:VEVENT
DTSTAMP:20260424T044355Z
DTSTART;TZID=Europe/Berlin:20260221T130000
DTEND;TZID=Europe/Berlin:20260221T160000
SUMMARY:DA NLB Gr. 1 Rapid Luzern vs Martigny (9)
UID:a40bb530-a532-4f72-baa4-cff971e9430a
STATUS:CONFIRMED
LAST-MODIFIED:20260223T153748Z
DESCRIPTION:Damen Nationalliga B Gruppe 1\nBegegnungs-Nr: 9\nHeim: Rapid Luzern\nGast: Martigny\n\nAdresse: Kreuzbuchstr. 60\, 6006 Luzern\n
LOCATION:Kreuzbuchstr. 60\, 6006 Luzern
CATEGORIES:Saison 2025/26
END:VEVENT
BEGIN:VEVENT
DTSTAMP:20260424T044355Z
DTSTART;TZID=Europe/Berlin:20260307T140000
DTEND;TZID=Europe/Berlin:20260307T170000
SUMMARY:DA NLB Gr. 1 Châtelaine vs Martigny (12)
UID:fffe0a62-fb67-4493-a789-0c0d6e4ebbb8
STATUS:CONFIRMED
LAST-MODIFIED:20260310T065056Z
DESCRIPTION:Damen Nationalliga B Gruppe 1\nBegegnungs-Nr: 12\nHeim: Châtelaine\nGast: Martigny\n\nAdresse: Avenue de Pailly 15\, 1219 Châtelaine\n
LOCATION:Avenue de Pailly 15\, 1219 Châtelaine
CATEGORIES:Saison 2025/26
END:VEVENT
BEGIN:VEVENT
DTSTAMP:20260424T044355Z
DTSTART;TZID=Europe/Berlin:20260329T150000
DTEND;TZID=Europe/Berlin:20260329T180000
SUMMARY:DA NLB Play-Off 1/2-Final Wädenswil vs Martigny (2)
UID:3972ab87-5bee-4f95-b726-e9824a42d565
STATUS:CONFIRMED
LAST-MODIFIED:20260330T081233Z
DESCRIPTION:Damen Nationalliga B Play-Off 1/2-Final \nBegegnungs-Nr: 2\nHeim: Wädenswil\nGast: Martigny\n\nAdresse: Fuhrstrasse 16b\, 8820 Wädenswil\n
LOCATION:Fuhrstrasse 16b\, 8820 Wädenswil
CATEGORIES:Saison 2025/26
END:VEVENT
END:VCALENDAR
