BEGIN:VCALENDAR
PRODID:-//nuDatenautomaten//framework iCal4j //DE
VERSION:2.0
CALSCALE:GREGORIAN
BEGIN:VTIMEZONE
TZID:Europe/Berlin
LAST-MODIFIED:20260306T231828Z
TZURL:https://www.tzurl.org/zoneinfo/Europe/Berlin
X-LIC-LOCATION:Europe/Berlin
X-PROLEPTIC-TZNAME:LMT
BEGIN:STANDARD
TZNAME:CET
TZOFFSETFROM:+005328
TZOFFSETTO:+0100
DTSTART:18930401T000000
END:STANDARD
BEGIN:DAYLIGHT
TZNAME:CEST
TZOFFSETFROM:+0100
TZOFFSETTO:+0200
DTSTART:19160430T230000
RDATE:19400401T020000
RDATE:19430329T020000
RDATE:19460414T020000
RDATE:19470406T030000
RDATE:19480418T020000
RDATE:19490410T020000
RDATE:19800406T020000
END:DAYLIGHT
BEGIN:STANDARD
TZNAME:CET
TZOFFSETFROM:+0200
TZOFFSETTO:+0100
DTSTART:19161001T010000
RDATE:19421102T030000
RDATE:19431004T030000
RDATE:19441002T030000
RDATE:19451118T030000
RDATE:19461007T030000
END:STANDARD
BEGIN:DAYLIGHT
TZNAME:CEST
TZOFFSETFROM:+0100
TZOFFSETTO:+0200
DTSTART:19170416T020000
RRULE:FREQ=YEARLY;UNTIL=19180415T010000Z;BYMONTH=4;BYDAY=3MO
END:DAYLIGHT
BEGIN:STANDARD
TZNAME:CET
TZOFFSETFROM:+0200
TZOFFSETTO:+0100
DTSTART:19170917T030000
RRULE:FREQ=YEARLY;UNTIL=19180916T010000Z;BYMONTH=9;BYDAY=3MO
END:STANDARD
BEGIN:DAYLIGHT
TZNAME:CEST
TZOFFSETFROM:+0100
TZOFFSETTO:+0200
DTSTART:19440403T020000
RRULE:FREQ=YEARLY;UNTIL=19450402T010000Z;BYMONTH=4;BYDAY=1MO
END:DAYLIGHT
BEGIN:DAYLIGHT
TZNAME:CEMT
TZOFFSETFROM:+0200
TZOFFSETTO:+0300
DTSTART:19450524T020000
RDATE:19470511T030000
END:DAYLIGHT
BEGIN:DAYLIGHT
TZNAME:CEST
TZOFFSETFROM:+0300
TZOFFSETTO:+0200
DTSTART:19450924T030000
RDATE:19470629T030000
END:DAYLIGHT
BEGIN:STANDARD
TZNAME:CET
TZOFFSETFROM:+0100
TZOFFSETTO:+0100
DTSTART:19460101T000000
RDATE:19800101T000000
END:STANDARD
BEGIN:STANDARD
TZNAME:CET
TZOFFSETFROM:+0200
TZOFFSETTO:+0100
DTSTART:19471005T030000
RRULE:FREQ=YEARLY;UNTIL=19491002T010000Z;BYMONTH=10;BYDAY=1SU
END:STANDARD
BEGIN:STANDARD
TZNAME:CET
TZOFFSETFROM:+0200
TZOFFSETTO:+0100
DTSTART:19800928T030000
RRULE:FREQ=YEARLY;UNTIL=19950924T010000Z;BYMONTH=9;BYDAY=-1SU
END:STANDARD
BEGIN:DAYLIGHT
TZNAME:CEST
TZOFFSETFROM:+0100
TZOFFSETTO:+0200
DTSTART:19810329T020000
RRULE:FREQ=YEARLY;BYMONTH=3;BYDAY=-1SU
END:DAYLIGHT
BEGIN:STANDARD
TZNAME:CET
TZOFFSETFROM:+0200
TZOFFSETTO:+0100
DTSTART:19961027T030000
RRULE:FREQ=YEARLY;BYMONTH=10;BYDAY=-1SU
END:STANDARD
END:VTIMEZONE
BEGIN:VEVENT
DTSTAMP:20260424T083902Z
DTSTART;TZID=Europe/Berlin:20251017T193000
DTEND;TZID=Europe/Berlin:20251017T223000
SUMMARY:HE 5. Liga Gr. 3 Grauholz III vs Ostermundigen IX (9)
UID:6f52c64e-fd9d-424e-aa77-07ec457ce467
STATUS:CONFIRMED
LAST-MODIFIED:20251020T114403Z
DESCRIPTION:5. Liga Herren Gruppe 3\nBegegnungs-Nr: 9\nHeim: Grauholz III\nGast: Ostermundigen IX\n\nAdresse: Schulhausweg 8\, 3324 Hindelbank\n
LOCATION:Schulhausweg 8\, 3324 Hindelbank
CATEGORIES:Saison 2025/26
END:VEVENT
BEGIN:VEVENT
DTSTAMP:20260424T083902Z
DTSTART;TZID=Europe/Berlin:20251212T193000
DTEND;TZID=Europe/Berlin:20251212T223000
SUMMARY:HE 5. Liga Gr. 3 Grauholz III vs Bern XI (25)
UID:946c2941-6241-4f71-99f2-fe9120e3f947
STATUS:CONFIRMED
LAST-MODIFIED:20251218T093642Z
DESCRIPTION:5. Liga Herren Gruppe 3\nBegegnungs-Nr: 25\nHeim: Grauholz III\nGast: Bern XI\n\nAdresse: Schulhausweg 8\, 3324 Hindelbank\n
LOCATION:Schulhausweg 8\, 3324 Hindelbank
CATEGORIES:Saison 2025/26
END:VEVENT
BEGIN:VEVENT
DTSTAMP:20260424T083902Z
DTSTART;TZID=Europe/Berlin:20250902T193000
DTEND;TZID=Europe/Berlin:20250902T223000
SUMMARY:HE 5. Liga Gr. 3 Grauholz III vs Wohlensee IV (1)
UID:49f29e86-36e0-43d6-9b2b-c4aff21d3975
STATUS:CONFIRMED
LAST-MODIFIED:20250907T195355Z
DESCRIPTION:5. Liga Herren Gruppe 3\nBegegnungs-Nr: 1\nHeim: Grauholz III\nGast: Wohlensee IV\n\nAdresse: Schulhausweg 8\, 3324 Hindelbank\n
LOCATION:Schulhausweg 8\, 3324 Hindelbank
CATEGORIES:Saison 2025/26
END:VEVENT
BEGIN:VEVENT
DTSTAMP:20260424T083902Z
DTSTART;TZID=Europe/Berlin:20251114T193000
DTEND;TZID=Europe/Berlin:20251114T223000
SUMMARY:HE 5. Liga Gr. 3 Grauholz III vs Niederscherli (17)
UID:7dd3e44b-49c9-47ce-bbc0-3a59b6dccc79
STATUS:CONFIRMED
LAST-MODIFIED:20251115T173358Z
DESCRIPTION:5. Liga Herren Gruppe 3\nBegegnungs-Nr: 17\nHeim: Grauholz III\nGast: Niederscherli\n\nAdresse: Schulhausweg 8\, 3324 Hindelbank\n
LOCATION:Schulhausweg 8\, 3324 Hindelbank
CATEGORIES:Saison 2025/26
END:VEVENT
BEGIN:VEVENT
DTSTAMP:20260424T083902Z
DTSTART;TZID=Europe/Berlin:20260313T193000
DTEND;TZID=Europe/Berlin:20260313T223000
SUMMARY:HE 5. Liga Gr. 3 Grauholz III vs Huttwil (21)
UID:9182c7bb-c6d8-4442-9aae-cbddc7083ff3
STATUS:CONFIRMED
LAST-MODIFIED:20260315T230406Z
DESCRIPTION:5. Liga Herren Gruppe 3\nBegegnungs-Nr: 21\nHeim: Grauholz III\nGast: Huttwil\n\nAdresse: Schulhausweg 8\, 3324 Hindelbank\n
LOCATION:Schulhausweg 8\, 3324 Hindelbank
CATEGORIES:Saison 2025/26
END:VEVENT
BEGIN:VEVENT
DTSTAMP:20260424T083902Z
DTSTART;TZID=Europe/Berlin:20260224T193000
DTEND;TZID=Europe/Berlin:20260224T223000
SUMMARY:HE 5. Liga Gr. 3 Grauholz III vs Düdingen IV (13)
UID:5bc088da-19c0-4ee4-bdbe-2ad4244cff78
STATUS:CONFIRMED
LAST-MODIFIED:20260302T144904Z
DESCRIPTION:5. Liga Herren Gruppe 3\nBegegnungs-Nr: 13\nHeim: Grauholz III\nGast: Düdingen IV\n\nAdresse: Schulhausweg 8\, 3324 Hindelbank\n
LOCATION:Schulhausweg 8\, 3324 Hindelbank
CATEGORIES:Saison 2025/26
END:VEVENT
BEGIN:VEVENT
DTSTAMP:20260424T083902Z
DTSTART;TZID=Europe/Berlin:20260130T193000
DTEND;TZID=Europe/Berlin:20260130T223000
SUMMARY:HE 5. Liga Gr. 3 Grauholz III vs Ittigen IV (5)
UID:f18ee595-a8d9-4f06-a71d-863abd02e337
STATUS:CONFIRMED
LAST-MODIFIED:20260217T214146Z
DESCRIPTION:5. Liga Herren Gruppe 3\nBegegnungs-Nr: 5\nHeim: Grauholz III\nGast: Ittigen IV\n\nAdresse: Schulhausweg 8\, 3324 Hindelbank\n
LOCATION:Schulhausweg 8\, 3324 Hindelbank
CATEGORIES:Saison 2025/26
END:VEVENT
BEGIN:VEVENT
DTSTAMP:20260424T083902Z
DTSTART;TZID=Europe/Berlin:20250908T194500
DTEND;TZID=Europe/Berlin:20250908T224500
SUMMARY:HE 5. Liga Gr. 3 Ittigen IV vs Grauholz III (5)
UID:d3ceedf5-3473-4c1e-95da-374220d0a73a
STATUS:CONFIRMED
LAST-MODIFIED:20250918T140532Z
DESCRIPTION:5. Liga Herren Gruppe 3\nBegegnungs-Nr: 5\nHeim: Ittigen IV\nGast: Grauholz III\n\nAdresse: Fischrainweg 17\, 3048 Worblaufen\n
LOCATION:Fischrainweg 17\, 3048 Worblaufen
CATEGORIES:Saison 2025/26
END:VEVENT
BEGIN:VEVENT
DTSTAMP:20260424T083902Z
DTSTART;TZID=Europe/Berlin:20251201T200000
DTEND;TZID=Europe/Berlin:20251201T230000
SUMMARY:HE 5. Liga Gr. 3 Huttwil vs Grauholz III (21)
UID:e0563a3e-f324-4acf-994d-fa83a21ee743
STATUS:CONFIRMED
LAST-MODIFIED:20251207T174117Z
DESCRIPTION:5. Liga Herren Gruppe 3\nBegegnungs-Nr: 21\nHeim: Huttwil\nGast: Grauholz III\n\nAdresse: Dornackerweg 2 (untere Halle)\, 4950 Huttwil\n
LOCATION:Dornackerweg 2 (untere Halle)\, 4950 Huttwil
CATEGORIES:Saison 2025/26
END:VEVENT
BEGIN:VEVENT
DTSTAMP:20260424T083902Z
DTSTART;TZID=Europe/Berlin:20251030T200000
DTEND;TZID=Europe/Berlin:20251030T230000
SUMMARY:HE 5. Liga Gr. 3 Düdingen IV vs Grauholz III (13)
UID:4eb080ad-0629-4f7d-bc5b-35927e2816a0
STATUS:CONFIRMED
LAST-MODIFIED:20251101T151054Z
DESCRIPTION:5. Liga Herren Gruppe 3\nBegegnungs-Nr: 13\nHeim: Düdingen IV\nGast: Grauholz III\n\nAdresse: Alfons-Aeby-Strasse\, 3186 Düdingen\n
LOCATION:Alfons-Aeby-Strasse\, 3186 Düdingen
CATEGORIES:Saison 2025/26
END:VEVENT
BEGIN:VEVENT
DTSTAMP:20260424T083902Z
DTSTART;TZID=Europe/Berlin:20260323T193000
DTEND;TZID=Europe/Berlin:20260323T223000
SUMMARY:HE 5. Liga Gr. 3 Bern XI vs Grauholz III (25)
UID:362ff7c2-f096-4179-8106-df9eea30ead9
STATUS:CONFIRMED
LAST-MODIFIED:20260409T123158Z
DESCRIPTION:5. Liga Herren Gruppe 3\nBegegnungs-Nr: 25\nHeim: Bern XI\nGast: Grauholz III\n\nAdresse: Mädergutstrasse 58\, 3018 Bern\n
LOCATION:Mädergutstrasse 58\, 3018 Bern
CATEGORIES:Saison 2025/26
END:VEVENT
BEGIN:VEVENT
DTSTAMP:20260424T083902Z
DTSTART;TZID=Europe/Berlin:20260302T193000
DTEND;TZID=Europe/Berlin:20260302T223000
SUMMARY:HE 5. Liga Gr. 3 Niederscherli vs Grauholz III (17)
UID:2171fe80-dece-419a-a64c-8395f33ace95
STATUS:CONFIRMED
LAST-MODIFIED:20260308T174109Z
DESCRIPTION:5. Liga Herren Gruppe 3\nBegegnungs-Nr: 17\nHeim: Niederscherli\nGast: Grauholz III\n\nAdresse: Bodengässli 6\, 3145 Niederscherli\n
LOCATION:Bodengässli 6\, 3145 Niederscherli
CATEGORIES:Saison 2025/26
END:VEVENT
BEGIN:VEVENT
DTSTAMP:20260424T083902Z
DTSTART;TZID=Europe/Berlin:20260108T193000
DTEND;TZID=Europe/Berlin:20260108T223000
SUMMARY:HE 5. Liga Gr. 3 Wohlensee IV vs Grauholz III (1)
UID:a262d0ee-e06c-4d8d-9dbf-4597ae6e0018
STATUS:CONFIRMED
LAST-MODIFIED:20260125T002402Z
DESCRIPTION:5. Liga Herren Gruppe 3\nBegegnungs-Nr: 1\nHeim: Wohlensee IV\nGast: Grauholz III\n\nAdresse: Kappelenring 36 a\, 3032 Hinterkappelen\n
LOCATION:Kappelenring 36 a\, 3032 Hinterkappelen
CATEGORIES:Saison 2025/26
END:VEVENT
BEGIN:VEVENT
DTSTAMP:20260424T083902Z
DTSTART;TZID=Europe/Berlin:20260206T194500
DTEND;TZID=Europe/Berlin:20260206T224500
SUMMARY:HE 5. Liga Gr. 3 Ostermundigen IX vs Grauholz III (9)
UID:58bad286-d634-4c7f-afdc-8b0a78984170
STATUS:CONFIRMED
LAST-MODIFIED:20260217T214200Z
DESCRIPTION:5. Liga Herren Gruppe 3\nBegegnungs-Nr: 9\nHeim: Ostermundigen IX\nGast: Grauholz III\n\nAdresse: Dennigkofenweg 169\, 3072 Ostermundigen\n
LOCATION:Dennigkofenweg 169\, 3072 Ostermundigen
CATEGORIES:Saison 2025/26
END:VEVENT
END:VCALENDAR
