BEGIN:VCALENDAR
PRODID:-//nuDatenautomaten//framework iCal4j //DE
VERSION:2.0
CALSCALE:GREGORIAN
BEGIN:VTIMEZONE
TZID:Europe/Berlin
LAST-MODIFIED:20260306T231828Z
TZURL:https://www.tzurl.org/zoneinfo/Europe/Berlin
X-LIC-LOCATION:Europe/Berlin
X-PROLEPTIC-TZNAME:LMT
BEGIN:STANDARD
TZNAME:CET
TZOFFSETFROM:+005328
TZOFFSETTO:+0100
DTSTART:18930401T000000
END:STANDARD
BEGIN:DAYLIGHT
TZNAME:CEST
TZOFFSETFROM:+0100
TZOFFSETTO:+0200
DTSTART:19160430T230000
RDATE:19400401T020000
RDATE:19430329T020000
RDATE:19460414T020000
RDATE:19470406T030000
RDATE:19480418T020000
RDATE:19490410T020000
RDATE:19800406T020000
END:DAYLIGHT
BEGIN:STANDARD
TZNAME:CET
TZOFFSETFROM:+0200
TZOFFSETTO:+0100
DTSTART:19161001T010000
RDATE:19421102T030000
RDATE:19431004T030000
RDATE:19441002T030000
RDATE:19451118T030000
RDATE:19461007T030000
END:STANDARD
BEGIN:DAYLIGHT
TZNAME:CEST
TZOFFSETFROM:+0100
TZOFFSETTO:+0200
DTSTART:19170416T020000
RRULE:FREQ=YEARLY;UNTIL=19180415T010000Z;BYMONTH=4;BYDAY=3MO
END:DAYLIGHT
BEGIN:STANDARD
TZNAME:CET
TZOFFSETFROM:+0200
TZOFFSETTO:+0100
DTSTART:19170917T030000
RRULE:FREQ=YEARLY;UNTIL=19180916T010000Z;BYMONTH=9;BYDAY=3MO
END:STANDARD
BEGIN:DAYLIGHT
TZNAME:CEST
TZOFFSETFROM:+0100
TZOFFSETTO:+0200
DTSTART:19440403T020000
RRULE:FREQ=YEARLY;UNTIL=19450402T010000Z;BYMONTH=4;BYDAY=1MO
END:DAYLIGHT
BEGIN:DAYLIGHT
TZNAME:CEMT
TZOFFSETFROM:+0200
TZOFFSETTO:+0300
DTSTART:19450524T020000
RDATE:19470511T030000
END:DAYLIGHT
BEGIN:DAYLIGHT
TZNAME:CEST
TZOFFSETFROM:+0300
TZOFFSETTO:+0200
DTSTART:19450924T030000
RDATE:19470629T030000
END:DAYLIGHT
BEGIN:STANDARD
TZNAME:CET
TZOFFSETFROM:+0100
TZOFFSETTO:+0100
DTSTART:19460101T000000
RDATE:19800101T000000
END:STANDARD
BEGIN:STANDARD
TZNAME:CET
TZOFFSETFROM:+0200
TZOFFSETTO:+0100
DTSTART:19471005T030000
RRULE:FREQ=YEARLY;UNTIL=19491002T010000Z;BYMONTH=10;BYDAY=1SU
END:STANDARD
BEGIN:STANDARD
TZNAME:CET
TZOFFSETFROM:+0200
TZOFFSETTO:+0100
DTSTART:19800928T030000
RRULE:FREQ=YEARLY;UNTIL=19950924T010000Z;BYMONTH=9;BYDAY=-1SU
END:STANDARD
BEGIN:DAYLIGHT
TZNAME:CEST
TZOFFSETFROM:+0100
TZOFFSETTO:+0200
DTSTART:19810329T020000
RRULE:FREQ=YEARLY;BYMONTH=3;BYDAY=-1SU
END:DAYLIGHT
BEGIN:STANDARD
TZNAME:CET
TZOFFSETFROM:+0200
TZOFFSETTO:+0100
DTSTART:19961027T030000
RRULE:FREQ=YEARLY;BYMONTH=10;BYDAY=-1SU
END:STANDARD
END:VTIMEZONE
BEGIN:VEVENT
DTSTAMP:20260424T063715Z
DTSTART;TZID=Europe/Berlin:20251115T130000
DTEND;TZID=Europe/Berlin:20251115T160000
SUMMARY:HE 4. Liga Gr. 1 Thun V vs bls Spiez II (17)
UID:7fedd491-df41-45c0-ab87-41dd4ba1d807
STATUS:CONFIRMED
LAST-MODIFIED:20251122T090653Z
DESCRIPTION:4. Liga Herren Gruppe 1\nBegegnungs-Nr: 17\nHeim: Thun V\nGast: bls Spiez II\n\nAdresse: Hallerstrasse 28\, 3604 Thun\n
LOCATION:Hallerstrasse 28\, 3604 Thun
CATEGORIES:Saison 2025/26
END:VEVENT
BEGIN:VEVENT
DTSTAMP:20260424T063715Z
DTSTART;TZID=Europe/Berlin:20251108T130000
DTEND;TZID=Europe/Berlin:20251108T160000
SUMMARY:HE 4. Liga Gr. 1 Thun V vs Wichtrach (9)
UID:d872b0b5-643e-4e91-a702-b26b280b9135
STATUS:CONFIRMED
LAST-MODIFIED:20251122T090937Z
DESCRIPTION:4. Liga Herren Gruppe 1\nBegegnungs-Nr: 9\nHeim: Thun V\nGast: Wichtrach\n\nAdresse: Hallerstrasse 28\, 3604 Thun\n
LOCATION:Hallerstrasse 28\, 3604 Thun
CATEGORIES:Saison 2025/26
END:VEVENT
BEGIN:VEVENT
DTSTAMP:20260424T063715Z
DTSTART;TZID=Europe/Berlin:20250906T130000
DTEND;TZID=Europe/Berlin:20250906T160000
SUMMARY:HE 4. Liga Gr. 1 Thun V vs Belp III (1)
UID:b1c340ba-3310-4ed8-a1e4-2595f9e71898
STATUS:CONFIRMED
LAST-MODIFIED:20250907T195910Z
DESCRIPTION:4. Liga Herren Gruppe 1\nBegegnungs-Nr: 1\nHeim: Thun V\nGast: Belp III\n\nAdresse: Hallerstrasse 28\, 3604 Thun\n
LOCATION:Hallerstrasse 28\, 3604 Thun
CATEGORIES:Saison 2025/26
END:VEVENT
BEGIN:VEVENT
DTSTAMP:20260424T063715Z
DTSTART;TZID=Europe/Berlin:20251101T160000
DTEND;TZID=Europe/Berlin:20251101T190000
SUMMARY:HE 4. Liga Gr. 1 Thun V vs Münsingen II (25)
UID:4a4a3478-49b4-4e54-951e-08c3e3840ae5
STATUS:CONFIRMED
LAST-MODIFIED:20251111T072632Z
DESCRIPTION:4. Liga Herren Gruppe 1\nBegegnungs-Nr: 25\nHeim: Thun V\nGast: Münsingen II\n\nAdresse: Hallerstrasse 28\, 3604 Thun\n
LOCATION:Hallerstrasse 28\, 3604 Thun
CATEGORIES:Saison 2025/26
END:VEVENT
BEGIN:VEVENT
DTSTAMP:20260424T063715Z
DTSTART;TZID=Europe/Berlin:20260314T130000
DTEND;TZID=Europe/Berlin:20260314T160000
SUMMARY:HE 4. Liga Gr. 1 Thun V vs Interlaken II (21)
UID:fb34a4b6-cbb3-42c6-a246-7cf5069ef7f9
STATUS:CONFIRMED
LAST-MODIFIED:20260315T230038Z
DESCRIPTION:4. Liga Herren Gruppe 1\nBegegnungs-Nr: 21\nHeim: Thun V\nGast: Interlaken II\n\nAdresse: Hallerstrasse 28\, 3604 Thun\n
LOCATION:Hallerstrasse 28\, 3604 Thun
CATEGORIES:Saison 2025/26
END:VEVENT
BEGIN:VEVENT
DTSTAMP:20260424T063715Z
DTSTART;TZID=Europe/Berlin:20260221T160000
DTEND;TZID=Europe/Berlin:20260221T190000
SUMMARY:HE 4. Liga Gr. 1 Thun V vs Worb II (13)
UID:4612a959-c017-4526-907f-b6227d438dc8
STATUS:CONFIRMED
LAST-MODIFIED:20260224T075335Z
DESCRIPTION:4. Liga Herren Gruppe 1\nBegegnungs-Nr: 13\nHeim: Thun V\nGast: Worb II\n\nAdresse: Hallerstrasse 28\, 3604 Thun\n
LOCATION:Hallerstrasse 28\, 3604 Thun
CATEGORIES:Saison 2025/26
END:VEVENT
BEGIN:VEVENT
DTSTAMP:20260424T063715Z
DTSTART;TZID=Europe/Berlin:20260131T130000
DTEND;TZID=Europe/Berlin:20260131T160000
SUMMARY:HE 4. Liga Gr. 1 Thun V vs Ostermundigen VIII (5)
UID:9110b228-0720-4541-8405-7b6d8eea88cc
STATUS:CONFIRMED
LAST-MODIFIED:20260217T213145Z
DESCRIPTION:4. Liga Herren Gruppe 1\nBegegnungs-Nr: 5\nHeim: Thun V\nGast: Ostermundigen VIII\n\nAdresse: Hallerstrasse 28\, 3604 Thun\n
LOCATION:Hallerstrasse 28\, 3604 Thun
CATEGORIES:Saison 2025/26
END:VEVENT
BEGIN:VEVENT
DTSTAMP:20260424T063715Z
DTSTART;TZID=Europe/Berlin:20251128T194500
DTEND;TZID=Europe/Berlin:20251128T224500
SUMMARY:HE 4. Liga Gr. 1 Interlaken II vs Thun V (21)
UID:05af0df6-1c19-4a67-9286-c0976b5b296e
STATUS:CONFIRMED
LAST-MODIFIED:20251207T172727Z
DESCRIPTION:4. Liga Herren Gruppe 1\nBegegnungs-Nr: 21\nHeim: Interlaken II\nGast: Thun V\n\nAdresse: Burgweg 239R\, 3852 Ringgenberg\n
LOCATION:Burgweg 239R\, 3852 Ringgenberg
CATEGORIES:Saison 2025/26
END:VEVENT
BEGIN:VEVENT
DTSTAMP:20260424T063715Z
DTSTART;TZID=Europe/Berlin:20251105T194500
DTEND;TZID=Europe/Berlin:20251105T224500
SUMMARY:HE 4. Liga Gr. 1 Worb II vs Thun V (13)
UID:91a1fb3c-d41d-424d-9a44-e7867b5abbeb
STATUS:CONFIRMED
LAST-MODIFIED:20251127T111210Z
DESCRIPTION:4. Liga Herren Gruppe 1\nBegegnungs-Nr: 13\nHeim: Worb II\nGast: Thun V\n\nAdresse: Rosenweg 9\, 3075 Rüfenacht BE\n
LOCATION:Rosenweg 9\, 3075 Rüfenacht BE
CATEGORIES:Saison 2025/26
END:VEVENT
BEGIN:VEVENT
DTSTAMP:20260424T063715Z
DTSTART;TZID=Europe/Berlin:20250919T194500
DTEND;TZID=Europe/Berlin:20250919T224500
SUMMARY:HE 4. Liga Gr. 1 Ostermundigen VIII vs Thun V (5)
UID:f6c76cf9-6ef4-4508-a0f5-02bf517ae6bd
STATUS:CONFIRMED
LAST-MODIFIED:20250921T150427Z
DESCRIPTION:4. Liga Herren Gruppe 1\nBegegnungs-Nr: 5\nHeim: Ostermundigen VIII\nGast: Thun V\n\nAdresse: Dennigkofenweg 169\, 3072 Ostermundigen\n
LOCATION:Dennigkofenweg 169\, 3072 Ostermundigen
CATEGORIES:Saison 2025/26
END:VEVENT
BEGIN:VEVENT
DTSTAMP:20260424T063715Z
DTSTART;TZID=Europe/Berlin:20260330T193000
DTEND;TZID=Europe/Berlin:20260330T223000
SUMMARY:HE 4. Liga Gr. 1 Münsingen II vs Thun V (25)
UID:78865a2c-81fc-4246-b88c-3fc5ed7c5fdc
STATUS:CONFIRMED
LAST-MODIFIED:20260409T122952Z
DESCRIPTION:4. Liga Herren Gruppe 1\nBegegnungs-Nr: 25\nHeim: Münsingen II\nGast: Thun V\n\nAdresse: Turnhallenweg 8\, 3110 Münsingen\n
LOCATION:Turnhallenweg 8\, 3110 Münsingen
CATEGORIES:Saison 2025/26
END:VEVENT
BEGIN:VEVENT
DTSTAMP:20260424T063715Z
DTSTART;TZID=Europe/Berlin:20260303T194500
DTEND;TZID=Europe/Berlin:20260303T224500
SUMMARY:HE 4. Liga Gr. 1 bls Spiez II vs Thun V (17)
UID:c852a992-ee9f-4b1f-b1d5-f86694fc0c7a
STATUS:CONFIRMED
LAST-MODIFIED:20260308T175251Z
DESCRIPTION:4. Liga Herren Gruppe 1\nBegegnungs-Nr: 17\nHeim: bls Spiez II\nGast: Thun V\n\nAdresse: Hofachernweg 19 / Oberlandstr. 89\, 3700 Spiez\n
LOCATION:Hofachernweg 19 / Oberlandstr. 89\, 3700 Spiez
CATEGORIES:Saison 2025/26
END:VEVENT
BEGIN:VEVENT
DTSTAMP:20260424T063715Z
DTSTART;TZID=Europe/Berlin:20260107T193000
DTEND;TZID=Europe/Berlin:20260107T223000
SUMMARY:HE 4. Liga Gr. 1 Belp III vs Thun V (1)
UID:bd1638d9-c5fd-471a-838a-78e3bb9fe43e
STATUS:CONFIRMED
LAST-MODIFIED:20260125T001434Z
DESCRIPTION:4. Liga Herren Gruppe 1\nBegegnungs-Nr: 1\nHeim: Belp III\nGast: Thun V\n\nAdresse: Neumattstrasse 39\, 3123 Belp\n
LOCATION:Neumattstrasse 39\, 3123 Belp
CATEGORIES:Saison 2025/26
END:VEVENT
BEGIN:VEVENT
DTSTAMP:20260424T063715Z
DTSTART;TZID=Europe/Berlin:20260206T200000
DTEND;TZID=Europe/Berlin:20260206T230000
SUMMARY:HE 4. Liga Gr. 1 Wichtrach vs Thun V (9)
UID:782b99f5-8842-43d5-b363-f77303548485
STATUS:CONFIRMED
LAST-MODIFIED:20260217T213205Z
DESCRIPTION:4. Liga Herren Gruppe 1\nBegegnungs-Nr: 9\nHeim: Wichtrach\nGast: Thun V\n\nAdresse: Hängertstrasse 4\, 3114 Wichtrach\n
LOCATION:Hängertstrasse 4\, 3114 Wichtrach
CATEGORIES:Saison 2025/26
END:VEVENT
END:VCALENDAR
