BEGIN:VCALENDAR
PRODID:-//nuDatenautomaten//framework iCal4j //DE
VERSION:2.0
CALSCALE:GREGORIAN
BEGIN:VTIMEZONE
TZID:Europe/Berlin
LAST-MODIFIED:20260306T231828Z
TZURL:https://www.tzurl.org/zoneinfo/Europe/Berlin
X-LIC-LOCATION:Europe/Berlin
X-PROLEPTIC-TZNAME:LMT
BEGIN:STANDARD
TZNAME:CET
TZOFFSETFROM:+005328
TZOFFSETTO:+0100
DTSTART:18930401T000000
END:STANDARD
BEGIN:DAYLIGHT
TZNAME:CEST
TZOFFSETFROM:+0100
TZOFFSETTO:+0200
DTSTART:19160430T230000
RDATE:19400401T020000
RDATE:19430329T020000
RDATE:19460414T020000
RDATE:19470406T030000
RDATE:19480418T020000
RDATE:19490410T020000
RDATE:19800406T020000
END:DAYLIGHT
BEGIN:STANDARD
TZNAME:CET
TZOFFSETFROM:+0200
TZOFFSETTO:+0100
DTSTART:19161001T010000
RDATE:19421102T030000
RDATE:19431004T030000
RDATE:19441002T030000
RDATE:19451118T030000
RDATE:19461007T030000
END:STANDARD
BEGIN:DAYLIGHT
TZNAME:CEST
TZOFFSETFROM:+0100
TZOFFSETTO:+0200
DTSTART:19170416T020000
RRULE:FREQ=YEARLY;UNTIL=19180415T010000Z;BYMONTH=4;BYDAY=3MO
END:DAYLIGHT
BEGIN:STANDARD
TZNAME:CET
TZOFFSETFROM:+0200
TZOFFSETTO:+0100
DTSTART:19170917T030000
RRULE:FREQ=YEARLY;UNTIL=19180916T010000Z;BYMONTH=9;BYDAY=3MO
END:STANDARD
BEGIN:DAYLIGHT
TZNAME:CEST
TZOFFSETFROM:+0100
TZOFFSETTO:+0200
DTSTART:19440403T020000
RRULE:FREQ=YEARLY;UNTIL=19450402T010000Z;BYMONTH=4;BYDAY=1MO
END:DAYLIGHT
BEGIN:DAYLIGHT
TZNAME:CEMT
TZOFFSETFROM:+0200
TZOFFSETTO:+0300
DTSTART:19450524T020000
RDATE:19470511T030000
END:DAYLIGHT
BEGIN:DAYLIGHT
TZNAME:CEST
TZOFFSETFROM:+0300
TZOFFSETTO:+0200
DTSTART:19450924T030000
RDATE:19470629T030000
END:DAYLIGHT
BEGIN:STANDARD
TZNAME:CET
TZOFFSETFROM:+0100
TZOFFSETTO:+0100
DTSTART:19460101T000000
RDATE:19800101T000000
END:STANDARD
BEGIN:STANDARD
TZNAME:CET
TZOFFSETFROM:+0200
TZOFFSETTO:+0100
DTSTART:19471005T030000
RRULE:FREQ=YEARLY;UNTIL=19491002T010000Z;BYMONTH=10;BYDAY=1SU
END:STANDARD
BEGIN:STANDARD
TZNAME:CET
TZOFFSETFROM:+0200
TZOFFSETTO:+0100
DTSTART:19800928T030000
RRULE:FREQ=YEARLY;UNTIL=19950924T010000Z;BYMONTH=9;BYDAY=-1SU
END:STANDARD
BEGIN:DAYLIGHT
TZNAME:CEST
TZOFFSETFROM:+0100
TZOFFSETTO:+0200
DTSTART:19810329T020000
RRULE:FREQ=YEARLY;BYMONTH=3;BYDAY=-1SU
END:DAYLIGHT
BEGIN:STANDARD
TZNAME:CET
TZOFFSETFROM:+0200
TZOFFSETTO:+0100
DTSTART:19961027T030000
RRULE:FREQ=YEARLY;BYMONTH=10;BYDAY=-1SU
END:STANDARD
END:VTIMEZONE
BEGIN:VEVENT
DTSTAMP:20260424T084017Z
DTSTART;TZID=Europe/Berlin:20251121T200000
DTEND;TZID=Europe/Berlin:20251121T230000
SUMMARY:HE 5. Liga Gr. 2 Köniz IV vs Regio Moossee III (18)
UID:e9df4c4e-a021-4695-9e4b-e47f9ab78143
STATUS:CONFIRMED
LAST-MODIFIED:20251122T091340Z
DESCRIPTION:5. Liga Herren Gruppe 2\nBegegnungs-Nr: 18\nHeim: Köniz IV\nGast: Regio Moossee III\n\nAdresse: Kirchstrasse 72-76\, 3084 Wabern\n
LOCATION:Kirchstrasse 72-76\, 3084 Wabern
CATEGORIES:Saison 2025/26
END:VEVENT
BEGIN:VEVENT
DTSTAMP:20260424T084017Z
DTSTART;TZID=Europe/Berlin:20251107T200000
DTEND;TZID=Europe/Berlin:20251107T230000
SUMMARY:HE 5. Liga Gr. 2 Köniz IV vs Langnau IV (11)
UID:ad1b2890-0562-44ce-8851-af629dc499ad
STATUS:CONFIRMED
LAST-MODIFIED:20251115T173233Z
DESCRIPTION:5. Liga Herren Gruppe 2\nBegegnungs-Nr: 11\nHeim: Köniz IV\nGast: Langnau IV\n\nAdresse: Kirchstrasse 72-76\, 3084 Wabern\n
LOCATION:Kirchstrasse 72-76\, 3084 Wabern
CATEGORIES:Saison 2025/26
END:VEVENT
BEGIN:VEVENT
DTSTAMP:20260424T084017Z
DTSTART;TZID=Europe/Berlin:20260227T200000
DTEND;TZID=Europe/Berlin:20260227T230000
SUMMARY:HE 5. Liga Gr. 2 Köniz IV vs Bern XII (14)
UID:bfcd72c4-cd16-43c7-9b2f-2ca33963cef9
STATUS:CONFIRMED
LAST-MODIFIED:20260302T144853Z
DESCRIPTION:5. Liga Herren Gruppe 2\nBegegnungs-Nr: 14\nHeim: Köniz IV\nGast: Bern XII\n\nAdresse: Kirchstrasse 72-76\, 3084 Wabern\n
LOCATION:Kirchstrasse 72-76\, 3084 Wabern
CATEGORIES:Saison 2025/26
END:VEVENT
BEGIN:VEVENT
DTSTAMP:20260424T084017Z
DTSTART;TZID=Europe/Berlin:20260116T200000
DTEND;TZID=Europe/Berlin:20260116T230000
SUMMARY:HE 5. Liga Gr. 2 Köniz IV vs Ostermundigen X (3)
UID:1cbc88bd-ce3b-435a-bd54-b1476fa8b756
STATUS:CONFIRMED
LAST-MODIFIED:20260125T002308Z
DESCRIPTION:5. Liga Herren Gruppe 2\nBegegnungs-Nr: 3\nHeim: Köniz IV\nGast: Ostermundigen X\n\nAdresse: Kirchstrasse 72-76\, 3084 Wabern\n
LOCATION:Kirchstrasse 72-76\, 3084 Wabern
CATEGORIES:Saison 2025/26
END:VEVENT
BEGIN:VEVENT
DTSTAMP:20260424T084017Z
DTSTART;TZID=Europe/Berlin:20251010T200000
DTEND;TZID=Europe/Berlin:20251010T230000
SUMMARY:HE 5. Liga Gr. 2 Köniz IV vs Düdingen III (4)
UID:c9417958-a1e3-497f-80f7-9b67d3bfb0f8
STATUS:CONFIRMED
LAST-MODIFIED:20251014T112804Z
DESCRIPTION:5. Liga Herren Gruppe 2\nBegegnungs-Nr: 4\nHeim: Köniz IV\nGast: Düdingen III\n\nAdresse: Kirchstrasse 72-76\, 3084 Wabern\n
LOCATION:Kirchstrasse 72-76\, 3084 Wabern
CATEGORIES:Saison 2025/26
END:VEVENT
BEGIN:VEVENT
DTSTAMP:20260424T084017Z
DTSTART;TZID=Europe/Berlin:20251212T200000
DTEND;TZID=Europe/Berlin:20251212T230000
SUMMARY:HE 5. Liga Gr. 2 Köniz IV vs Tiefenau II (21)
UID:0c8ba2c2-7454-4544-ac6c-4e83775324d5
STATUS:CONFIRMED
LAST-MODIFIED:20251216T120820Z
DESCRIPTION:5. Liga Herren Gruppe 2\nBegegnungs-Nr: 21\nHeim: Köniz IV\nGast: Tiefenau II\n\nAdresse: Kirchstrasse 72-76\, 3084 Wabern\n
LOCATION:Kirchstrasse 72-76\, 3084 Wabern
CATEGORIES:Saison 2025/26
END:VEVENT
BEGIN:VEVENT
DTSTAMP:20260424T084017Z
DTSTART;TZID=Europe/Berlin:20260515T000000
DTEND;TZID=Europe/Berlin:20260515T030000
SUMMARY:HE 5. Liga Final Gr. 2 Köniz IV vs Burgdorf IX (1)
UID:c0d389a0-339d-495f-898b-3b3de5a74e75
STATUS:CONFIRMED
DESCRIPTION:5. Liga Herren Final Gr. 2\nBegegnungs-Nr: 1\nHeim: Köniz IV\nGast: Burgdorf IX\n
LOCATION:
CATEGORIES:Saison 2025/26
END:VEVENT
BEGIN:VEVENT
DTSTAMP:20260424T084017Z
DTSTART;TZID=Europe/Berlin:20251113T200000
DTEND;TZID=Europe/Berlin:20251113T230000
SUMMARY:HE 5. Liga Gr. 2 Bern XII vs Köniz IV (14)
UID:c9c0a052-786c-4cc9-975a-e7bdf941e871
STATUS:CONFIRMED
LAST-MODIFIED:20251115T173254Z
DESCRIPTION:5. Liga Herren Gruppe 2\nBegegnungs-Nr: 14\nHeim: Bern XII\nGast: Köniz IV\n\nAdresse: Mädergutstrasse 58\, 3018 Bern\n
LOCATION:Mädergutstrasse 58\, 3018 Bern
CATEGORIES:Saison 2025/26
END:VEVENT
BEGIN:VEVENT
DTSTAMP:20260424T084017Z
DTSTART;TZID=Europe/Berlin:20260313T194500
DTEND;TZID=Europe/Berlin:20260313T224500
SUMMARY:HE 5. Liga Gr. 2 Regio Moossee III vs Köniz IV (18)
UID:0584d2db-2fc8-4eff-9b20-062c135ff3a2
STATUS:CONFIRMED
LAST-MODIFIED:20260327T143850Z
DESCRIPTION:5. Liga Herren Gruppe 2\nBegegnungs-Nr: 18\nHeim: Regio Moossee III\nGast: Köniz IV\n\nAdresse: Schulhausstrasse 23-25\, 3302 Moosseedorf\n
LOCATION:Schulhausstrasse 23-25\, 3302 Moosseedorf
CATEGORIES:Saison 2025/26
END:VEVENT
BEGIN:VEVENT
DTSTAMP:20260424T084017Z
DTSTART;TZID=Europe/Berlin:20260326T194500
DTEND;TZID=Europe/Berlin:20260326T224500
SUMMARY:HE 5. Liga Gr. 2 Tiefenau II vs Köniz IV (21)
UID:07cfa46b-5334-496d-abf7-d7499aaa1a6f
STATUS:CONFIRMED
LAST-MODIFIED:20260409T123125Z
DESCRIPTION:5. Liga Herren Gruppe 2\nBegegnungs-Nr: 21\nHeim: Tiefenau II\nGast: Köniz IV\n\nAdresse: Studerstrasse 56\, 3004 Bern\n
LOCATION:Studerstrasse 56\, 3004 Bern
CATEGORIES:Saison 2025/26
END:VEVENT
BEGIN:VEVENT
DTSTAMP:20260424T084017Z
DTSTART;TZID=Europe/Berlin:20260218T200000
DTEND;TZID=Europe/Berlin:20260218T230000
SUMMARY:HE 5. Liga Gr. 2 Langnau IV vs Köniz IV (11)
UID:280c7ccc-262a-4f42-a6c8-6064d4feb7b6
STATUS:CONFIRMED
LAST-MODIFIED:20260220T123428Z
DESCRIPTION:5. Liga Herren Gruppe 2\nBegegnungs-Nr: 11\nHeim: Langnau IV\nGast: Köniz IV\n\nAdresse: Bleicheweg 11\, 3550 Langnau\n
LOCATION:Bleicheweg 11\, 3550 Langnau
CATEGORIES:Saison 2025/26
END:VEVENT
BEGIN:VEVENT
DTSTAMP:20260424T084017Z
DTSTART;TZID=Europe/Berlin:20260202T194500
DTEND;TZID=Europe/Berlin:20260202T224500
SUMMARY:HE 5. Liga Gr. 2 Düdingen III vs Köniz IV (4)
UID:01a2be58-c1fe-4271-8a3b-b2f780d9c701
STATUS:CONFIRMED
LAST-MODIFIED:20260217T212520Z
DESCRIPTION:5. Liga Herren Gruppe 2\nBegegnungs-Nr: 4\nHeim: Düdingen III\nGast: Köniz IV\n\nAdresse: Alfons-Aeby-Strasse\, 3186 Düdingen\n
LOCATION:Alfons-Aeby-Strasse\, 3186 Düdingen
CATEGORIES:Saison 2025/26
END:VEVENT
BEGIN:VEVENT
DTSTAMP:20260424T084017Z
DTSTART;TZID=Europe/Berlin:20250903T194500
DTEND;TZID=Europe/Berlin:20250903T224500
SUMMARY:HE 5. Liga Gr. 2 Ostermundigen X vs Köniz IV (3)
UID:3a3c6aa5-d410-4aee-a495-92f6bdc97cc2
STATUS:CONFIRMED
LAST-MODIFIED:20250907T195502Z
DESCRIPTION:5. Liga Herren Gruppe 2\nBegegnungs-Nr: 3\nHeim: Ostermundigen X\nGast: Köniz IV\n\nAdresse: Dennigkofenweg 169\, 3072 Ostermundigen\n
LOCATION:Dennigkofenweg 169\, 3072 Ostermundigen
CATEGORIES:Saison 2025/26
END:VEVENT
END:VCALENDAR
