BEGIN:VCALENDAR
PRODID:-//nuDatenautomaten//framework iCal4j //DE
VERSION:2.0
CALSCALE:GREGORIAN
BEGIN:VTIMEZONE
TZID:Europe/Berlin
LAST-MODIFIED:20260306T231828Z
TZURL:https://www.tzurl.org/zoneinfo/Europe/Berlin
X-LIC-LOCATION:Europe/Berlin
X-PROLEPTIC-TZNAME:LMT
BEGIN:STANDARD
TZNAME:CET
TZOFFSETFROM:+005328
TZOFFSETTO:+0100
DTSTART:18930401T000000
END:STANDARD
BEGIN:DAYLIGHT
TZNAME:CEST
TZOFFSETFROM:+0100
TZOFFSETTO:+0200
DTSTART:19160430T230000
RDATE:19400401T020000
RDATE:19430329T020000
RDATE:19460414T020000
RDATE:19470406T030000
RDATE:19480418T020000
RDATE:19490410T020000
RDATE:19800406T020000
END:DAYLIGHT
BEGIN:STANDARD
TZNAME:CET
TZOFFSETFROM:+0200
TZOFFSETTO:+0100
DTSTART:19161001T010000
RDATE:19421102T030000
RDATE:19431004T030000
RDATE:19441002T030000
RDATE:19451118T030000
RDATE:19461007T030000
END:STANDARD
BEGIN:DAYLIGHT
TZNAME:CEST
TZOFFSETFROM:+0100
TZOFFSETTO:+0200
DTSTART:19170416T020000
RRULE:FREQ=YEARLY;UNTIL=19180415T010000Z;BYMONTH=4;BYDAY=3MO
END:DAYLIGHT
BEGIN:STANDARD
TZNAME:CET
TZOFFSETFROM:+0200
TZOFFSETTO:+0100
DTSTART:19170917T030000
RRULE:FREQ=YEARLY;UNTIL=19180916T010000Z;BYMONTH=9;BYDAY=3MO
END:STANDARD
BEGIN:DAYLIGHT
TZNAME:CEST
TZOFFSETFROM:+0100
TZOFFSETTO:+0200
DTSTART:19440403T020000
RRULE:FREQ=YEARLY;UNTIL=19450402T010000Z;BYMONTH=4;BYDAY=1MO
END:DAYLIGHT
BEGIN:DAYLIGHT
TZNAME:CEMT
TZOFFSETFROM:+0200
TZOFFSETTO:+0300
DTSTART:19450524T020000
RDATE:19470511T030000
END:DAYLIGHT
BEGIN:DAYLIGHT
TZNAME:CEST
TZOFFSETFROM:+0300
TZOFFSETTO:+0200
DTSTART:19450924T030000
RDATE:19470629T030000
END:DAYLIGHT
BEGIN:STANDARD
TZNAME:CET
TZOFFSETFROM:+0100
TZOFFSETTO:+0100
DTSTART:19460101T000000
RDATE:19800101T000000
END:STANDARD
BEGIN:STANDARD
TZNAME:CET
TZOFFSETFROM:+0200
TZOFFSETTO:+0100
DTSTART:19471005T030000
RRULE:FREQ=YEARLY;UNTIL=19491002T010000Z;BYMONTH=10;BYDAY=1SU
END:STANDARD
BEGIN:STANDARD
TZNAME:CET
TZOFFSETFROM:+0200
TZOFFSETTO:+0100
DTSTART:19800928T030000
RRULE:FREQ=YEARLY;UNTIL=19950924T010000Z;BYMONTH=9;BYDAY=-1SU
END:STANDARD
BEGIN:DAYLIGHT
TZNAME:CEST
TZOFFSETFROM:+0100
TZOFFSETTO:+0200
DTSTART:19810329T020000
RRULE:FREQ=YEARLY;BYMONTH=3;BYDAY=-1SU
END:DAYLIGHT
BEGIN:STANDARD
TZNAME:CET
TZOFFSETFROM:+0200
TZOFFSETTO:+0100
DTSTART:19961027T030000
RRULE:FREQ=YEARLY;BYMONTH=10;BYDAY=-1SU
END:STANDARD
END:VTIMEZONE
BEGIN:VEVENT
DTSTAMP:20260424T115106Z
DTSTART;TZID=Europe/Berlin:20250917T194500
DTEND;TZID=Europe/Berlin:20250917T224500
SUMMARY:HE 5. Liga Gr. 5 Solothurn VI vs Lyss VI (4)
UID:fdde998b-9d8a-4ae8-935f-5a1ef67d2695
STATUS:CONFIRMED
LAST-MODIFIED:20250918T140347Z
DESCRIPTION:5. Liga Herren Gruppe 5\nBegegnungs-Nr: 4\nHeim: Solothurn VI\nGast: Lyss VI\n\nAdresse: Untere Sternengasse 24\, 4500 Solothurn\n
LOCATION:Untere Sternengasse 24\, 4500 Solothurn
CATEGORIES:Saison 2025/26
END:VEVENT
BEGIN:VEVENT
DTSTAMP:20260424T115106Z
DTSTART;TZID=Europe/Berlin:20250910T194500
DTEND;TZID=Europe/Berlin:20250910T224500
SUMMARY:HE 5. Liga Gr. 5 Solothurn VI vs Erlach III (3)
UID:6b70ecce-5cb1-4707-b11a-a64911a3a118
STATUS:CONFIRMED
LAST-MODIFIED:20250918T140433Z
DESCRIPTION:5. Liga Herren Gruppe 5\nBegegnungs-Nr: 3\nHeim: Solothurn VI\nGast: Erlach III\n\nAdresse: Untere Sternengasse 24\, 4500 Solothurn\n
LOCATION:Untere Sternengasse 24\, 4500 Solothurn
CATEGORIES:Saison 2025/26
END:VEVENT
BEGIN:VEVENT
DTSTAMP:20260424T115106Z
DTSTART;TZID=Europe/Berlin:20251126T194500
DTEND;TZID=Europe/Berlin:20251126T224500
SUMMARY:HE 5. Liga Gr. 5 Solothurn VI vs Grenchen II (18)
UID:7b30be99-d990-4767-baf6-bc2bf36639ed
STATUS:CONFIRMED
LAST-MODIFIED:20251207T174539Z
DESCRIPTION:5. Liga Herren Gruppe 5\nBegegnungs-Nr: 18\nHeim: Solothurn VI\nGast: Grenchen II\n\nAdresse: Untere Sternengasse 24\, 4500 Solothurn\n
LOCATION:Untere Sternengasse 24\, 4500 Solothurn
CATEGORIES:Saison 2025/26
END:VEVENT
BEGIN:VEVENT
DTSTAMP:20260424T115106Z
DTSTART;TZID=Europe/Berlin:20251212T200000
DTEND;TZID=Europe/Berlin:20251212T230000
SUMMARY:HE 5. Liga Gr. 5 Solothurn VI vs Utzenstorf (21)
UID:bffebca4-f940-4b33-8fba-e1d674e93f9f
STATUS:CONFIRMED
LAST-MODIFIED:20251216T120957Z
DESCRIPTION:5. Liga Herren Gruppe 5\nBegegnungs-Nr: 21\nHeim: Solothurn VI\nGast: Utzenstorf\n\nAdresse: Untere Sternengasse 24\, 4500 Solothurn\n
LOCATION:Untere Sternengasse 24\, 4500 Solothurn
CATEGORIES:Saison 2025/26
END:VEVENT
BEGIN:VEVENT
DTSTAMP:20260424T115106Z
DTSTART;TZID=Europe/Berlin:20260304T194500
DTEND;TZID=Europe/Berlin:20260304T224500
SUMMARY:HE 5. Liga Gr. 5 Solothurn VI vs Burgdorf X (14)
UID:69c2194d-b7a8-4529-9921-e9e56da5fa2d
STATUS:CONFIRMED
LAST-MODIFIED:20260308T173202Z
DESCRIPTION:5. Liga Herren Gruppe 5\nBegegnungs-Nr: 14\nHeim: Solothurn VI\nGast: Burgdorf X\n\nAdresse: Untere Sternengasse 24\, 4500 Solothurn\n
LOCATION:Untere Sternengasse 24\, 4500 Solothurn
CATEGORIES:Saison 2025/26
END:VEVENT
BEGIN:VEVENT
DTSTAMP:20260424T115106Z
DTSTART;TZID=Europe/Berlin:20260211T194500
DTEND;TZID=Europe/Berlin:20260211T224500
SUMMARY:HE 5. Liga Gr. 5 Solothurn VI vs Port IX (8)
UID:094cf4dd-7dd7-44ac-813e-5dc1f6d6ab27
STATUS:CONFIRMED
LAST-MODIFIED:20260217T214912Z
DESCRIPTION:5. Liga Herren Gruppe 5\nBegegnungs-Nr: 8\nHeim: Solothurn VI\nGast: Port IX\n\nAdresse: Untere Sternengasse 24\, 4500 Solothurn\n
LOCATION:Untere Sternengasse 24\, 4500 Solothurn
CATEGORIES:Saison 2025/26
END:VEVENT
BEGIN:VEVENT
DTSTAMP:20260424T115106Z
DTSTART;TZID=Europe/Berlin:20251114T193000
DTEND;TZID=Europe/Berlin:20251114T223000
SUMMARY:HE 5. Liga Gr. 5 Burgdorf X vs Solothurn VI (14)
UID:5623f6af-da4f-46a2-9911-3eff8aec13c8
STATUS:CONFIRMED
LAST-MODIFIED:20251115T173515Z
DESCRIPTION:5. Liga Herren Gruppe 5\nBegegnungs-Nr: 14\nHeim: Burgdorf X\nGast: Solothurn VI\n\nAdresse: Pestalozzistrasse 69\, 3400 Burgdorf\n
LOCATION:Pestalozzistrasse 69\, 3400 Burgdorf
CATEGORIES:Saison 2025/26
END:VEVENT
BEGIN:VEVENT
DTSTAMP:20260424T115106Z
DTSTART;TZID=Europe/Berlin:20251111T194500
DTEND;TZID=Europe/Berlin:20251111T224500
SUMMARY:HE 5. Liga Gr. 5 Port IX vs Solothurn VI (8)
UID:8ef3b968-15ca-4375-8782-41d9bb1a03b7
STATUS:CONFIRMED
LAST-MODIFIED:20251115T173504Z
DESCRIPTION:5. Liga Herren Gruppe 5\nBegegnungs-Nr: 8\nHeim: Port IX\nGast: Solothurn VI\n\nAdresse: Allmendstrasse 23\, 2562 Port\n
LOCATION:Allmendstrasse 23\, 2562 Port
CATEGORIES:Saison 2025/26
END:VEVENT
BEGIN:VEVENT
DTSTAMP:20260424T115106Z
DTSTART;TZID=Europe/Berlin:20260326T200000
DTEND;TZID=Europe/Berlin:20260326T230000
SUMMARY:HE 5. Liga Gr. 5 Utzenstorf vs Solothurn VI (21)
UID:7d15b87a-2c71-44b7-ae68-67931ee944c8
STATUS:CONFIRMED
LAST-MODIFIED:20260409T122628Z
DESCRIPTION:5. Liga Herren Gruppe 5\nBegegnungs-Nr: 21\nHeim: Utzenstorf\nGast: Solothurn VI\n\nAdresse: Gotthelfstrasse 15a\, 3427 Utzenstorf\n
LOCATION:Gotthelfstrasse 15a\, 3427 Utzenstorf
CATEGORIES:Saison 2025/26
END:VEVENT
BEGIN:VEVENT
DTSTAMP:20260424T115106Z
DTSTART;TZID=Europe/Berlin:20260313T194500
DTEND;TZID=Europe/Berlin:20260313T224500
SUMMARY:HE 5. Liga Gr. 5 Grenchen II vs Solothurn VI (18)
UID:7d2f36b7-9da4-4101-b786-12529d6f48bb
STATUS:CONFIRMED
LAST-MODIFIED:20260315T230500Z
DESCRIPTION:5. Liga Herren Gruppe 5\nBegegnungs-Nr: 18\nHeim: Grenchen II\nGast: Solothurn VI\n\nAdresse: Witmattstrasse\, 2540 Grenchen\n
LOCATION:Witmattstrasse\, 2540 Grenchen
CATEGORIES:Saison 2025/26
END:VEVENT
BEGIN:VEVENT
DTSTAMP:20260424T115106Z
DTSTART;TZID=Europe/Berlin:20260127T200000
DTEND;TZID=Europe/Berlin:20260127T230000
SUMMARY:HE 5. Liga Gr. 5 Lyss VI vs Solothurn VI (4)
UID:c06db9b9-f30a-4363-9796-f4bd8cbd07f4
STATUS:CONFIRMED
LAST-MODIFIED:20260217T212408Z
DESCRIPTION:5. Liga Herren Gruppe 5\nBegegnungs-Nr: 4\nHeim: Lyss VI\nGast: Solothurn VI\n\nAdresse: Stegmattweg 15-17\, 3250 Lyss\n
LOCATION:Stegmattweg 15-17\, 3250 Lyss
CATEGORIES:Saison 2025/26
END:VEVENT
BEGIN:VEVENT
DTSTAMP:20260424T115106Z
DTSTART;TZID=Europe/Berlin:20260112T200000
DTEND;TZID=Europe/Berlin:20260112T230000
SUMMARY:HE 5. Liga Gr. 5 Erlach III vs Solothurn VI (3)
UID:093716ef-6fc7-421a-bc39-9b9a72d764c1
STATUS:CONFIRMED
LAST-MODIFIED:20260125T002627Z
DESCRIPTION:5. Liga Herren Gruppe 5\nBegegnungs-Nr: 3\nHeim: Erlach III\nGast: Solothurn VI\n\nAdresse: Vinelzstrasse 54 (24)\, 3235 Erlach\n
LOCATION:Vinelzstrasse 54 (24)\, 3235 Erlach
CATEGORIES:Saison 2025/26
END:VEVENT
END:VCALENDAR
