BEGIN:VCALENDAR
PRODID:-//nuDatenautomaten//framework iCal4j //DE
VERSION:2.0
CALSCALE:GREGORIAN
BEGIN:VTIMEZONE
TZID:Europe/Berlin
LAST-MODIFIED:20260306T231828Z
TZURL:https://www.tzurl.org/zoneinfo/Europe/Berlin
X-LIC-LOCATION:Europe/Berlin
X-PROLEPTIC-TZNAME:LMT
BEGIN:STANDARD
TZNAME:CET
TZOFFSETFROM:+005328
TZOFFSETTO:+0100
DTSTART:18930401T000000
END:STANDARD
BEGIN:DAYLIGHT
TZNAME:CEST
TZOFFSETFROM:+0100
TZOFFSETTO:+0200
DTSTART:19160430T230000
RDATE:19400401T020000
RDATE:19430329T020000
RDATE:19460414T020000
RDATE:19470406T030000
RDATE:19480418T020000
RDATE:19490410T020000
RDATE:19800406T020000
END:DAYLIGHT
BEGIN:STANDARD
TZNAME:CET
TZOFFSETFROM:+0200
TZOFFSETTO:+0100
DTSTART:19161001T010000
RDATE:19421102T030000
RDATE:19431004T030000
RDATE:19441002T030000
RDATE:19451118T030000
RDATE:19461007T030000
END:STANDARD
BEGIN:DAYLIGHT
TZNAME:CEST
TZOFFSETFROM:+0100
TZOFFSETTO:+0200
DTSTART:19170416T020000
RRULE:FREQ=YEARLY;UNTIL=19180415T010000Z;BYMONTH=4;BYDAY=3MO
END:DAYLIGHT
BEGIN:STANDARD
TZNAME:CET
TZOFFSETFROM:+0200
TZOFFSETTO:+0100
DTSTART:19170917T030000
RRULE:FREQ=YEARLY;UNTIL=19180916T010000Z;BYMONTH=9;BYDAY=3MO
END:STANDARD
BEGIN:DAYLIGHT
TZNAME:CEST
TZOFFSETFROM:+0100
TZOFFSETTO:+0200
DTSTART:19440403T020000
RRULE:FREQ=YEARLY;UNTIL=19450402T010000Z;BYMONTH=4;BYDAY=1MO
END:DAYLIGHT
BEGIN:DAYLIGHT
TZNAME:CEMT
TZOFFSETFROM:+0200
TZOFFSETTO:+0300
DTSTART:19450524T020000
RDATE:19470511T030000
END:DAYLIGHT
BEGIN:DAYLIGHT
TZNAME:CEST
TZOFFSETFROM:+0300
TZOFFSETTO:+0200
DTSTART:19450924T030000
RDATE:19470629T030000
END:DAYLIGHT
BEGIN:STANDARD
TZNAME:CET
TZOFFSETFROM:+0100
TZOFFSETTO:+0100
DTSTART:19460101T000000
RDATE:19800101T000000
END:STANDARD
BEGIN:STANDARD
TZNAME:CET
TZOFFSETFROM:+0200
TZOFFSETTO:+0100
DTSTART:19471005T030000
RRULE:FREQ=YEARLY;UNTIL=19491002T010000Z;BYMONTH=10;BYDAY=1SU
END:STANDARD
BEGIN:STANDARD
TZNAME:CET
TZOFFSETFROM:+0200
TZOFFSETTO:+0100
DTSTART:19800928T030000
RRULE:FREQ=YEARLY;UNTIL=19950924T010000Z;BYMONTH=9;BYDAY=-1SU
END:STANDARD
BEGIN:DAYLIGHT
TZNAME:CEST
TZOFFSETFROM:+0100
TZOFFSETTO:+0200
DTSTART:19810329T020000
RRULE:FREQ=YEARLY;BYMONTH=3;BYDAY=-1SU
END:DAYLIGHT
BEGIN:STANDARD
TZNAME:CET
TZOFFSETFROM:+0200
TZOFFSETTO:+0100
DTSTART:19961027T030000
RRULE:FREQ=YEARLY;BYMONTH=10;BYDAY=-1SU
END:STANDARD
END:VTIMEZONE
BEGIN:VEVENT
DTSTAMP:20260424T140433Z
DTSTART;TZID=Europe/Berlin:20250825T200000
DTEND;TZID=Europe/Berlin:20250825T230000
SUMMARY:HE 4. Liga Gr. 5 Grossaffoltern II vs Wynigen II (3)
UID:5406cc11-3a99-4217-984d-7b432fa2c1a6
STATUS:CONFIRMED
LAST-MODIFIED:20250828T192533Z
DESCRIPTION:4. Liga Herren Gruppe 5\nBegegnungs-Nr: 3\nHeim: Grossaffoltern II\nGast: Wynigen II\n\nAdresse: Schulhausstrasse 5 \, 3257 Grossaffoltern\n
LOCATION:Schulhausstrasse 5 \, 3257 Grossaffoltern
CATEGORIES:Saison 2025/26
END:VEVENT
BEGIN:VEVENT
DTSTAMP:20260424T140433Z
DTSTART;TZID=Europe/Berlin:20251201T200000
DTEND;TZID=Europe/Berlin:20251201T230000
SUMMARY:HE 4. Liga Gr. 5 Grossaffoltern II vs Lyss IV (17)
UID:9f895433-fa1f-475a-935c-3de7e38a1b83
STATUS:CONFIRMED
LAST-MODIFIED:20251207T173311Z
DESCRIPTION:4. Liga Herren Gruppe 5\nBegegnungs-Nr: 17\nHeim: Grossaffoltern II\nGast: Lyss IV\n\nAdresse: Schulhausstrasse 5 \, 3257 Grossaffoltern\n
LOCATION:Schulhausstrasse 5 \, 3257 Grossaffoltern
CATEGORIES:Saison 2025/26
END:VEVENT
BEGIN:VEVENT
DTSTAMP:20260424T140433Z
DTSTART;TZID=Europe/Berlin:20260330T200000
DTEND;TZID=Europe/Berlin:20260330T230000
SUMMARY:HE 4. Liga Gr. 5 Grossaffoltern II vs Langenthal II (20)
UID:56a185e3-86d4-46f3-b4e1-fd3cdce4cc67
STATUS:CONFIRMED
LAST-MODIFIED:20260409T122513Z
DESCRIPTION:4. Liga Herren Gruppe 5\nBegegnungs-Nr: 20\nHeim: Grossaffoltern II\nGast: Langenthal II\n\nAdresse: Schulhausstrasse 5 \, 3257 Grossaffoltern\n
LOCATION:Schulhausstrasse 5 \, 3257 Grossaffoltern
CATEGORIES:Saison 2025/26
END:VEVENT
BEGIN:VEVENT
DTSTAMP:20260424T140433Z
DTSTART;TZID=Europe/Berlin:20260309T200000
DTEND;TZID=Europe/Berlin:20260309T230000
SUMMARY:HE 4. Liga Gr. 5 Grossaffoltern II vs Burgdorf VIII (13)
UID:b7d7c257-2c58-4266-a40c-b2c7aad665ee
STATUS:CONFIRMED
LAST-MODIFIED:20260315T230231Z
DESCRIPTION:4. Liga Herren Gruppe 5\nBegegnungs-Nr: 13\nHeim: Grossaffoltern II\nGast: Burgdorf VIII\n\nAdresse: Schulhausstrasse 5 \, 3257 Grossaffoltern\n
LOCATION:Schulhausstrasse 5 \, 3257 Grossaffoltern
CATEGORIES:Saison 2025/26
END:VEVENT
BEGIN:VEVENT
DTSTAMP:20260424T140433Z
DTSTART;TZID=Europe/Berlin:20260202T200000
DTEND;TZID=Europe/Berlin:20260202T230000
SUMMARY:HE 4. Liga Gr. 5 Grossaffoltern II vs Kirchberg II (12)
UID:fbf7efa6-fb82-4116-b3a1-15ebdd873310
STATUS:CONFIRMED
LAST-MODIFIED:20260217T213438Z
DESCRIPTION:4. Liga Herren Gruppe 5\nBegegnungs-Nr: 12\nHeim: Grossaffoltern II\nGast: Kirchberg II\n\nAdresse: Schulhausstrasse 5 \, 3257 Grossaffoltern\n
LOCATION:Schulhausstrasse 5 \, 3257 Grossaffoltern
CATEGORIES:Saison 2025/26
END:VEVENT
BEGIN:VEVENT
DTSTAMP:20260424T140433Z
DTSTART;TZID=Europe/Berlin:20260119T200000
DTEND;TZID=Europe/Berlin:20260119T230000
SUMMARY:HE 4. Liga Gr. 5 Grossaffoltern II vs Bern VIII (6)
UID:981190c3-cd76-4bb6-970f-1e4a7081486c
STATUS:CONFIRMED
LAST-MODIFIED:20260125T002030Z
DESCRIPTION:4. Liga Herren Gruppe 5\nBegegnungs-Nr: 6\nHeim: Grossaffoltern II\nGast: Bern VIII\n\nAdresse: Schulhausstrasse 5 \, 3257 Grossaffoltern\n
LOCATION:Schulhausstrasse 5 \, 3257 Grossaffoltern
CATEGORIES:Saison 2025/26
END:VEVENT
BEGIN:VEVENT
DTSTAMP:20260424T140433Z
DTSTART;TZID=Europe/Berlin:20251103T200000
DTEND;TZID=Europe/Berlin:20251103T230000
SUMMARY:HE 4. Liga Gr. 5 Langenthal II vs Grossaffoltern II (20)
UID:92d3ee12-f720-4dd4-9dec-c65ab34b6625
STATUS:CONFIRMED
LAST-MODIFIED:20251122T091104Z
DESCRIPTION:4. Liga Herren Gruppe 5\nBegegnungs-Nr: 20\nHeim: Langenthal II\nGast: Grossaffoltern II\n\nAdresse: Weststrasse 29\, 4900 Langenthal\n
LOCATION:Weststrasse 29\, 4900 Langenthal
CATEGORIES:Saison 2025/26
END:VEVENT
BEGIN:VEVENT
DTSTAMP:20260424T140433Z
DTSTART;TZID=Europe/Berlin:20251114T193000
DTEND;TZID=Europe/Berlin:20251114T223000
SUMMARY:HE 4. Liga Gr. 5 Burgdorf VIII vs Grossaffoltern II (13)
UID:4ae43ba1-ca4c-4d00-8999-37008c9d4d2c
STATUS:CONFIRMED
LAST-MODIFIED:20251122T091113Z
DESCRIPTION:4. Liga Herren Gruppe 5\nBegegnungs-Nr: 13\nHeim: Burgdorf VIII\nGast: Grossaffoltern II\n\nAdresse: Pestalozzistrasse 69\, 3400 Burgdorf\n
LOCATION:Pestalozzistrasse 69\, 3400 Burgdorf
CATEGORIES:Saison 2025/26
END:VEVENT
BEGIN:VEVENT
DTSTAMP:20260424T140433Z
DTSTART;TZID=Europe/Berlin:20251028T200000
DTEND;TZID=Europe/Berlin:20251028T230000
SUMMARY:HE 4. Liga Gr. 5 Kirchberg II vs Grossaffoltern II (12)
UID:f3b7e4a2-2567-4768-8797-8226acaa7f09
STATUS:CONFIRMED
LAST-MODIFIED:20251029T221149Z
DESCRIPTION:4. Liga Herren Gruppe 5\nBegegnungs-Nr: 12\nHeim: Kirchberg II\nGast: Grossaffoltern II\n\nAdresse: Reinhardweg\, 3422 Kirchberg\n
LOCATION:Reinhardweg\, 3422 Kirchberg
CATEGORIES:Saison 2025/26
END:VEVENT
BEGIN:VEVENT
DTSTAMP:20260424T140433Z
DTSTART;TZID=Europe/Berlin:20250908T200000
DTEND;TZID=Europe/Berlin:20250908T230000
SUMMARY:HE 4. Liga Gr. 5 Bern VIII vs Grossaffoltern II (6)
UID:a425a150-9ee9-46e0-8fd3-87742ea8bf03
STATUS:CONFIRMED
LAST-MODIFIED:20250918T140759Z
DESCRIPTION:4. Liga Herren Gruppe 5\nBegegnungs-Nr: 6\nHeim: Bern VIII\nGast: Grossaffoltern II\n\nAdresse: Mädergutstrasse 58\, 3018 Bern\n
LOCATION:Mädergutstrasse 58\, 3018 Bern
CATEGORIES:Saison 2025/26
END:VEVENT
BEGIN:VEVENT
DTSTAMP:20260424T140433Z
DTSTART;TZID=Europe/Berlin:20260317T200000
DTEND;TZID=Europe/Berlin:20260317T230000
SUMMARY:HE 4. Liga Gr. 5 Lyss IV vs Grossaffoltern II (17)
UID:869af97e-aa13-4db4-999e-cd809da3b02e
STATUS:CONFIRMED
LAST-MODIFIED:20260327T143737Z
DESCRIPTION:4. Liga Herren Gruppe 5\nBegegnungs-Nr: 17\nHeim: Lyss IV\nGast: Grossaffoltern II\n\nAdresse: Stegmattweg 15-17\, 3250 Lyss\n
LOCATION:Stegmattweg 15-17\, 3250 Lyss
CATEGORIES:Saison 2025/26
END:VEVENT
BEGIN:VEVENT
DTSTAMP:20260424T140433Z
DTSTART;TZID=Europe/Berlin:20260115T200000
DTEND;TZID=Europe/Berlin:20260115T230000
SUMMARY:HE 4. Liga Gr. 5 Wynigen II vs Grossaffoltern II (3)
UID:2573d0b3-e21e-45f9-a223-c62fa06975fd
STATUS:CONFIRMED
LAST-MODIFIED:20260125T002017Z
DESCRIPTION:4. Liga Herren Gruppe 5\nBegegnungs-Nr: 3\nHeim: Wynigen II\nGast: Grossaffoltern II\n\nAdresse: -\, 3472 Wynigen\n
LOCATION:-\, 3472 Wynigen
CATEGORIES:Saison 2025/26
END:VEVENT
END:VCALENDAR
